BEGIN:VCALENDAR
VERSION:2.0
PRODID:-//Church of God International, Gaithersburg, Maryland - ECPv6.15.20//NONSGML v1.0//EN
CALSCALE:GREGORIAN
METHOD:PUBLISH
X-ORIGINAL-URL:https://cgimaryland.org
X-WR-CALDESC:Events for Church of God International, Gaithersburg, Maryland
REFRESH-INTERVAL;VALUE=DURATION:PT1H
X-Robots-Tag:noindex
X-PUBLISHED-TTL:PT1H
BEGIN:VTIMEZONE
TZID:UTC
BEGIN:STANDARD
TZOFFSETFROM:+0000
TZOFFSETTO:+0000
TZNAME:UTC
DTSTART:20220101T000000
END:STANDARD
END:VTIMEZONE
BEGIN:VEVENT
DTSTART;TZID=UTC:20230406T133000
DTEND;TZID=UTC:20230406T160000
DTSTAMP:20260425T205225
CREATED:20230405T073742Z
LAST-MODIFIED:20230405T075105Z
UID:1321-1680787800-1680796800@cgimaryland.org
SUMMARY:First Day of Unleavened Bread
DESCRIPTION:Speaker: Elder Michael Reis \n\n\n\nTopic: This Hour for this Cause \n\n\n\nCasey Community Center\n\n\n\n810 S. Frederick Ave – Gaither Room (1st Floor)Gaithersburg\, Maryland 20877United States+ Google Map \n\n\n\n\n\nYou can join the meeting from your computer\, tablet\, or smartphone. https://meet.goto.com/cgimaryland/sabbath_service_new You can also dial in using your phone. United States: +1 (872) 240-3412 Access Code: 300-519-741 Get the app now and be ready when the meeting starts: https://meet.goto.com/install 
URL:https://cgimaryland.org/event/first-day-of-unleavened-bread/
END:VEVENT
END:VCALENDAR