BEGIN:VCALENDAR
VERSION:2.0
PRODID:-//Church of God International, Gaithersburg, Maryland - ECPv6.15.20//NONSGML v1.0//EN
CALSCALE:GREGORIAN
METHOD:PUBLISH
X-ORIGINAL-URL:https://cgimaryland.org
X-WR-CALDESC:Events for Church of God International, Gaithersburg, Maryland
REFRESH-INTERVAL;VALUE=DURATION:PT1H
X-Robots-Tag:noindex
X-PUBLISHED-TTL:PT1H
BEGIN:VTIMEZONE
TZID:UTC
BEGIN:STANDARD
TZOFFSETFROM:+0000
TZOFFSETTO:+0000
TZNAME:UTC
DTSTART:20230101T000000
END:STANDARD
END:VTIMEZONE
BEGIN:VEVENT
DTSTART;TZID=UTC:20241003T140000
DTEND;TZID=UTC:20241003T163000
DTSTAMP:20260424T161821
CREATED:20241003T170742Z
LAST-MODIFIED:20241003T175611Z
UID:2329-1727964000-1727973000@cgimaryland.org
SUMMARY:Feast of Trumpets - 2024
DESCRIPTION:Speaker: Elder Michael Reis \n\n\n\nTopic: Feast of Trumpets \n\n\n\n900 E. 33rd Street\, Multi-Purpose RoomBaltimore\, Maryland 21218United States+ Google Map \n\n\n\nYou can join the meeting via Zoom from your computer\, tablet\, or smartphone. https://us06web.zoom.us/j/89444711467?pwd=5x6xJCTStXnox4QWOLoGI4xTvJPEH6.1 \n\n\n\nPhone:  301-715-8592 or 646- 931- 3860 \n\n\n\nMeeting ID: 89444711467 – Passcode: 439455#  \n\n\n\nFeel free to download the program for the service: \n\n\n\nFEAST OF TRUMPETS- 10-3-2024Download
URL:https://cgimaryland.org/event/feast-of-trumpets-2024/
END:VEVENT
END:VCALENDAR