BEGIN:VCALENDAR
VERSION:2.0
PRODID:-//Church of God International, Gaithersburg, Maryland - ECPv6.15.20//NONSGML v1.0//EN
CALSCALE:GREGORIAN
METHOD:PUBLISH
X-ORIGINAL-URL:https://cgimaryland.org
X-WR-CALDESC:Events for Church of God International, Gaithersburg, Maryland
REFRESH-INTERVAL;VALUE=DURATION:PT1H
X-Robots-Tag:noindex
X-PUBLISHED-TTL:PT1H
BEGIN:VTIMEZONE
TZID:UTC
BEGIN:STANDARD
TZOFFSETFROM:+0000
TZOFFSETTO:+0000
TZNAME:UTC
DTSTART:20230101T000000
END:STANDARD
END:VTIMEZONE
BEGIN:VEVENT
DTSTART;TZID=UTC:20241017T110000
DTEND;TZID=UTC:20241024T183000
DTSTAMP:20260424T161731
CREATED:20241012T153555Z
LAST-MODIFIED:20241012T154503Z
UID:2345-1729162800-1729794600@cgimaryland.org
SUMMARY:Feast of Tabernacles & Last Great Day - 2024
DESCRIPTION:The Feast of Tabernacles begins at sunset on October 16th. The first service on the east coast typically begins at 11a on October 17th. \n\n\n\n\n\nFor CGI Feast Site locations\, click here.   \n\n\n\nFor CGI Virtual Feast Site information\, click here.
URL:https://cgimaryland.org/event/feast-of-tabernacles-and-last-great-day-2024/
END:VEVENT
END:VCALENDAR