BEGIN:VCALENDAR
VERSION:2.0
PRODID:-//Church of God International, Gaithersburg, Maryland - ECPv6.15.20//NONSGML v1.0//EN
CALSCALE:GREGORIAN
METHOD:PUBLISH
X-WR-CALNAME:Church of God International, Gaithersburg, Maryland
X-ORIGINAL-URL:https://cgimaryland.org
X-WR-CALDESC:Events for Church of God International, Gaithersburg, Maryland
REFRESH-INTERVAL;VALUE=DURATION:PT1H
X-Robots-Tag:noindex
X-PUBLISHED-TTL:PT1H
BEGIN:VTIMEZONE
TZID:America/New_York
BEGIN:DAYLIGHT
TZOFFSETFROM:-0500
TZOFFSETTO:-0400
TZNAME:EDT
DTSTART:20250309T070000
END:DAYLIGHT
BEGIN:STANDARD
TZOFFSETFROM:-0400
TZOFFSETTO:-0500
TZNAME:EST
DTSTART:20251102T060000
END:STANDARD
BEGIN:DAYLIGHT
TZOFFSETFROM:-0500
TZOFFSETTO:-0400
TZNAME:EDT
DTSTART:20260308T070000
END:DAYLIGHT
BEGIN:STANDARD
TZOFFSETFROM:-0400
TZOFFSETTO:-0500
TZNAME:EST
DTSTART:20261101T060000
END:STANDARD
BEGIN:DAYLIGHT
TZOFFSETFROM:-0500
TZOFFSETTO:-0400
TZNAME:EDT
DTSTART:20270314T070000
END:DAYLIGHT
BEGIN:STANDARD
TZOFFSETFROM:-0400
TZOFFSETTO:-0500
TZNAME:EST
DTSTART:20271107T060000
END:STANDARD
END:VTIMEZONE
BEGIN:VTIMEZONE
TZID:UTC
BEGIN:STANDARD
TZOFFSETFROM:+0000
TZOFFSETTO:+0000
TZNAME:UTC
DTSTART:20240101T000000
END:STANDARD
END:VTIMEZONE
BEGIN:VEVENT
DTSTART;TZID=America/New_York:20260403T191500
DTEND;TZID=America/New_York:20260403T201500
DTSTAMP:20260423T143526
CREATED:20260214T230656Z
LAST-MODIFIED:20260214T231108Z
UID:3010-1775243700-1775247300@cgimaryland.org
SUMMARY:Friday Night Prayer Service
DESCRIPTION:You can join the prayer service from your computer\, tablet\, or smartphone. https://meet.goto.com/cgimaryland/sabbath_service_new You can also dial in using your phone. United States: +1 (872) 240-3412 Access Code: 300-519-741 Get the app now and be ready when the meeting starts: https://meet.goto.com/install 
URL:https://cgimaryland.org/event/friday-night-prayer-service-04-03-26/
END:VEVENT
BEGIN:VEVENT
DTSTART;TZID=UTC:20260402T130000
DTEND;TZID=UTC:20260402T163000
DTSTAMP:20260423T143526
CREATED:20260321T035614Z
LAST-MODIFIED:20260402T183420Z
UID:3048-1775134800-1775147400@cgimaryland.org
SUMMARY:First Day of Unleavened Bread - 2026
DESCRIPTION:Speaker: Elder Mark Rusinko (Philadelphia) \n\n\n\nTopic: Our Journey towards the Promise Land   \n\n\n\nYou can join the meeting from your computer\, tablet\, or smartphone. https://meet.goto.com/cgimaryland/sabbath_service_new You can also dial in using your phone. United States: +1 (872) 240-3412 Access Code: 300-519-741 Get the app now and be ready when the meeting starts: https://meet.goto.com/install  \n\n\n\n \n\n\n\n810 S. Frederick Ave\, 1st Floor: Gaither RoomGaithersburg\, Maryland 20877United States+ Google Map
URL:https://cgimaryland.org/event/first-day-of-unleavened-bread-2026/
END:VEVENT
BEGIN:VEVENT
DTSTART;TZID=UTC:20260331T183000
DTEND;TZID=UTC:20260331T210000
DTSTAMP:20260423T143526
CREATED:20260321T042642Z
LAST-MODIFIED:20260331T022231Z
UID:3065-1774981800-1774990800@cgimaryland.org
SUMMARY:New Testament Passover - 2026
DESCRIPTION:Speaker: Elder Michael Reis \n\n\n\nTopic: Bread\, Wine\, and Foot Washing \n\n\n\n\n\nYou can join the meeting from your computer\, tablet\, or smartphone. https://meet.goto.com/cgimaryland/sabbath_service_new You can also dial in using your phone. United States: +1 (872) 240-3412 Access Code: 300-519-741 Get the app now and be ready when the meeting starts: https://meet.goto.com/install  \n\n\n\n \n\n\n\n\n810 S. Frederick Ave\, 2nd Floor: Aspen RoomGaithersburg\, Maryland 20877United States+ Google Map
URL:https://cgimaryland.org/event/weekly-sabbath-service-03-31-26/
END:VEVENT
BEGIN:VEVENT
DTSTART;TZID=UTC:20260328T134500
DTEND;TZID=UTC:20260328T160000
DTSTAMP:20260423T143526
CREATED:20260207T040511Z
LAST-MODIFIED:20260320T232716Z
UID:2991-1774705500-1774713600@cgimaryland.org
SUMMARY:Online Bible Study
DESCRIPTION:Speaker: Elder Michael Reis \n\n\n\nTopic: The Lord Our God Is One Lord \n\n\n\n\n\nYou can join the meeting from your computer\, tablet\, or smartphone. https://meet.goto.com/cgimaryland/sabbath_service_new You can also dial in using your phone. United States: +1 (872) 240-3412 Access Code: 300-519-741 Get the app now and be ready when the meeting starts: https://meet.goto.com/install 
URL:https://cgimaryland.org/event/online-bible-study-03-28-26/
END:VEVENT
BEGIN:VEVENT
DTSTART;TZID=America/New_York:20260327T191500
DTEND;TZID=America/New_York:20260327T201500
DTSTAMP:20260423T143526
CREATED:20260214T230649Z
LAST-MODIFIED:20260214T230936Z
UID:3009-1774638900-1774642500@cgimaryland.org
SUMMARY:Friday Night Prayer Service
DESCRIPTION:You can join the prayer service from your computer\, tablet\, or smartphone. https://meet.goto.com/cgimaryland/sabbath_service_new You can also dial in using your phone. United States: +1 (872) 240-3412 Access Code: 300-519-741 Get the app now and be ready when the meeting starts: https://meet.goto.com/install 
URL:https://cgimaryland.org/event/friday-night-prayer-service-03-27-26/
END:VEVENT
BEGIN:VEVENT
DTSTART;TZID=UTC:20260321T134500
DTEND;TZID=UTC:20260321T160000
DTSTAMP:20260423T143526
CREATED:20260207T040503Z
LAST-MODIFIED:20260320T232555Z
UID:2990-1774100700-1774108800@cgimaryland.org
SUMMARY:Weekly Sabbath Service
DESCRIPTION:Speaker: Elder Michael Reis \n\n\n\nTopic: The Doctrine of Footwashing \n\n\n\n\n\nYou can join the meeting from your computer\, tablet\, or smartphone. https://meet.goto.com/cgimaryland/sabbath_service_new You can also dial in using your phone. United States: +1 (872) 240-3412 Access Code: 300-519-741 Get the app now and be ready when the meeting starts: https://meet.goto.com/install  \n\n\n\n \n\n\n\n\n810 S. Frederick Ave\, 2nd Floor: Aspen RoomGaithersburg\, Maryland 20877United States+ Google Map
URL:https://cgimaryland.org/event/weekly-sabbath-service-03-21-26/
END:VEVENT
BEGIN:VEVENT
DTSTART;TZID=America/New_York:20260320T191500
DTEND;TZID=America/New_York:20260320T201500
DTSTAMP:20260423T143526
CREATED:20260214T230411Z
LAST-MODIFIED:20260214T230832Z
UID:3006-1774034100-1774037700@cgimaryland.org
SUMMARY:Friday Night Prayer Service
DESCRIPTION:You can join the prayer service from your computer\, tablet\, or smartphone. https://meet.goto.com/cgimaryland/sabbath_service_new You can also dial in using your phone. United States: +1 (872) 240-3412 Access Code: 300-519-741 Get the app now and be ready when the meeting starts: https://meet.goto.com/install 
URL:https://cgimaryland.org/event/friday-night-prayer-service-03-20-26/
END:VEVENT
BEGIN:VEVENT
DTSTART;TZID=UTC:20260314T134500
DTEND;TZID=UTC:20260314T160000
DTSTAMP:20260423T143526
CREATED:20260207T040454Z
LAST-MODIFIED:20260207T041006Z
UID:2989-1773495900-1773504000@cgimaryland.org
SUMMARY:Weekly Sabbath Service
DESCRIPTION:Speaker: TBD \n\n\n\nTopic: TBD \n\n\n\n\n\nYou can join the meeting from your computer\, tablet\, or smartphone. https://meet.goto.com/cgimaryland/sabbath_service_new You can also dial in using your phone. United States: +1 (872) 240-3412 Access Code: 300-519-741 Get the app now and be ready when the meeting starts: https://meet.goto.com/install  \n\n\n\n \n\n\n\n\n810 S. Frederick Ave\, 2nd Floor: Aspen RoomGaithersburg\, Maryland 20877United States+ Google Map
URL:https://cgimaryland.org/event/weekly-sabbath-service-03-14-26/
END:VEVENT
BEGIN:VEVENT
DTSTART;TZID=America/New_York:20260313T191500
DTEND;TZID=America/New_York:20260313T201500
DTSTAMP:20260423T143526
CREATED:20260214T230402Z
LAST-MODIFIED:20260214T230529Z
UID:3005-1773429300-1773432900@cgimaryland.org
SUMMARY:Friday Night Prayer Service
DESCRIPTION:You can join the prayer service from your computer\, tablet\, or smartphone. https://meet.goto.com/cgimaryland/sabbath_service_new You can also dial in using your phone. United States: +1 (872) 240-3412 Access Code: 300-519-741 Get the app now and be ready when the meeting starts: https://meet.goto.com/install 
URL:https://cgimaryland.org/event/friday-night-prayer-service-03-13-26/
END:VEVENT
BEGIN:VEVENT
DTSTART;TZID=UTC:20260307T134500
DTEND;TZID=UTC:20260307T160000
DTSTAMP:20260423T143526
CREATED:20260207T040433Z
LAST-MODIFIED:20260207T040737Z
UID:2988-1772891100-1772899200@cgimaryland.org
SUMMARY:Weekly Sabbath Service
DESCRIPTION:Speaker: TBD \n\n\n\nTopic: TBD \n\n\n\n\n\nYou can join the meeting from your computer\, tablet\, or smartphone. https://meet.goto.com/cgimaryland/sabbath_service_new You can also dial in using your phone. United States: +1 (872) 240-3412 Access Code: 300-519-741 Get the app now and be ready when the meeting starts: https://meet.goto.com/install  \n\n\n\n \n\n\n\n\n810 S. Frederick Ave\, 2nd Floor: Aspen RoomGaithersburg\, Maryland 20877United States+ Google Map
URL:https://cgimaryland.org/event/weekly-sabbath-service-03-07-26/
END:VEVENT
BEGIN:VEVENT
DTSTART;TZID=America/New_York:20260306T191500
DTEND;TZID=America/New_York:20260306T201500
DTSTAMP:20260423T143526
CREATED:20260214T225952Z
LAST-MODIFIED:20260214T230234Z
UID:3002-1772824500-1772828100@cgimaryland.org
SUMMARY:Friday Night Prayer Service
DESCRIPTION:You can join the prayer service from your computer\, tablet\, or smartphone. https://meet.goto.com/cgimaryland/sabbath_service_new You can also dial in using your phone. United States: +1 (872) 240-3412 Access Code: 300-519-741 Get the app now and be ready when the meeting starts: https://meet.goto.com/install 
URL:https://cgimaryland.org/event/friday-night-prayer-service-03-06-26/
END:VEVENT
BEGIN:VEVENT
DTSTART;TZID=UTC:20260228T134500
DTEND;TZID=UTC:20260228T160000
DTSTAMP:20260423T143526
CREATED:20260103T183705Z
LAST-MODIFIED:20260103T184442Z
UID:2957-1772286300-1772294400@cgimaryland.org
SUMMARY:Online Bible Study
DESCRIPTION:Speaker: TBD \n\n\n\nTopic: TBD \n\n\n\n\n\nYou can join the meeting from your computer\, tablet\, or smartphone. https://meet.goto.com/cgimaryland/sabbath_service_new You can also dial in using your phone. United States: +1 (872) 240-3412 Access Code: 300-519-741 Get the app now and be ready when the meeting starts: https://meet.goto.com/install 
URL:https://cgimaryland.org/event/online-bible-study-02-28-26/
END:VEVENT
BEGIN:VEVENT
DTSTART;TZID=America/New_York:20260227T191500
DTEND;TZID=America/New_York:20260227T201500
DTSTAMP:20260423T143526
CREATED:20260214T225942Z
LAST-MODIFIED:20260214T230051Z
UID:3001-1772219700-1772223300@cgimaryland.org
SUMMARY:Friday Night Prayer Service
DESCRIPTION:You can join the prayer service from your computer\, tablet\, or smartphone. https://meet.goto.com/cgimaryland/sabbath_service_new You can also dial in using your phone. United States: +1 (872) 240-3412 Access Code: 300-519-741 Get the app now and be ready when the meeting starts: https://meet.goto.com/install 
URL:https://cgimaryland.org/event/friday-night-prayer-service-02-27-26/
END:VEVENT
BEGIN:VEVENT
DTSTART;TZID=UTC:20260221T134500
DTEND;TZID=UTC:20260221T160000
DTSTAMP:20260423T143526
CREATED:20260103T183657Z
LAST-MODIFIED:20260103T184012Z
UID:2956-1771681500-1771689600@cgimaryland.org
SUMMARY:Weekly Sabbath Service
DESCRIPTION:Speaker: TBD \n\n\n\nTopic: TBD \n\n\n\n\n\nYou can join the meeting from your computer\, tablet\, or smartphone. https://meet.goto.com/cgimaryland/sabbath_service_new You can also dial in using your phone. United States: +1 (872) 240-3412 Access Code: 300-519-741 Get the app now and be ready when the meeting starts: https://meet.goto.com/install  \n\n\n\n \n\n\n\n\n810 S. Frederick Ave\, 2nd Floor: Aspen RoomGaithersburg\, Maryland 20877United States+ Google Map
URL:https://cgimaryland.org/event/weekly-sabbath-service-02-21-26/
END:VEVENT
BEGIN:VEVENT
DTSTART;TZID=America/New_York:20260220T191500
DTEND;TZID=America/New_York:20260220T201500
DTSTAMP:20260423T143526
CREATED:20260214T225417Z
LAST-MODIFIED:20260214T225605Z
UID:2999-1771614900-1771618500@cgimaryland.org
SUMMARY:Friday Night Prayer Service
DESCRIPTION:You can join the prayer service from your computer\, tablet\, or smartphone. https://meet.goto.com/cgimaryland/sabbath_service_new You can also dial in using your phone. United States: +1 (872) 240-3412 Access Code: 300-519-741 Get the app now and be ready when the meeting starts: https://meet.goto.com/install 
URL:https://cgimaryland.org/event/friday-night-prayer-service-02-20-26/
END:VEVENT
BEGIN:VEVENT
DTSTART;TZID=UTC:20260214T134500
DTEND;TZID=UTC:20260214T160000
DTSTAMP:20260423T143526
CREATED:20260103T183644Z
LAST-MODIFIED:20260103T183919Z
UID:2955-1771076700-1771084800@cgimaryland.org
SUMMARY:Weekly Sabbath Service
DESCRIPTION:Speaker: TBD \n\n\n\nTopic: TBD \n\n\n\n\n\nYou can join the meeting from your computer\, tablet\, or smartphone. https://meet.goto.com/cgimaryland/sabbath_service_new You can also dial in using your phone. United States: +1 (872) 240-3412 Access Code: 300-519-741 Get the app now and be ready when the meeting starts: https://meet.goto.com/install  \n\n\n\n \n\n\n\n\n810 S. Frederick Ave\, 2nd Floor: Aspen RoomGaithersburg\, Maryland 20877United States+ Google Map
URL:https://cgimaryland.org/event/weekly-sabbath-service-02-14-26/
END:VEVENT
BEGIN:VEVENT
DTSTART;TZID=UTC:20260207T134500
DTEND;TZID=UTC:20260207T160000
DTSTAMP:20260423T143526
CREATED:20260103T183628Z
LAST-MODIFIED:20260207T034831Z
UID:2954-1770471900-1770480000@cgimaryland.org
SUMMARY:Online Sabbath Service
DESCRIPTION:Speaker: Elder Michael Reis \n\n\n\nTopic: Why Your Religion Matters \n\n\n\n\n\nYou can join the meeting from your computer\, tablet\, or smartphone. https://meet.goto.com/cgimaryland/sabbath_service_new You can also dial in using your phone. United States: +1 (872) 240-3412 Access Code: 300-519-741 Get the app now and be ready when the meeting starts: https://meet.goto.com/install 
URL:https://cgimaryland.org/event/weekly-sabbath-service-02-07-26/
END:VEVENT
BEGIN:VEVENT
DTSTART;TZID=UTC:20260124T134500
DTEND;TZID=UTC:20260124T160000
DTSTAMP:20260423T143526
CREATED:20260103T183457Z
LAST-MODIFIED:20260103T183541Z
UID:2952-1769262300-1769270400@cgimaryland.org
SUMMARY:Online Bible Study
DESCRIPTION:Speaker: TBD \n\n\n\nTopic: TBD \n\n\n\n\n\nYou can join the meeting from your computer\, tablet\, or smartphone. https://meet.goto.com/cgimaryland/sabbath_service_new You can also dial in using your phone. United States: +1 (872) 240-3412 Access Code: 300-519-741 Get the app now and be ready when the meeting starts: https://meet.goto.com/install 
URL:https://cgimaryland.org/event/online-bible-study-01-24-26/
END:VEVENT
BEGIN:VEVENT
DTSTART;TZID=UTC:20260117T134500
DTEND;TZID=UTC:20260117T160000
DTSTAMP:20260423T143526
CREATED:20260103T183354Z
LAST-MODIFIED:20260103T183441Z
UID:2950-1768657500-1768665600@cgimaryland.org
SUMMARY:Weekly Sabbath Service
DESCRIPTION:Speaker: TBD \n\n\n\nTopic: TBD \n\n\n\n\n\nYou can join the meeting from your computer\, tablet\, or smartphone. https://meet.goto.com/cgimaryland/sabbath_service_new You can also dial in using your phone. United States: +1 (872) 240-3412 Access Code: 300-519-741 Get the app now and be ready when the meeting starts: https://meet.goto.com/install  \n\n\n\n \n\n\n\n\n810 S. Frederick Ave\, 2nd Floor: Aspen RoomGaithersburg\, Maryland 20877United States+ Google Map
URL:https://cgimaryland.org/event/weekly-sabbath-service-01-17-26/
END:VEVENT
BEGIN:VEVENT
DTSTART;TZID=UTC:20260110T134500
DTEND;TZID=UTC:20260110T160000
DTSTAMP:20260423T143526
CREATED:20260103T183253Z
LAST-MODIFIED:20260110T195003Z
UID:2948-1768052700-1768060800@cgimaryland.org
SUMMARY:Weekly Sabbath Service
DESCRIPTION:Speaker: Elder Michael Reis \n\n\n\nTopic: An Enemy of Eternal Life \n\n\n\n\n\nYou can join the meeting from your computer\, tablet\, or smartphone. https://meet.goto.com/cgimaryland/sabbath_service_new You can also dial in using your phone. United States: +1 (872) 240-3412 Access Code: 300-519-741 Get the app now and be ready when the meeting starts: https://meet.goto.com/install  \n\n\n\n \n\n\n\n\n810 S. Frederick Ave\, 2nd Floor: Aspen RoomGaithersburg\, Maryland 20877United States+ Google Map
URL:https://cgimaryland.org/event/weekly-sabbath-service-01-10-26/
END:VEVENT
BEGIN:VEVENT
DTSTART;TZID=UTC:20260103T134500
DTEND;TZID=UTC:20260103T160000
DTSTAMP:20260423T143526
CREATED:20260103T182745Z
LAST-MODIFIED:20260103T183123Z
UID:2946-1767447900-1767456000@cgimaryland.org
SUMMARY:Online Sabbath Service
DESCRIPTION:Speaker: Deacon Tom Bettinger \n\n\n\nTopic: Are You Born Again? \n\n\n\n\n\nYou can join the meeting from your computer\, tablet\, or smartphone. https://meet.goto.com/cgimaryland/sabbath_service_new You can also dial in using your phone. United States: +1 (872) 240-3412 Access Code: 300-519-741 Get the app now and be ready when the meeting starts: https://meet.goto.com/install 
URL:https://cgimaryland.org/event/online-sabbath-service-01-03-26/
END:VEVENT
BEGIN:VEVENT
DTSTART;TZID=UTC:20251227T134500
DTEND;TZID=UTC:20251227T160000
DTSTAMP:20260423T143526
CREATED:20250830T035851Z
LAST-MODIFIED:20250830T045558Z
UID:2783-1766843100-1766851200@cgimaryland.org
SUMMARY:Online Bible Study
DESCRIPTION:Speaker: TBD \n\n\n\nTopic: TBD \n\n\n\n\n\nYou can join the meeting from your computer\, tablet\, or smartphone. https://meet.goto.com/cgimaryland/sabbath_service_new You can also dial in using your phone. United States: +1 (872) 240-3412 Access Code: 300-519-741 Get the app now and be ready when the meeting starts: https://meet.goto.com/install 
URL:https://cgimaryland.org/event/online-bible-study-12-27-25/
END:VEVENT
BEGIN:VEVENT
DTSTART;TZID=UTC:20251220T134500
DTEND;TZID=UTC:20251220T160000
DTSTAMP:20260423T143526
CREATED:20251108T185422Z
LAST-MODIFIED:20251108T185459Z
UID:2924-1766238300-1766246400@cgimaryland.org
SUMMARY:Weekly Sabbath Service
DESCRIPTION:Speaker: TBD \n\n\n\nTopic: TBD \n\n\n\n\n\nYou can join the meeting from your computer\, tablet\, or smartphone. https://meet.goto.com/cgimaryland/sabbath_service_new You can also dial in using your phone. United States: +1 (872) 240-3412 Access Code: 300-519-741 Get the app now and be ready when the meeting starts: https://meet.goto.com/install  \n\n\n\n \n\n\n\n\n810 S. Frederick Ave\, 2nd Floor: Aspen RoomGaithersburg\, Maryland 20877United States+ Google Map
URL:https://cgimaryland.org/event/weekly-sabbath-service-12-20-25/
END:VEVENT
BEGIN:VEVENT
DTSTART;TZID=UTC:20251213T134500
DTEND;TZID=UTC:20251213T160000
DTSTAMP:20260423T143526
CREATED:20251108T185330Z
LAST-MODIFIED:20251213T191801Z
UID:2922-1765633500-1765641600@cgimaryland.org
SUMMARY:Weekly Sabbath Service
DESCRIPTION:Speaker: Timothy Maggenti \n\n\n\nTopic: Disposition of The Fallen Angels \n\n\n\n\n\nYou can join the meeting from your computer\, tablet\, or smartphone. https://meet.goto.com/cgimaryland/sabbath_service_new You can also dial in using your phone. United States: +1 (872) 240-3412 Access Code: 300-519-741 Get the app now and be ready when the meeting starts: https://meet.goto.com/install  \n\n\n\n \n\n\n\n\n810 S. Frederick Ave\, 2nd Floor: Aspen RoomGaithersburg\, Maryland 20877United States+ Google Map
URL:https://cgimaryland.org/event/weekly-sabbath-service-12-13-25/
END:VEVENT
BEGIN:VEVENT
DTSTART;TZID=UTC:20251206T134500
DTEND;TZID=UTC:20251206T160000
DTSTAMP:20260423T143526
CREATED:20251108T184356Z
LAST-MODIFIED:20251108T185254Z
UID:2916-1765028700-1765036800@cgimaryland.org
SUMMARY:Weekly Sabbath Service
DESCRIPTION:Speaker: TBD \n\n\n\nTopic: TBD \n\n\n\n\n\nYou can join the meeting from your computer\, tablet\, or smartphone. https://meet.goto.com/cgimaryland/sabbath_service_new You can also dial in using your phone. United States: +1 (872) 240-3412 Access Code: 300-519-741 Get the app now and be ready when the meeting starts: https://meet.goto.com/install  \n\n\n\n \n\n\n\n\n810 S. Frederick Ave\, 2nd Floor: Aspen RoomGaithersburg\, Maryland 20877United States+ Google Map
URL:https://cgimaryland.org/event/weekly-sabbath-service-12-06-25/
END:VEVENT
BEGIN:VEVENT
DTSTART;TZID=UTC:20251122T134500
DTEND;TZID=UTC:20251122T160000
DTSTAMP:20260423T143526
CREATED:20250830T035846Z
LAST-MODIFIED:20251108T185115Z
UID:2782-1763819100-1763827200@cgimaryland.org
SUMMARY:Online Bible Study
DESCRIPTION:Speaker: TBD \n\n\n\nTopic: TBD \n\n\n\n\n\nYou can join the meeting from your computer\, tablet\, or smartphone. https://meet.goto.com/cgimaryland/sabbath_service_new You can also dial in using your phone. United States: +1 (872) 240-3412 Access Code: 300-519-741 Get the app now and be ready when the meeting starts: https://meet.goto.com/install 
URL:https://cgimaryland.org/event/online-bible-study-11-22-25/
END:VEVENT
BEGIN:VEVENT
DTSTART;TZID=UTC:20251115T134500
DTEND;TZID=UTC:20251115T160000
DTSTAMP:20260423T143526
CREATED:20251108T184353Z
LAST-MODIFIED:20251108T184905Z
UID:2915-1763214300-1763222400@cgimaryland.org
SUMMARY:Weekly Sabbath Service
DESCRIPTION:Speaker: George James \n\n\n\nTopic: TBD \n\n\n\n\n\nYou can join the meeting from your computer\, tablet\, or smartphone. https://meet.goto.com/cgimaryland/sabbath_service_new You can also dial in using your phone. United States: +1 (872) 240-3412 Access Code: 300-519-741 Get the app now and be ready when the meeting starts: https://meet.goto.com/install  \n\n\n\n \n\n\n\n\n810 S. Frederick Ave\, 2nd Floor: Aspen RoomGaithersburg\, Maryland 20877United States+ Google Map
URL:https://cgimaryland.org/event/weekly-sabbath-service-11-15-25/
END:VEVENT
BEGIN:VEVENT
DTSTART;TZID=UTC:20251108T134500
DTEND;TZID=UTC:20251108T160000
DTSTAMP:20260423T143526
CREATED:20251108T184347Z
LAST-MODIFIED:20251108T184641Z
UID:2914-1762609500-1762617600@cgimaryland.org
SUMMARY:Weekly Sabbath Service
DESCRIPTION:Speaker: Elder Michael Reis \n\n\n\nTopic: The Wedding Banquet \n\n\n\n\n\nYou can join the meeting from your computer\, tablet\, or smartphone. https://meet.goto.com/cgimaryland/sabbath_service_new You can also dial in using your phone. United States: +1 (872) 240-3412 Access Code: 300-519-741 Get the app now and be ready when the meeting starts: https://meet.goto.com/install  \n\n\n\n \n\n\n\n\n810 S. Frederick Ave\, 2nd Floor: Aspen RoomGaithersburg\, Maryland 20877United States+ Google Map
URL:https://cgimaryland.org/event/weekly-sabbath-service-11-08-25/
END:VEVENT
BEGIN:VEVENT
DTSTART;TZID=UTC:20251025T134500
DTEND;TZID=UTC:20251025T160000
DTSTAMP:20260423T143526
CREATED:20250830T035747Z
LAST-MODIFIED:20250830T045241Z
UID:2781-1761399900-1761408000@cgimaryland.org
SUMMARY:Online Bible Study
DESCRIPTION:Speaker: TBD \n\n\n\nTopic: TBD \n\n\n\n\n\nYou can join the meeting from your computer\, tablet\, or smartphone. https://meet.goto.com/cgimaryland/sabbath_service_new You can also dial in using your phone. United States: +1 (872) 240-3412 Access Code: 300-519-741 Get the app now and be ready when the meeting starts: https://meet.goto.com/install 
URL:https://cgimaryland.org/event/online-bible-study-10-25-25/
END:VEVENT
BEGIN:VEVENT
DTSTART;TZID=UTC:20251018T134500
DTEND;TZID=UTC:20251018T160000
DTSTAMP:20260423T143526
CREATED:20250830T060654Z
LAST-MODIFIED:20250830T061223Z
UID:2829-1760795100-1760803200@cgimaryland.org
SUMMARY:Weekly Sabbath Service
DESCRIPTION:Speaker: TBD \n\n\n\nTopic: TBD \n\n\n\n\n\nYou can join the meeting from your computer\, tablet\, or smartphone. https://meet.goto.com/cgimaryland/sabbath_service_new You can also dial in using your phone. United States: +1 (872) 240-3412 Access Code: 300-519-741 Get the app now and be ready when the meeting starts: https://meet.goto.com/install  \n\n\n\n \n\n\n\n\n810 S. Frederick Ave\, 2nd Floor: Aspen RoomGaithersburg\, Maryland 20877United States+ Google Map
URL:https://cgimaryland.org/event/weekly-sabbath-service-10-18-25/
END:VEVENT
END:VCALENDAR