BEGIN:VCALENDAR
VERSION:2.0
PRODID:-//Church of God International, Gaithersburg, Maryland - ECPv6.15.20//NONSGML v1.0//EN
CALSCALE:GREGORIAN
METHOD:PUBLISH
X-WR-CALNAME:Church of God International, Gaithersburg, Maryland
X-ORIGINAL-URL:https://cgimaryland.org
X-WR-CALDESC:Events for Church of God International, Gaithersburg, Maryland
REFRESH-INTERVAL;VALUE=DURATION:PT1H
X-Robots-Tag:noindex
X-PUBLISHED-TTL:PT1H
BEGIN:VTIMEZONE
TZID:UTC
BEGIN:STANDARD
TZOFFSETFROM:+0000
TZOFFSETTO:+0000
TZNAME:UTC
DTSTART:20210101T000000
END:STANDARD
END:VTIMEZONE
BEGIN:VEVENT
DTSTART;TZID=UTC:20220820T134500
DTEND;TZID=UTC:20220820T160000
DTSTAMP:20260425T062149
CREATED:20220713T020851Z
LAST-MODIFIED:20220806T180216Z
UID:992-1661003100-1661011200@cgimaryland.org
SUMMARY:Weekly Sabbath Service
DESCRIPTION:Speaker: Tom Bettinger \n\n\n\nTopic: Statement of Beliefs #14 – Resurrection \n\n\n\n\n\nYou can join the meeting from your computer\, tablet\, or smartphone. https://meet.goto.com/cgimaryland/sabbath_service_new You can also dial in using your phone. United States: +1 (872) 240-3412 Access Code: 300-519-741 Get the app now and be ready when the meeting starts: https://meet.goto.com/install 
URL:https://cgimaryland.org/event/weekly-sabbath-service_aug-20/
LOCATION:Casey Community Center\, 810 S. Frederick Ave\, Gaithersburg\, MD\, 20877\, United States
END:VEVENT
BEGIN:VEVENT
DTSTART;TZID=UTC:20220813T134500
DTEND;TZID=UTC:20220813T160000
DTSTAMP:20260425T062149
CREATED:20220713T020642Z
LAST-MODIFIED:20220806T175858Z
UID:989-1660398300-1660406400@cgimaryland.org
SUMMARY:Weekly Sabbath Service
DESCRIPTION:Guest Speaker: Elder Mark Rusinko\, Pennsylvania \n\n\n\nTopic: Statement of Beliefs #13 – The Gospel \n\n\n\n\n\nYou can join the meeting from your computer\, tablet\, or smartphone. https://meet.goto.com/cgimaryland/sabbath_service_new You can also dial in using your phone. United States: +1 (872) 240-3412 Access Code: 300-519-741 Get the app now and be ready when the meeting starts: https://meet.goto.com/install 
URL:https://cgimaryland.org/event/weekly-sabbath-service_aug-13/
LOCATION:Casey Community Center\, 810 S. Frederick Ave\, Gaithersburg\, MD\, 20877\, United States
END:VEVENT
BEGIN:VEVENT
DTSTART;TZID=UTC:20220806T134500
DTEND;TZID=UTC:20220806T160000
DTSTAMP:20260425T062149
CREATED:20220713T020456Z
LAST-MODIFIED:20220806T175831Z
UID:986-1659793500-1659801600@cgimaryland.org
SUMMARY:Weekly Sabbath Service
DESCRIPTION:Speaker: Errol Francis \n\n\n\nTopic: Statement of Beliefs #7 – Salvation \n\n\n\n\n\nYou can join the meeting from your computer\, tablet\, or smartphone. https://meet.goto.com/cgimaryland/sabbath_service_new You can also dial in using your phone. United States: +1 (872) 240-3412 Access Code: 300-519-741 Get the app now and be ready when the meeting starts: https://meet.goto.com/install 
URL:https://cgimaryland.org/event/weekly-sabbath-service_aug-6/
LOCATION:Casey Community Center\, 810 S. Frederick Ave\, Gaithersburg\, MD\, 20877\, United States
END:VEVENT
BEGIN:VEVENT
DTSTART;TZID=UTC:20220723T134500
DTEND;TZID=UTC:20220723T160000
DTSTAMP:20260425T062149
CREATED:20220621T181931Z
LAST-MODIFIED:20220813T145708Z
UID:947-1658583900-1658592000@cgimaryland.org
SUMMARY:Online Bible Study Service
DESCRIPTION:Speaker: Michael Reis \n\n\n\nTopic: Women Preachers – Is Such a Role in the Church Scriptural
URL:https://cgimaryland.org/event/weekly-sabbath-service-2-copy-2-copy-copy-copy-copy-copy-2-copy-copy-copy-copy-copy/
LOCATION:Casey Community Center\, 810 S. Frederick Ave\, Gaithersburg\, MD\, 20877\, United States
CATEGORIES:bible study
END:VEVENT
BEGIN:VEVENT
DTSTART;TZID=UTC:20220716T134500
DTEND;TZID=UTC:20220716T160000
DTSTAMP:20260425T062149
CREATED:20220621T181717Z
LAST-MODIFIED:20220713T020019Z
UID:942-1657979100-1657987200@cgimaryland.org
SUMMARY:Weekly Sabbath Service
DESCRIPTION:Guest Speaker: Elder Mike James\, California \n\n\n\nTopic: TBD
URL:https://cgimaryland.org/event/weekly-sabbath-service_july-16/
LOCATION:Casey Community Center\, 810 S. Frederick Ave\, Gaithersburg\, MD\, 20877\, United States
END:VEVENT
BEGIN:VEVENT
DTSTART;TZID=UTC:20220709T134500
DTEND;TZID=UTC:20220709T160000
DTSTAMP:20260425T062149
CREATED:20220621T181537Z
LAST-MODIFIED:20220713T020202Z
UID:939-1657374300-1657382400@cgimaryland.org
SUMMARY:Weekly Sabbath Service
DESCRIPTION:Guest Speaker: Elder Chris Westberg\, Virginia \n\n\n\nTopic: The Sanctuary in the New Testament
URL:https://cgimaryland.org/event/weekly-sabbath-service-july-9/
LOCATION:Casey Community Center\, 810 S. Frederick Ave\, Gaithersburg\, MD\, 20877\, United States
END:VEVENT
BEGIN:VEVENT
DTSTART;TZID=UTC:20220702T134500
DTEND;TZID=UTC:20220702T160000
DTSTAMP:20260425T062149
CREATED:20220621T181407Z
LAST-MODIFIED:20220713T014905Z
UID:937-1656769500-1656777600@cgimaryland.org
SUMMARY:Weekly Sabbath Service
DESCRIPTION:Speaker: Tim Maggenti \n\n\n\nTopic: Statement of Beliefs #5 – Mankind
URL:https://cgimaryland.org/event/weekly-sabbath_july-2/
LOCATION:Casey Community Center\, 810 S. Frederick Ave\, Gaithersburg\, MD\, 20877\, United States
END:VEVENT
BEGIN:VEVENT
DTSTART;TZID=UTC:20220625T134500
DTEND;TZID=UTC:20220625T160000
DTSTAMP:20260425T062149
CREATED:20220512T024933Z
LAST-MODIFIED:20220621T181921Z
UID:882-1656164700-1656172800@cgimaryland.org
SUMMARY:Online Bible Study Service
DESCRIPTION:Speaker: TBD \n\n\n\nTopic: TBD
URL:https://cgimaryland.org/event/weekly-sabbath-service-2-copy-2-copy-copy-copy-copy-copy-2-copy-copy-copy-copy/
LOCATION:Casey Community Center\, 810 S. Frederick Ave\, Gaithersburg\, MD\, 20877\, United States
END:VEVENT
BEGIN:VEVENT
DTSTART;TZID=UTC:20220618T134500
DTEND;TZID=UTC:20220618T160000
DTSTAMP:20260425T062149
CREATED:20220512T024752Z
LAST-MODIFIED:20220512T024921Z
UID:879-1655559900-1655568000@cgimaryland.org
SUMMARY:Weekly Sabbath Service
DESCRIPTION:Speaker: Mark Rusinko \n\n\n\nTopic: Statement of Beliefs #10 – Baptism
URL:https://cgimaryland.org/event/weekly-sabbath-service-2-copy-2-copy-copy-copy-copy-copy-2-copy-copy-copy/
LOCATION:Casey Community Center\, 810 S. Frederick Ave\, Gaithersburg\, MD\, 20877\, United States
END:VEVENT
BEGIN:VEVENT
DTSTART;TZID=UTC:20220611T134500
DTEND;TZID=UTC:20220611T160000
DTSTAMP:20260425T062149
CREATED:20220512T024320Z
LAST-MODIFIED:20220611T182200Z
UID:876-1654955100-1654963200@cgimaryland.org
SUMMARY:Weekly Sabbath Service
DESCRIPTION:Speaker: Tom Bettinger \n\n\n\nTopic: Statement of Beliefs #9 – Repentance
URL:https://cgimaryland.org/event/weekly-sabbath-service-2-copy-2-copy-copy-copy-copy-copy-2-copy-copy/
LOCATION:Casey Community Center\, 810 S. Frederick Ave\, Gaithersburg\, MD\, 20877\, United States
END:VEVENT
BEGIN:VEVENT
DTSTART;TZID=UTC:20220605T134500
DTEND;TZID=UTC:20220605T160000
DTSTAMP:20260425T062149
CREATED:20220512T023405Z
LAST-MODIFIED:20220608T030913Z
UID:872-1654436700-1654444800@cgimaryland.org
SUMMARY:Feast of Pentecost
DESCRIPTION:Speaker: Michael Reis \n\n\n\nTopic: Understanding Pentacost
URL:https://cgimaryland.org/event/weekly-sabbath-service-2-copy-2-copy-copy-copy-copy-copy-2-copy/
LOCATION:Casey Community Center\, 810 S. Frederick Ave\, Gaithersburg\, MD\, 20877\, United States
END:VEVENT
BEGIN:VEVENT
DTSTART;TZID=UTC:20220604T134500
DTEND;TZID=UTC:20220604T160000
DTSTAMP:20260425T062149
CREATED:20220512T021408Z
LAST-MODIFIED:20220621T180133Z
UID:869-1654350300-1654358400@cgimaryland.org
SUMMARY:Weekly Sabbath Service
DESCRIPTION:Speaker: Michael Reis \n\n\n\nTopic: Building on Love
URL:https://cgimaryland.org/event/weekly-sabbath-service-2-copy-2-copy-copy-copy-copy-copy-2/
LOCATION:Casey Community Center\, 810 S. Frederick Ave\, Gaithersburg\, MD\, 20877\, United States
END:VEVENT
BEGIN:VEVENT
DTSTART;TZID=UTC:20220528T134500
DTEND;TZID=UTC:20220528T160000
DTSTAMP:20260425T062149
CREATED:20220507T022950Z
LAST-MODIFIED:20220527T012004Z
UID:845-1653745500-1653753600@cgimaryland.org
SUMMARY:Weekly Sabbath Service
DESCRIPTION:Speaker: Errol Francis \n\n\n\nTopic: Statement of Beliefs # 8 – Faith
URL:https://cgimaryland.org/event/weekly-sabbath-service-2-copy-2-copy-copy-copy-copy/
LOCATION:Casey Community Center\, 810 S. Frederick Ave\, Gaithersburg\, MD\, 20877\, United States
END:VEVENT
BEGIN:VEVENT
DTSTART;TZID=UTC:20220527T184500
DTEND;TZID=UTC:20220527T200000
DTSTAMP:20260425T062149
CREATED:20220512T025420Z
LAST-MODIFIED:20220512T025457Z
UID:887-1653677100-1653681600@cgimaryland.org
SUMMARY:Bible Study - Understanding the Feast of Weeks (Leading up to Pentecost)
DESCRIPTION:
URL:https://cgimaryland.org/event/weekly-sabbath-service-2-copy-2-copy-copy-copy-copy-copy-copy-copy/
LOCATION:Casey Community Center\, 810 S. Frederick Ave\, Gaithersburg\, MD\, 20877\, United States
END:VEVENT
BEGIN:VEVENT
DTSTART;TZID=UTC:20220521T134500
DTEND;TZID=UTC:20220521T160000
DTSTAMP:20260425T062149
CREATED:20220423T012249Z
LAST-MODIFIED:20220521T181001Z
UID:818-1653140700-1653148800@cgimaryland.org
SUMMARY:Weekly Sabbath Service
DESCRIPTION:Speaker: George James \n\n\n\nTopic: Golden Nuggets
URL:https://cgimaryland.org/event/weekly-sabbath-service-2-copy-2-copy-copy/
LOCATION:Casey Community Center\, 810 S. Frederick Ave\, Gaithersburg\, MD\, 20877\, United States
END:VEVENT
BEGIN:VEVENT
DTSTART;TZID=UTC:20220520T184500
DTEND;TZID=UTC:20220520T200000
DTSTAMP:20260425T062149
CREATED:20220512T025330Z
LAST-MODIFIED:20220512T025359Z
UID:885-1653072300-1653076800@cgimaryland.org
SUMMARY:Bible Study - Understanding the Feast of Weeks (Leading up to Pentecost)
DESCRIPTION:
URL:https://cgimaryland.org/event/weekly-sabbath-service-2-copy-2-copy-copy-copy-copy-copy-copy/
LOCATION:Casey Community Center\, 810 S. Frederick Ave\, Gaithersburg\, MD\, 20877\, United States
END:VEVENT
BEGIN:VEVENT
DTSTART;TZID=UTC:20220514T134500
DTEND;TZID=UTC:20220514T160000
DTSTAMP:20260425T062149
CREATED:20220423T012437Z
LAST-MODIFIED:20220512T012424Z
UID:821-1652535900-1652544000@cgimaryland.org
SUMMARY:Weekly Sabbath Service
DESCRIPTION:Speaker: Michael Reis \n\n\n\nStatement of Beliefs #1 – God
URL:https://cgimaryland.org/event/weekly-sabbath-service-2-copy-2-copy-copy-copy/
LOCATION:Casey Community Center\, 810 S. Frederick Ave\, Gaithersburg\, MD\, 20877\, United States
END:VEVENT
BEGIN:VEVENT
DTSTART;TZID=UTC:20220513T184500
DTEND;TZID=UTC:20220513T200000
DTSTAMP:20260425T062149
CREATED:20220512T012439Z
LAST-MODIFIED:20220512T012704Z
UID:866-1652467500-1652472000@cgimaryland.org
SUMMARY:Bible Study - Understanding the Feast of Weeks (Leading up to Pentecost)
DESCRIPTION:
URL:https://cgimaryland.org/event/weekly-sabbath-service-2-copy-2-copy-copy-copy-copy-copy/
LOCATION:Casey Community Center\, 810 S. Frederick Ave\, Gaithersburg\, MD\, 20877\, United States
END:VEVENT
BEGIN:VEVENT
DTSTART;TZID=UTC:20220507T134500
DTEND;TZID=UTC:20220507T160000
DTSTAMP:20260425T062149
CREATED:20220423T012246Z
LAST-MODIFIED:20220611T021520Z
UID:817-1651931100-1651939200@cgimaryland.org
SUMMARY:Weekly Sabbath Service
DESCRIPTION:Speaker: Tim Maggenti \n\n\n\nTopic: Statement of Beliefs #5 – Mankind
URL:https://cgimaryland.org/event/weekly-sabbath-service-2-copy-2-copy/
LOCATION:Casey Community Center\, 810 S. Frederick Ave\, Gaithersburg\, MD\, 20877\, United States
END:VEVENT
BEGIN:VEVENT
DTSTART;TZID=UTC:20220423T134500
DTEND;TZID=UTC:20220423T160000
DTSTAMP:20260425T062149
CREATED:20220321T002427Z
LAST-MODIFIED:20220321T002523Z
UID:761-1650721500-1650729600@cgimaryland.org
SUMMARY:Weekly Sabbath Service
DESCRIPTION:
URL:https://cgimaryland.org/event/weekly-sabbath-service-2-copy-2/
LOCATION:Casey Community Center\, 810 S. Frederick Ave\, Gaithersburg\, MD\, 20877\, United States
END:VEVENT
BEGIN:VEVENT
DTSTART;TZID=UTC:20220422T134500
DTEND;TZID=UTC:20220422T160000
DTSTAMP:20260425T062149
CREATED:20220321T001045Z
LAST-MODIFIED:20220321T002343Z
UID:754-1650635100-1650643200@cgimaryland.org
SUMMARY:The Last Day of Unleavened Bread
DESCRIPTION:Please call 240-220-0800\, or email: info@cgimaryland.org for details.
URL:https://cgimaryland.org/event/weekly-sabbath-service-2-copy-copy-copy-copy-copy/
LOCATION:Casey Community Center\, 810 S. Frederick Ave\, Gaithersburg\, MD\, 20877\, United States
END:VEVENT
BEGIN:VEVENT
DTSTART;TZID=UTC:20220416T134500
DTEND;TZID=UTC:20220416T160000
DTSTAMP:20260425T062149
CREATED:20220321T000841Z
LAST-MODIFIED:20220321T002318Z
UID:752-1650116700-1650124800@cgimaryland.org
SUMMARY:The 1st Day of Unleavened Bread
DESCRIPTION:Please call 240-220-0800\, or email: info@cgimaryland.org for details.
URL:https://cgimaryland.org/event/weekly-sabbath-service-2-copy-copy-copy-copy/
LOCATION:Casey Community Center\, 810 S. Frederick Ave\, Gaithersburg\, MD\, 20877\, United States
END:VEVENT
BEGIN:VEVENT
DTSTART;TZID=UTC:20220414T190000
DTEND;TZID=UTC:20220414T203000
DTSTAMP:20260425T062149
CREATED:20220320T234838Z
LAST-MODIFIED:20220321T002114Z
UID:743-1649962800-1649968200@cgimaryland.org
SUMMARY:The New Testament Passover (Bread & Wine and Foot Washing Ceremony)
DESCRIPTION:Please dress comfortably and remember to bring your basin and towel.  \n\n\n\nFor details\, please call 240-220-0800\, email: info@cgimaryland.org\, or click on https://cgimaryland.org/annual-holy-days/.
URL:https://cgimaryland.org/event/weekly-sabbath-service-2-copy-copy/
LOCATION:Casey Community Center\, 810 S. Frederick Ave\, Gaithersburg\, MD\, 20877\, United States
END:VEVENT
BEGIN:VEVENT
DTSTART;TZID=UTC:20220409T134500
DTEND;TZID=UTC:20220409T160000
DTSTAMP:20260425T062149
CREATED:20220320T234339Z
LAST-MODIFIED:20220320T235543Z
UID:740-1649511900-1649520000@cgimaryland.org
SUMMARY:Bible Study (Hebrews Chapters 9-11)
DESCRIPTION:There will be a Potluck Fellowship.
URL:https://cgimaryland.org/event/weekly-sabbath-service-2-copy/
LOCATION:Casey Community Center\, 810 S. Frederick Ave\, Gaithersburg\, MD\, 20877\, United States
END:VEVENT
BEGIN:VEVENT
DTSTART;TZID=UTC:20220402T134500
DTEND;TZID=UTC:20220402T160000
DTSTAMP:20260425T062149
CREATED:20220320T233006Z
LAST-MODIFIED:20220320T233846Z
UID:736-1648907100-1648915200@cgimaryland.org
SUMMARY:Weekly Sabbath Service
DESCRIPTION:
URL:https://cgimaryland.org/event/weekly-sabbath-service-2/
LOCATION:Casey Community Center\, 810 S. Frederick Ave\, Gaithersburg\, MD\, 20877\, United States
END:VEVENT
BEGIN:VEVENT
DTSTART;TZID=UTC:20220326T134500
DTEND;TZID=UTC:20220326T160000
DTSTAMP:20260425T062149
CREATED:20220320T141723Z
LAST-MODIFIED:20220320T141800Z
UID:730-1648302300-1648310400@cgimaryland.org
SUMMARY:Weekly Sabbath Service
DESCRIPTION:
URL:https://cgimaryland.org/event/weekly-sabbath-service-0319-copy/
LOCATION:Casey Community Center\, 810 S. Frederick Ave\, Gaithersburg\, MD\, 20877\, United States
END:VEVENT
BEGIN:VEVENT
DTSTART;TZID=UTC:20220319T134500
DTEND;TZID=UTC:20220319T160000
DTSTAMP:20260425T062149
CREATED:20220220T194923Z
LAST-MODIFIED:20220220T195518Z
UID:256-1647697500-1647705600@cgimaryland.org
SUMMARY:Weekly Sabbath Service
DESCRIPTION:
URL:https://cgimaryland.org/event/weekly-sabbath-service-0319/
LOCATION:Casey Community Center\, 810 S. Frederick Ave\, Gaithersburg\, MD\, 20877\, United States
END:VEVENT
BEGIN:VEVENT
DTSTART;TZID=UTC:20220312T134500
DTEND;TZID=UTC:20220312T160000
DTSTAMP:20260425T062149
CREATED:20220220T194927Z
LAST-MODIFIED:20220220T195520Z
UID:257-1647092700-1647100800@cgimaryland.org
SUMMARY:Weekly Sabbath Service
DESCRIPTION:
URL:https://cgimaryland.org/event/weekly-sabbath-service-0312/
LOCATION:Casey Community Center\, 810 S. Frederick Ave\, Gaithersburg\, MD\, 20877\, United States
END:VEVENT
BEGIN:VEVENT
DTSTART;TZID=UTC:20220305T134500
DTEND;TZID=UTC:20220305T160000
DTSTAMP:20260425T062149
CREATED:20220220T194931Z
LAST-MODIFIED:20220220T195615Z
UID:258-1646487900-1646496000@cgimaryland.org
SUMMARY:Weekly Sabbath Service
DESCRIPTION:
URL:https://cgimaryland.org/event/weekly-sabbath-service0305/
LOCATION:Casey Community Center\, 810 S. Frederick Ave\, Gaithersburg\, MD\, 20877\, United States
END:VEVENT
BEGIN:VEVENT
DTSTART;TZID=UTC:20220226T134500
DTEND;TZID=UTC:20220226T160000
DTSTAMP:20260425T062149
CREATED:20220220T194918Z
LAST-MODIFIED:20220220T195618Z
UID:255-1645883100-1645891200@cgimaryland.org
SUMMARY:Weekly Sabbath Service
DESCRIPTION:
URL:https://cgimaryland.org/event/weekly-sabbath-service-copy/
LOCATION:Casey Community Center\, 810 S. Frederick Ave\, Gaithersburg\, MD\, 20877\, United States
END:VEVENT
END:VCALENDAR