BEGIN:VCALENDAR
VERSION:2.0
PRODID:-//Church of God International, Gaithersburg, Maryland - ECPv6.15.20//NONSGML v1.0//EN
CALSCALE:GREGORIAN
METHOD:PUBLISH
X-WR-CALNAME:Church of God International, Gaithersburg, Maryland
X-ORIGINAL-URL:https://cgimaryland.org
X-WR-CALDESC:Events for Church of God International, Gaithersburg, Maryland
REFRESH-INTERVAL;VALUE=DURATION:PT1H
X-Robots-Tag:noindex
X-PUBLISHED-TTL:PT1H
BEGIN:VTIMEZONE
TZID:America/New_York
BEGIN:DAYLIGHT
TZOFFSETFROM:-0500
TZOFFSETTO:-0400
TZNAME:EDT
DTSTART:20230312T070000
END:DAYLIGHT
BEGIN:STANDARD
TZOFFSETFROM:-0400
TZOFFSETTO:-0500
TZNAME:EST
DTSTART:20231105T060000
END:STANDARD
BEGIN:DAYLIGHT
TZOFFSETFROM:-0500
TZOFFSETTO:-0400
TZNAME:EDT
DTSTART:20240310T070000
END:DAYLIGHT
BEGIN:STANDARD
TZOFFSETFROM:-0400
TZOFFSETTO:-0500
TZNAME:EST
DTSTART:20241103T060000
END:STANDARD
BEGIN:DAYLIGHT
TZOFFSETFROM:-0500
TZOFFSETTO:-0400
TZNAME:EDT
DTSTART:20250309T070000
END:DAYLIGHT
BEGIN:STANDARD
TZOFFSETFROM:-0400
TZOFFSETTO:-0500
TZNAME:EST
DTSTART:20251102T060000
END:STANDARD
END:VTIMEZONE
BEGIN:VTIMEZONE
TZID:UTC
BEGIN:STANDARD
TZOFFSETFROM:+0000
TZOFFSETTO:+0000
TZNAME:UTC
DTSTART:20220101T000000
END:STANDARD
END:VTIMEZONE
BEGIN:VEVENT
DTSTART;TZID=America/New_York:20240417T103000
DTEND;TZID=America/New_York:20240417T120000
DTSTAMP:20260425T065557
CREATED:20240415T075411Z
LAST-MODIFIED:20240422T032437Z
UID:1885-1713349800-1713355200@cgimaryland.org
SUMMARY:Celebration of Life Service for Elder Louis Wallace Williams
DESCRIPTION:September 24\, 1938 – March 30\, 2024 \n\n\n\n\n\n\n\n\n\n\nElder Louis Williams’s Obituary (Click Here)\n\n\n\n\n\n\n\n\n\n\n\nService Information: \n\n\n\nViewing: 10:30am – 11:00am \n\n\n\nService: 11:00am -12:00pm \n\n\n\nBurial: Cedar Hill Cemetery – 4111 Pennsylvania Avenue\, Suitland\, MD 20746 \n\n\n\nRepast: Faith Outreach Community Church – 10301 Old Fort Road\, Fort Washington\, MD 20744. \n\n\n\nView Live Service via YouTube – https://www.youtube.com/@foccmaryland5625 \n\n\n\n\n\n\n\nView Live Service via Zoom  \n\n\n\nTopic: Celebrating the Life of Louis “Lou” Williams  \n\n\n\nTime: Apr 17\, 2024 10:30 AM Eastern Time (US and Canada) \n\n\n\nJoin Zoom Meeting \n\n\n\nhttps://us06web.zoom.us/j/84400200489?pwd=ScFNayH9zKBQRJ4LXEN3tA1BPszYyw.1 \n\n\n\nMeeting ID: 844 0020 0489 \n\n\n\nPasscode: 972296 \n\n\n\n— \n\n\n\nOne tap mobile \n\n\n\n+13126266799\,\,84400200489#\,\,\,\,*972296# US (Chicago) \n\n\n\n+16469313860\,\,84400200489#\,\,\,\,*972296# US \n\n\n\n— \n\n\n\n\nDial by your location \n\n\n\n• +1 312 626 6799 US (Chicago) \n\n\n\n• +1 646 931 3860 US \n\n\n\n• +1 929 205 6099 US (New York) \n\n\n\n• +1 301 715 8592 US (Washington DC) \n\n\n\n• +1 305 224 1968 US \n\n\n\n• +1 309 205 3325 US \n\n\n\n• +1 253 205 0468 US \n\n\n\n• +1 253 215 8782 US (Tacoma) \n\n\n\n• +1 346 248 7799 US (Houston) \n\n\n\n• +1 360 209 5623 US \n\n\n\n• +1 386 347 5053 US \n\n\n\n• +1 507 473 4847 US \n\n\n\n• +1 564 217 2000 US \n\n\n\n• +1 669 444 9171 US \n\n\n\n• +1 669 900 6833 US (San Jose) \n\n\n\n• +1 689 278 1000 US \n\n\n\n• +1 719 359 4580 US \n\n\n\nMeeting ID: 844 0020 0489 \n\n\n\nPasscode: 972296 \n\n\n\nFind your local number: https://us06web.zoom.us/u/kdyIdTjZHQ \n\n\n\n\n\n\n\n\n\n\nService Location: \n\n\n\nFaith Outreach Community Church \n\n\n\n10301 Old Fort Road  \n\n\n\nFort Washington\, MD 20744 \n\n\n\n\n\n\n\n\n\n\n\nFamily Contact Information: \n\n\n\nMrs. Shirley Williams and Family \n\n\n\n4404 Clay Street NE \n\n\n\nWashington\,  DC  20019 \n\n\n\nIn lieu of flowers\, the family respectfully requests that contributions be sent to them to defray the service costs. If you wish to send contributions electronically\, please contact their daughter\, Kym\, at 202-597-3777.
URL:https://cgimaryland.org/event/celebration-of-life-service-for-elder-louis-wallace-williams/
END:VEVENT
BEGIN:VEVENT
DTSTART;TZID=UTC:20240413T134500
DTEND;TZID=UTC:20240413T160000
DTSTAMP:20260425T065557
CREATED:20240221T060156Z
LAST-MODIFIED:20240421T045324Z
UID:1797-1713015900-1713024000@cgimaryland.org
SUMMARY:Weekly Sabbath Service
DESCRIPTION:Speaker: Elder Michael Reis \n\n\n\nTopic: Help is on the Way \n\n\n\n810 S. Frederick Ave\, 2nd Floor: Aspen RoomGaithersburg\, Maryland 20877United States+ Google Map \n\n\n\nYou can join the meeting from your computer\, tablet\, or smartphone. https://meet.goto.com/cgimaryland/sabbath_service_new You can also dial in using your phone. United States: +1 (872) 240-3412 Access Code: 300-519-741 Get the app now and be ready when the meeting starts: https://meet.goto.com/install 
URL:https://cgimaryland.org/event/weekly-sabbath-service-4-13-24/
END:VEVENT
BEGIN:VEVENT
DTSTART;TZID=UTC:20240406T134500
DTEND;TZID=UTC:20240406T160000
DTSTAMP:20260425T065557
CREATED:20240221T060146Z
LAST-MODIFIED:20240421T045444Z
UID:1796-1712411100-1712419200@cgimaryland.org
SUMMARY:Weekly Sabbath Service
DESCRIPTION:Speaker: Deacon Tom Bettinger \n\n\n\nTopic: Homosexuality \n\n\n\n810 S. Frederick Ave\, 2nd Floor: Aspen RoomGaithersburg\, Maryland 20877United States+ Google Map \n\n\n\nYou can join the meeting from your computer\, tablet\, or smartphone. https://meet.goto.com/cgimaryland/sabbath_service_new You can also dial in using your phone. United States: +1 (872) 240-3412 Access Code: 300-519-741 Get the app now and be ready when the meeting starts: https://meet.goto.com/install 
URL:https://cgimaryland.org/event/weekly-sabbath-service-4-06-24/
END:VEVENT
BEGIN:VEVENT
DTSTART;TZID=UTC:20240323T134500
DTEND;TZID=UTC:20240323T160000
DTSTAMP:20260425T065557
CREATED:20240221T053610Z
LAST-MODIFIED:20240221T060719Z
UID:1793-1711201500-1711209600@cgimaryland.org
SUMMARY:Online Bible Study
DESCRIPTION:Speaker: TBD \n\n\n\nTopic: TBD \n\n\n\n\n\nYou can join the meeting from your computer\, tablet\, or smartphone. https://meet.goto.com/cgimaryland/sabbath_service_new You can also dial in using your phone. United States: +1 (872) 240-3412 Access Code: 300-519-741 Get the app now and be ready when the meeting starts: https://meet.goto.com/install 
URL:https://cgimaryland.org/event/online-bible-study-3-23-24/
END:VEVENT
BEGIN:VEVENT
DTSTART;TZID=UTC:20240316T134500
DTEND;TZID=UTC:20240316T160000
DTSTAMP:20260425T065557
CREATED:20240221T053318Z
LAST-MODIFIED:20240313T235352Z
UID:1789-1710596700-1710604800@cgimaryland.org
SUMMARY:Weekly Sabbath Service
DESCRIPTION:Speaker: Elder Mike James (California) \n\n\n\nTopic: Free Will \n\n\n\n810 S. Frederick Ave\, 2nd Floor: Aspen RoomGaithersburg\, Maryland 20877United States+ Google Map \n\n\n\nYou can join the meeting from your computer\, tablet\, or smartphone. https://meet.goto.com/cgimaryland/sabbath_service_new You can also dial in using your phone. United States: +1 (872) 240-3412 Access Code: 300-519-741 Get the app now and be ready when the meeting starts: https://meet.goto.com/install 
URL:https://cgimaryland.org/event/weekly-sabbath-service-3-16-24/
END:VEVENT
BEGIN:VEVENT
DTSTART;TZID=UTC:20240309T134500
DTEND;TZID=UTC:20240309T160000
DTSTAMP:20260425T065557
CREATED:20240221T053314Z
LAST-MODIFIED:20240313T235214Z
UID:1788-1709991900-1710000000@cgimaryland.org
SUMMARY:Weekly Sabbath Service
DESCRIPTION:Speaker: Deacon Tom Bettinger \n\n\n\nTopic: When is the Passover \n\n\n\n810 S. Frederick Ave\, 2nd Floor: Aspen RoomGaithersburg\, Maryland 20877United States+ Google Map \n\n\n\nYou can join the meeting from your computer\, tablet\, or smartphone. https://meet.goto.com/cgimaryland/sabbath_service_new You can also dial in using your phone. United States: +1 (872) 240-3412 Access Code: 300-519-741 Get the app now and be ready when the meeting starts: https://meet.goto.com/install 
URL:https://cgimaryland.org/event/weekly-sabbath-service-3-09-24/
END:VEVENT
BEGIN:VEVENT
DTSTART;TZID=UTC:20240302T134500
DTEND;TZID=UTC:20240302T160000
DTSTAMP:20260425T065557
CREATED:20240120T005950Z
LAST-MODIFIED:20240313T235115Z
UID:1750-1709387100-1709395200@cgimaryland.org
SUMMARY:Weekly Sabbath Service
DESCRIPTION:Speaker: George James \n\n\n\nTopic: Jeremiah’s Destiny \n\n\n\n810 S. Frederick Ave\, 2nd Floor: Aspen RoomGaithersburg\, Maryland 20877United States+ Google Map \n\n\n\nYou can join the meeting from your computer\, tablet\, or smartphone. https://meet.goto.com/cgimaryland/sabbath_service_new You can also dial in using your phone. United States: +1 (872) 240-3412 Access Code: 300-519-741 Get the app now and be ready when the meeting starts: https://meet.goto.com/install 
URL:https://cgimaryland.org/event/weekly-sabbath-service-3-02-24/
END:VEVENT
BEGIN:VEVENT
DTSTART;TZID=UTC:20240224T134500
DTEND;TZID=UTC:20240224T160000
DTSTAMP:20260425T065557
CREATED:20240120T010706Z
LAST-MODIFIED:20240120T010842Z
UID:1755-1708782300-1708790400@cgimaryland.org
SUMMARY:Online Bible Study
DESCRIPTION:Speaker: TBD \n\n\n\nTopic: TBD \n\n\n\n\n\nYou can join the meeting from your computer\, tablet\, or smartphone. https://meet.goto.com/cgimaryland/sabbath_service_new You can also dial in using your phone. United States: +1 (872) 240-3412 Access Code: 300-519-741 Get the app now and be ready when the meeting starts: https://meet.goto.com/install 
URL:https://cgimaryland.org/event/online-bible-study-2-24-24/
END:VEVENT
BEGIN:VEVENT
DTSTART;TZID=UTC:20240217T134500
DTEND;TZID=UTC:20240217T160000
DTSTAMP:20260425T065557
CREATED:20240120T005945Z
LAST-MODIFIED:20240217T170406Z
UID:1749-1708177500-1708185600@cgimaryland.org
SUMMARY:Weekly Sabbath Service (Online)
DESCRIPTION:Speaker: Elder Michael Reis \n\n\n\nTopic: TBD \n\n\n\nYou can join the meeting from your computer\, tablet\, or smartphone. https://meet.goto.com/cgimaryland/sabbath_service_new You can also dial in using your phone. United States: +1 (872) 240-3412 Access Code: 300-519-741 Get the app now and be ready when the meeting starts: https://meet.goto.com/install 
URL:https://cgimaryland.org/event/weekly-sabbath-service-2-17-24/
END:VEVENT
BEGIN:VEVENT
DTSTART;TZID=UTC:20240210T134500
DTEND;TZID=UTC:20240210T160000
DTSTAMP:20260425T065557
CREATED:20240120T005940Z
LAST-MODIFIED:20240120T010425Z
UID:1748-1707572700-1707580800@cgimaryland.org
SUMMARY:Weekly Sabbath Service
DESCRIPTION:Speaker: TBD \n\n\n\nTopic: TBD \n\n\n\n810 S. Frederick Ave\, 2nd Floor: Aspen RoomGaithersburg\, Maryland 20877United States+ Google Map \n\n\n\nYou can join the meeting from your computer\, tablet\, or smartphone. https://meet.goto.com/cgimaryland/sabbath_service_new You can also dial in using your phone. United States: +1 (872) 240-3412 Access Code: 300-519-741 Get the app now and be ready when the meeting starts: https://meet.goto.com/install 
URL:https://cgimaryland.org/event/weekly-sabbath-service-2-10-24/
END:VEVENT
BEGIN:VEVENT
DTSTART;TZID=UTC:20240203T134500
DTEND;TZID=UTC:20240203T160000
DTSTAMP:20260425T065557
CREATED:20240120T005935Z
LAST-MODIFIED:20240120T010316Z
UID:1747-1706967900-1706976000@cgimaryland.org
SUMMARY:Weekly Sabbath Service
DESCRIPTION:Speaker: TBD \n\n\n\nTopic: TBD \n\n\n\n810 S. Frederick Ave\, 2nd Floor: Aspen RoomGaithersburg\, Maryland 20877United States+ Google Map \n\n\n\nYou can join the meeting from your computer\, tablet\, or smartphone. https://meet.goto.com/cgimaryland/sabbath_service_new You can also dial in using your phone. United States: +1 (872) 240-3412 Access Code: 300-519-741 Get the app now and be ready when the meeting starts: https://meet.goto.com/install 
URL:https://cgimaryland.org/event/weekly-sabbath-service-2-03-24/
END:VEVENT
BEGIN:VEVENT
DTSTART;TZID=UTC:20240127T134500
DTEND;TZID=UTC:20240127T160000
DTSTAMP:20260425T065557
CREATED:20231220T222418Z
LAST-MODIFIED:20240120T010911Z
UID:1725-1706363100-1706371200@cgimaryland.org
SUMMARY:Online Bible Study
DESCRIPTION:Speaker: TBD \n\n\n\nTopic: TBD \n\n\n\nYou can join the meeting from your computer\, tablet\, or smartphone. https://meet.goto.com/cgimaryland/sabbath_service_new You can also dial in using your phone. United States: +1 (872) 240-3412 Access Code: 300-519-741 Get the app now and be ready when the meeting starts: https://meet.goto.com/install 
URL:https://cgimaryland.org/event/online-bible-study-1-27-24/
END:VEVENT
BEGIN:VEVENT
DTSTART;TZID=UTC:20240120T134500
DTEND;TZID=UTC:20240120T160000
DTSTAMP:20260425T065557
CREATED:20231220T221937Z
LAST-MODIFIED:20240120T005905Z
UID:1723-1705758300-1705766400@cgimaryland.org
SUMMARY:Weekly Sabbath Service (Online)
DESCRIPTION:Speaker: Deacon Tom Bettinger \n\n\n\nTopic: Your Contract with Yehovah \n\n\n\n \n\n\n\nYou can join the meeting from your computer\, tablet\, or smartphone. https://meet.goto.com/cgimaryland/sabbath_service_new You can also dial in using your phone. United States: +1 (872) 240-3412 Access Code: 300-519-741 Get the app now and be ready when the meeting starts: https://meet.goto.com/install 
URL:https://cgimaryland.org/event/weekly-sabbath-service-1-20-24/
END:VEVENT
BEGIN:VEVENT
DTSTART;TZID=UTC:20240113T134500
DTEND;TZID=UTC:20240113T160000
DTSTAMP:20260425T065557
CREATED:20231220T221843Z
LAST-MODIFIED:20231220T221924Z
UID:1721-1705153500-1705161600@cgimaryland.org
SUMMARY:Weekly Sabbath Service
DESCRIPTION:Speaker: TBD \n\n\n\nTopic: TBD \n\n\n\n810 S. Frederick Ave\, 2nd Floor: Aspen RoomGaithersburg\, Maryland 20877United States+ Google Map \n\n\n\nYou can join the meeting from your computer\, tablet\, or smartphone. https://meet.goto.com/cgimaryland/sabbath_service_new You can also dial in using your phone. United States: +1 (872) 240-3412 Access Code: 300-519-741 Get the app now and be ready when the meeting starts: https://meet.goto.com/install 
URL:https://cgimaryland.org/event/weekly-sabbath-service-1-13-24/
END:VEVENT
BEGIN:VEVENT
DTSTART;TZID=UTC:20240106T134500
DTEND;TZID=UTC:20240106T160000
DTSTAMP:20260425T065557
CREATED:20231220T221630Z
LAST-MODIFIED:20240106T000929Z
UID:1717-1704548700-1704556800@cgimaryland.org
SUMMARY:Weekly Sabbath Service (Online)
DESCRIPTION:Speaker: Elder Michael Reis \n\n\n\nTopic: Angels to Our Rescue \n\n\n\nYou can join the meeting from your computer\, tablet\, or smartphone. The Casey Community Center is closed on 1/6/24. \n\n\n\nhttps://meet.goto.com/cgimaryland/sabbath_service_new You can also dial in using your phone. United States: +1 (872) 240-3412 Access Code: 300-519-741 Get the app now and be ready when the meeting starts: https://meet.goto.com/install 
URL:https://cgimaryland.org/event/weekly-sabbath-service-1-6-24/
END:VEVENT
BEGIN:VEVENT
DTSTART;TZID=UTC:20231223T134500
DTEND;TZID=UTC:20231223T160000
DTSTAMP:20260425T065557
CREATED:20230916T215342Z
LAST-MODIFIED:20231220T222632Z
UID:1619-1703339100-1703347200@cgimaryland.org
SUMMARY:Online Bible Study
DESCRIPTION:Speaker: TBD \n\n\n\nTopic: TBD \n\n\n\nCasey Community Center\n\n\n\n\n\nYou can join the meeting from your computer\, tablet\, or smartphone. https://meet.goto.com/cgimaryland/sabbath_service_new You can also dial in using your phone. United States: +1 (872) 240-3412 Access Code: 300-519-741 Get the app now and be ready when the meeting starts: https://meet.goto.com/install 
URL:https://cgimaryland.org/event/online-bible-study_12-23-23/
END:VEVENT
BEGIN:VEVENT
DTSTART;TZID=UTC:20231216T134500
DTEND;TZID=UTC:20231216T160000
DTSTAMP:20260425T065557
CREATED:20230916T215201Z
LAST-MODIFIED:20231104T180801Z
UID:1617-1702734300-1702742400@cgimaryland.org
SUMMARY:Weekly Sabbath Service
DESCRIPTION:Speaker: George James  \n\n\n\nTopic: TBD \n\n\n\n810 S. Frederick Ave\, 2nd Floor: Aspen RoomGaithersburg\, Maryland 20877United States+ Google Map \n\n\n\nYou can join the meeting from your computer\, tablet\, or smartphone. https://meet.goto.com/cgimaryland/sabbath_service_new You can also dial in using your phone. United States: +1 (872) 240-3412 Access Code: 300-519-741 Get the app now and be ready when the meeting starts: https://meet.goto.com/install 
URL:https://cgimaryland.org/event/online-bible-study-12-16-23/
END:VEVENT
BEGIN:VEVENT
DTSTART;TZID=UTC:20231209T134500
DTEND;TZID=UTC:20231209T160000
DTSTAMP:20260425T065557
CREATED:20230916T215116Z
LAST-MODIFIED:20231104T180224Z
UID:1615-1702129500-1702137600@cgimaryland.org
SUMMARY:Weekly Sabbath Service
DESCRIPTION:Speaker: Erroll Francis  \n\n\n\nTopic: Prophecy & History of Abraham’s Two Sons \n\n\n\nCasey Community Center\n\n\n\n810 S. Frederick Ave\, 2nd Floor: Aspen RoomGaithersburg\, Maryland 20877United States+ Google Map \n\n\n\n\n\nYou can join the meeting from your computer\, tablet\, or smartphone. https://meet.goto.com/cgimaryland/sabbath_service_new You can also dial in using your phone. United States: +1 (872) 240-3412 Access Code: 300-519-741 Get the app now and be ready when the meeting starts: https://meet.goto.com/install 
URL:https://cgimaryland.org/event/weekly-sabbath-service_12-9-23/
END:VEVENT
BEGIN:VEVENT
DTSTART;TZID=UTC:20231202T134500
DTEND;TZID=UTC:20231202T160000
DTSTAMP:20260425T065557
CREATED:20230916T214956Z
LAST-MODIFIED:20231104T180014Z
UID:1612-1701524700-1701532800@cgimaryland.org
SUMMARY:Weekly Sabbath Service
DESCRIPTION:Speaker: Elder Mark Rusinko (Philadelphia) \n\n\n\nTopic: TBD \n\n\n\nCasey Community Center\n\n\n\n810 S. Frederick Ave\, 2nd Floor: Aspen RoomGaithersburg\, Maryland 20877United States+ Google Map \n\n\n\n\n\nYou can join the meeting from your computer\, tablet\, or smartphone. https://meet.goto.com/cgimaryland/sabbath_service_new You can also dial in using your phone. United States: +1 (872) 240-3412 Access Code: 300-519-741 Get the app now and be ready when the meeting starts: https://meet.goto.com/install 
URL:https://cgimaryland.org/event/weekly-sabbath-service_12-2-23/
END:VEVENT
BEGIN:VEVENT
DTSTART;TZID=UTC:20231125T134500
DTEND;TZID=UTC:20231125T160000
DTSTAMP:20260425T065557
CREATED:20230916T214821Z
LAST-MODIFIED:20231104T175841Z
UID:1610-1700919900-1700928000@cgimaryland.org
SUMMARY:Online Bible Study Service
DESCRIPTION:Speaker: TBD \n\n\n\nTopic: TBD \n\n\n\nCasey Community Center\n\n\n\n\n\nYou can join the meeting from your computer\, tablet\, or smartphone. https://meet.goto.com/cgimaryland/sabbath_service_new You can also dial in using your phone. United States: +1 (872) 240-3412 Access Code: 300-519-741 Get the app now and be ready when the meeting starts: https://meet.goto.com/install 
URL:https://cgimaryland.org/event/weekly-sabbath-service_11-25-23/
END:VEVENT
BEGIN:VEVENT
DTSTART;TZID=UTC:20231118T134500
DTEND;TZID=UTC:20231118T160000
DTSTAMP:20260425T065557
CREATED:20230916T213901Z
LAST-MODIFIED:20231104T175655Z
UID:1608-1700315100-1700323200@cgimaryland.org
SUMMARY:Weekly Sabbath Service
DESCRIPTION:Speaker: Elder Mike James (California) \n\n\n\nTopic: Influence in the Kingdom  \n\n\n\n\n\nYou can join the meeting from your computer\, tablet\, or smartphone. https://meet.goto.com/cgimaryland/sabbath_service_new You can also dial in using your phone. United States: +1 (872) 240-3412 Access Code: 300-519-741 Get the app now and be ready when the meeting starts: https://meet.goto.com/install 
URL:https://cgimaryland.org/event/online-bible-study-11-18-23/
END:VEVENT
BEGIN:VEVENT
DTSTART;TZID=UTC:20231111T134500
DTEND;TZID=UTC:20231111T160000
DTSTAMP:20260425T065557
CREATED:20230916T213735Z
LAST-MODIFIED:20231104T174534Z
UID:1606-1699710300-1699718400@cgimaryland.org
SUMMARY:Weekly Sabbath Service
DESCRIPTION:Speaker: Deacon Tom Bettinger  \n\n\n\nTopic: The Antichrist  \n\n\n\nCasey Community Center\n\n\n\n810 S. Frederick Ave\, 2nd Floor: Aspen RoomGaithersburg\, Maryland 20877United States+ Google Map \n\n\n\n\n\nYou can join the meeting from your computer\, tablet\, or smartphone. https://meet.goto.com/cgimaryland/sabbath_service_new You can also dial in using your phone. United States: +1 (872) 240-3412 Access Code: 300-519-741 Get the app now and be ready when the meeting starts: https://meet.goto.com/install 
URL:https://cgimaryland.org/event/weekly-sabbath-service_11-11-23/
END:VEVENT
BEGIN:VEVENT
DTSTART;TZID=UTC:20231104T134500
DTEND;TZID=UTC:20231104T160000
DTSTAMP:20260425T065557
CREATED:20230916T213443Z
LAST-MODIFIED:20231104T174403Z
UID:1604-1699105500-1699113600@cgimaryland.org
SUMMARY:Weekly Sabbath Service
DESCRIPTION:Speaker: Timothy Maggenti \n\n\n\nTopic: Why Hamas Attacked Isreal? \n\n\n\nCasey Community Center\n\n\n\n810 S. Frederick Ave\, 2nd Floor: Aspen RoomGaithersburg\, Maryland 20877United States+ Google Map \n\n\n\n\n\nYou can join the meeting from your computer\, tablet\, or smartphone. https://meet.goto.com/cgimaryland/sabbath_service_new You can also dial in using your phone. United States: +1 (872) 240-3412 Access Code: 300-519-741 Get the app now and be ready when the meeting starts: https://meet.goto.com/install 
URL:https://cgimaryland.org/event/weekly-sabbath-service_11-04-23/
END:VEVENT
BEGIN:VEVENT
DTSTART;TZID=UTC:20231028T134500
DTEND;TZID=UTC:20231028T160000
DTSTAMP:20260425T065557
CREATED:20230916T212657Z
LAST-MODIFIED:20230916T212841Z
UID:1600-1698500700-1698508800@cgimaryland.org
SUMMARY:Weekly Sabbath Service
DESCRIPTION:Speaker: TBD \n\n\n\nTopic: TBD \n\n\n\nCasey Community Center\n\n\n\n810 S. Frederick Ave\, 2nd Floor: Aspen RoomGaithersburg\, Maryland 20877United States+ Google Map \n\n\n\n\n\nYou can join the meeting from your computer\, tablet\, or smartphone. https://meet.goto.com/cgimaryland/sabbath_service_new You can also dial in using your phone. United States: +1 (872) 240-3412 Access Code: 300-519-741 Get the app now and be ready when the meeting starts: https://meet.goto.com/install 
URL:https://cgimaryland.org/event/weekly-sabbath-service_10-28-23/
END:VEVENT
BEGIN:VEVENT
DTSTART;TZID=UTC:20231021T134500
DTEND;TZID=UTC:20231021T160000
DTSTAMP:20260425T065557
CREATED:20230916T212549Z
LAST-MODIFIED:20230916T212639Z
UID:1598-1697895900-1697904000@cgimaryland.org
SUMMARY:Online Bible Study Service
DESCRIPTION:Speaker: TBD \n\n\n\nTopic: TBD \n\n\n\n\n\nYou can join the meeting from your computer\, tablet\, or smartphone. https://meet.goto.com/cgimaryland/sabbath_service_new You can also dial in using your phone. United States: +1 (872) 240-3412 Access Code: 300-519-741 Get the app now and be ready when the meeting starts: https://meet.goto.com/install 
URL:https://cgimaryland.org/event/online-bible-study-10-21-23/
END:VEVENT
BEGIN:VEVENT
DTSTART;TZID=UTC:20231014T134500
DTEND;TZID=UTC:20231014T160000
DTSTAMP:20260425T065557
CREATED:20230916T212252Z
LAST-MODIFIED:20230916T212422Z
UID:1594-1697291100-1697299200@cgimaryland.org
SUMMARY:Weekly Sabbath Service
DESCRIPTION:Speaker: TBD \n\n\n\nTopic: TBD \n\n\n\nCasey Community Center\n\n\n\n810 S. Frederick Ave\, 2nd Floor: Aspen RoomGaithersburg\, Maryland 20877United States+ Google Map \n\n\n\n\n\nYou can join the meeting from your computer\, tablet\, or smartphone. https://meet.goto.com/cgimaryland/sabbath_service_new You can also dial in using your phone. United States: +1 (872) 240-3412 Access Code: 300-519-741 Get the app now and be ready when the meeting starts: https://meet.goto.com/install 
URL:https://cgimaryland.org/event/weekly-sabbath-service_10-14-23/
END:VEVENT
BEGIN:VEVENT
DTSTART;TZID=UTC:20230929T185500
DTEND;TZID=UTC:20231007T184400
DTSTAMP:20260425T065557
CREATED:20230916T210542Z
LAST-MODIFIED:20230930T151711Z
UID:1589-1696013700-1696704240@cgimaryland.org
SUMMARY:Feast of Tabernacles & Last Great Day - 2023
DESCRIPTION:For CGI Feast Site information\, click here.   \n\n\n\nFor CGI Virtual Feast Site information\, click here.   \n\n\n\n \n\n\n\nFor Feast information for a site near Baltimore\, Maryland\, click here.
URL:https://cgimaryland.org/event/feast-of-tabernacles-and-last-great-day-2023/
END:VEVENT
BEGIN:VEVENT
DTSTART;TZID=UTC:20230925T134500
DTEND;TZID=UTC:20230925T160000
DTSTAMP:20260425T065557
CREATED:20230902T191949Z
LAST-MODIFIED:20230916T212528Z
UID:1551-1695649500-1695657600@cgimaryland.org
SUMMARY:Day of Atonement - 2023
DESCRIPTION:Speaker: TBD \n\n\n\nTopic: Day of Atonement \n\n\n\n\n\n\nCasey Community Center\n\n\n\n810 S. Frederick Ave\, 1st Floor: Gaither RoomGaithersburg\, 20877United States+ Google Map \n\n\n\n\nYou can join the meeting from your computer\, tablet\, or smartphone. https://meet.goto.com/cgimaryland/sabbath_service_new You can also dial in using your phone. United States: +1 (872) 240-3412 Access Code: 300-519-741 Get the app now and be ready when the meeting starts: https://meet.goto.com/install 
URL:https://cgimaryland.org/event/day-of-atonement-2023-sept-25/
END:VEVENT
BEGIN:VEVENT
DTSTART;TZID=UTC:20230923T134500
DTEND;TZID=UTC:20230923T160000
DTSTAMP:20260425T065557
CREATED:20230916T210350Z
LAST-MODIFIED:20230916T210505Z
UID:1586-1695476700-1695484800@cgimaryland.org
SUMMARY:Online Bible Study Service
DESCRIPTION:Speaker: TBD \n\n\n\nTopic: TBD \n\n\n\n\n\nYou can join the meeting from your computer\, tablet\, or smartphone. https://meet.goto.com/cgimaryland/sabbath_service_new You can also dial in using your phone. United States: +1 (872) 240-3412 Access Code: 300-519-741 Get the app now and be ready when the meeting starts: https://meet.goto.com/install 
URL:https://cgimaryland.org/event/online-bible-study-09-23-23/
END:VEVENT
BEGIN:VEVENT
DTSTART;TZID=UTC:20230916T140000
DTEND;TZID=UTC:20230916T163000
DTSTAMP:20260425T065557
CREATED:20230902T190307Z
LAST-MODIFIED:20230913T213136Z
UID:1548-1694872800-1694881800@cgimaryland.org
SUMMARY:Feast of Trumpets - 2023
DESCRIPTION:Speaker: Gary Staszak  \n\n\n\nTopic: Feast of Trumpets \n\n\n\n\nThe Weinberg YMCA \n\n\n\nTeen-Senior Multi-Purpose Room\n\n\n\n \n\n\n\n900 E. 33rd Street Baltimore\,MD 21218United States+ Google Map\n\n\n\n\nThe First Century Church of God is hosting this service\, which will include fellowship with meals until 6pm.
URL:https://cgimaryland.org/event/feast-of-trumpets-2023-sept-16/
END:VEVENT
END:VCALENDAR