BEGIN:VCALENDAR
VERSION:2.0
PRODID:-//Church of God International, Gaithersburg, Maryland - ECPv6.15.20//NONSGML v1.0//EN
CALSCALE:GREGORIAN
METHOD:PUBLISH
X-WR-CALNAME:Church of God International, Gaithersburg, Maryland
X-ORIGINAL-URL:https://cgimaryland.org
X-WR-CALDESC:Events for Church of God International, Gaithersburg, Maryland
REFRESH-INTERVAL;VALUE=DURATION:PT1H
X-Robots-Tag:noindex
X-PUBLISHED-TTL:PT1H
BEGIN:VTIMEZONE
TZID:UTC
BEGIN:STANDARD
TZOFFSETFROM:+0000
TZOFFSETTO:+0000
TZNAME:UTC
DTSTART:20240101T000000
END:STANDARD
END:VTIMEZONE
BEGIN:VTIMEZONE
TZID:America/New_York
BEGIN:DAYLIGHT
TZOFFSETFROM:-0500
TZOFFSETTO:-0400
TZNAME:EDT
DTSTART:20240310T070000
END:DAYLIGHT
BEGIN:STANDARD
TZOFFSETFROM:-0400
TZOFFSETTO:-0500
TZNAME:EST
DTSTART:20241103T060000
END:STANDARD
BEGIN:DAYLIGHT
TZOFFSETFROM:-0500
TZOFFSETTO:-0400
TZNAME:EDT
DTSTART:20250309T070000
END:DAYLIGHT
BEGIN:STANDARD
TZOFFSETFROM:-0400
TZOFFSETTO:-0500
TZNAME:EST
DTSTART:20251102T060000
END:STANDARD
BEGIN:DAYLIGHT
TZOFFSETFROM:-0500
TZOFFSETTO:-0400
TZNAME:EDT
DTSTART:20260308T070000
END:DAYLIGHT
BEGIN:STANDARD
TZOFFSETFROM:-0400
TZOFFSETTO:-0500
TZNAME:EST
DTSTART:20261101T060000
END:STANDARD
END:VTIMEZONE
BEGIN:VEVENT
DTSTART;TZID=UTC:20251002T134500
DTEND;TZID=UTC:20251002T160000
DTSTAMP:20260423T194044
CREATED:20250830T052048Z
LAST-MODIFIED:20251004T055638Z
UID:2811-1759412700-1759420800@cgimaryland.org
SUMMARY:Day of Atonement - 2025
DESCRIPTION:Speaker: Deacon Tom Bettinger \n\n\n\nTopic: At-One-Ment \n\n\n\n810 S. Frederick Ave\, 2nd Floor: Aspen RoomGaithersburg\, Maryland 20877United States+ Google Map \n\n\n\nYou can join the meeting from your computer\, tablet\, or smartphone. https://meet.goto.com/cgimaryland/sabbath_service_new You can also dial in using your phone. United States: +1 (872) 240-3412 Access Code: 300-519-741 Get the app now and be ready when the meeting starts: https://meet.goto.com/install 
URL:https://cgimaryland.org/event/day-of-atonement-2025/
END:VEVENT
BEGIN:VEVENT
DTSTART;TZID=UTC:20250927T134500
DTEND;TZID=UTC:20250927T160000
DTSTAMP:20260423T194044
CREATED:20250809T150535Z
LAST-MODIFIED:20250809T151011Z
UID:2760-1758980700-1758988800@cgimaryland.org
SUMMARY:Online Bible Study
DESCRIPTION:Speaker: TBD \n\n\n\nTopic: TBD \n\n\n\n\n\nYou can join the meeting from your computer\, tablet\, or smartphone. https://meet.goto.com/cgimaryland/sabbath_service_new You can also dial in using your phone. United States: +1 (872) 240-3412 Access Code: 300-519-741 Get the app now and be ready when the meeting starts: https://meet.goto.com/install 
URL:https://cgimaryland.org/event/online-bible-study-09-27-25/
END:VEVENT
BEGIN:VEVENT
DTSTART;TZID=America/New_York:20250926T191500
DTEND;TZID=America/New_York:20250926T201500
DTSTAMP:20260423T194044
CREATED:20250830T045636Z
LAST-MODIFIED:20250830T045947Z
UID:2799-1758914100-1758917700@cgimaryland.org
SUMMARY:Friday Night Prayer Service
DESCRIPTION:You can join the prayer service from your computer\, tablet\, or smartphone. https://meet.goto.com/cgimaryland/sabbath_service_new You can also dial in using your phone. United States: +1 (872) 240-3412 Access Code: 300-519-741 Get the app now and be ready when the meeting starts: https://meet.goto.com/install 
URL:https://cgimaryland.org/event/friday-night-prayer-service-09-26-25/
END:VEVENT
BEGIN:VEVENT
DTSTART;TZID=UTC:20250923T140000
DTEND;TZID=UTC:20250923T163000
DTSTAMP:20260423T194044
CREATED:20250830T051448Z
LAST-MODIFIED:20250920T152657Z
UID:2809-1758636000-1758645000@cgimaryland.org
SUMMARY:Feast of Trumpets - 2025
DESCRIPTION:Speaker: Elder Michael Reis \n\n\n\nTopic: The Time of Jacob’s Trouble \n\n\n\nYou can join the meeting from your computer\, tablet\, or smartphone. https://meet.goto.com/cgimaryland/sabbath_service_new You can also dial in using your phone. United States: +1 (872) 240-3412 Access Code: 300-519-741 Get the app now and be ready when the meeting starts: https://meet.goto.com/install  \n\n\n\n810 S. Frederick Ave\, 1st Floor – Gaither RoomGaithersburg\, Maryland 20877United States+ Google Map
URL:https://cgimaryland.org/event/feast-of-trumpets-2025/
END:VEVENT
BEGIN:VEVENT
DTSTART;TZID=UTC:20250920T134500
DTEND;TZID=UTC:20250920T160000
DTSTAMP:20260423T194044
CREATED:20250809T151022Z
LAST-MODIFIED:20250920T151813Z
UID:2764-1758375900-1758384000@cgimaryland.org
SUMMARY:Weekly Sabbath Service
DESCRIPTION:Speaker: Deacon Tom Bettinger \n\n\n\nTopic: The Real Mary \n\n\n\n\n\nYou can join the meeting from your computer\, tablet\, or smartphone. https://meet.goto.com/cgimaryland/sabbath_service_new You can also dial in using your phone. United States: +1 (872) 240-3412 Access Code: 300-519-741 Get the app now and be ready when the meeting starts: https://meet.goto.com/install  \n\n\n\n \n\n\n\n\n810 S. Frederick Ave\, 2nd Floor: Aspen RoomGaithersburg\, Maryland 20877United States+ Google Map
URL:https://cgimaryland.org/event/weekly-sabbath-service-09-20-25/
END:VEVENT
BEGIN:VEVENT
DTSTART;TZID=America/New_York:20250919T191500
DTEND;TZID=America/New_York:20250919T201500
DTSTAMP:20260423T194044
CREATED:20250830T045646Z
LAST-MODIFIED:20250830T045836Z
UID:2800-1758309300-1758312900@cgimaryland.org
SUMMARY:Friday Night Prayer Service
DESCRIPTION:You can join the prayer service from your computer\, tablet\, or smartphone. https://meet.goto.com/cgimaryland/sabbath_service_new You can also dial in using your phone. United States: +1 (872) 240-3412 Access Code: 300-519-741 Get the app now and be ready when the meeting starts: https://meet.goto.com/install 
URL:https://cgimaryland.org/event/friday-night-prayer-service-09-19-25/
END:VEVENT
BEGIN:VEVENT
DTSTART;TZID=UTC:20250913T134500
DTEND;TZID=UTC:20250913T160000
DTSTAMP:20260423T194044
CREATED:20250809T150529Z
LAST-MODIFIED:20250809T150848Z
UID:2759-1757771100-1757779200@cgimaryland.org
SUMMARY:Weekly Sabbath Service
DESCRIPTION:Speaker: TBD \n\n\n\nTopic: TBD \n\n\n\n\n\nYou can join the meeting from your computer\, tablet\, or smartphone. https://meet.goto.com/cgimaryland/sabbath_service_new You can also dial in using your phone. United States: +1 (872) 240-3412 Access Code: 300-519-741 Get the app now and be ready when the meeting starts: https://meet.goto.com/install  \n\n\n\n \n\n\n\n\n810 S. Frederick Ave\, 2nd Floor: Aspen RoomGaithersburg\, Maryland 20877United States+ Google Map
URL:https://cgimaryland.org/event/weekly-sabbath-service-09-13-25/
END:VEVENT
BEGIN:VEVENT
DTSTART;TZID=America/New_York:20250912T191500
DTEND;TZID=America/New_York:20250912T201500
DTSTAMP:20260423T194044
CREATED:20250830T045628Z
LAST-MODIFIED:20250830T045737Z
UID:2798-1757704500-1757708100@cgimaryland.org
SUMMARY:Friday Night Prayer Service
DESCRIPTION:You can join the prayer service from your computer\, tablet\, or smartphone. https://meet.goto.com/cgimaryland/sabbath_service_new You can also dial in using your phone. United States: +1 (872) 240-3412 Access Code: 300-519-741 Get the app now and be ready when the meeting starts: https://meet.goto.com/install 
URL:https://cgimaryland.org/event/friday-night-prayer-service-09-12-25-copy/
END:VEVENT
BEGIN:VEVENT
DTSTART;TZID=UTC:20250906T134500
DTEND;TZID=UTC:20250906T160000
DTSTAMP:20260423T194044
CREATED:20250809T150521Z
LAST-MODIFIED:20250906T185245Z
UID:2758-1757166300-1757174400@cgimaryland.org
SUMMARY:Online Weekly Sabbath Service
DESCRIPTION:Speaker: Deacon Tom Bettinger \n\n\n\nTopic: The Proof is Right There! \n\n\n\n\n\nYou can join the meeting from your computer\, tablet\, or smartphone. https://meet.goto.com/cgimaryland/sabbath_service_new You can also dial in using your phone. United States: +1 (872) 240-3412 Access Code: 300-519-741 Get the app now and be ready when the meeting starts: https://meet.goto.com/install 
URL:https://cgimaryland.org/event/weekly-sabbath-service-09-06-25/
END:VEVENT
BEGIN:VEVENT
DTSTART;TZID=America/New_York:20250905T191500
DTEND;TZID=America/New_York:20250905T201500
DTSTAMP:20260423T194044
CREATED:20250830T042419Z
LAST-MODIFIED:20250830T044450Z
UID:2789-1757099700-1757103300@cgimaryland.org
SUMMARY:Friday Night Prayer Service
DESCRIPTION:You can join the prayer service from your computer\, tablet\, or smartphone. https://meet.goto.com/cgimaryland/sabbath_service_new You can also dial in using your phone. United States: +1 (872) 240-3412 Access Code: 300-519-741 Get the app now and be ready when the meeting starts: https://meet.goto.com/install 
URL:https://cgimaryland.org/event/friday-night-prayer-service-09-05-25/
END:VEVENT
BEGIN:VEVENT
DTSTART;TZID=UTC:20250823T134500
DTEND;TZID=UTC:20250823T160000
DTSTAMP:20260423T194044
CREATED:20250615T005812Z
LAST-MODIFIED:20250718T032330Z
UID:2609-1755956700-1755964800@cgimaryland.org
SUMMARY:Online Bible Study
DESCRIPTION:Speaker: TBD \n\n\n\nTopic: TBD \n\n\n\n\n\nYou can join the meeting from your computer\, tablet\, or smartphone. https://meet.goto.com/cgimaryland/sabbath_service_new You can also dial in using your phone. United States: +1 (872) 240-3412 Access Code: 300-519-741 Get the app now and be ready when the meeting starts: https://meet.goto.com/install 
URL:https://cgimaryland.org/event/online-bible-study-08-23-25/
END:VEVENT
BEGIN:VEVENT
DTSTART;TZID=UTC:20250816T134500
DTEND;TZID=UTC:20250816T160000
DTSTAMP:20260423T194044
CREATED:20250718T032517Z
LAST-MODIFIED:20250816T145631Z
UID:2662-1755351900-1755360000@cgimaryland.org
SUMMARY:Weekly Sabbath Service
DESCRIPTION:Speaker: George James \n\n\n\nTopic: A god We Made \n\n\n\n\n\nYou can join the meeting from your computer\, tablet\, or smartphone. https://meet.goto.com/cgimaryland/sabbath_service_new You can also dial in using your phone. United States: +1 (872) 240-3412 Access Code: 300-519-741 Get the app now and be ready when the meeting starts: https://meet.goto.com/install  \n\n\n\n \n\n\n\n\n810 S. Frederick Ave\, 2nd Floor: Aspen RoomGaithersburg\, Maryland 20877United States+ Google Map
URL:https://cgimaryland.org/event/weekly-sabbath-service-08-16-25/
END:VEVENT
BEGIN:VEVENT
DTSTART;TZID=UTC:20250809T134500
DTEND;TZID=UTC:20250809T160000
DTSTAMP:20260423T194044
CREATED:20250718T032522Z
LAST-MODIFIED:20250809T144437Z
UID:2663-1754747100-1754755200@cgimaryland.org
SUMMARY:Weekly Sabbath Service
DESCRIPTION:Speaker: Elder Herb Hanson (Detroit) \n\n\n\nTopic: Oh…The Places You Must Go \n\n\n\n\n\nYou can join the meeting from your computer\, tablet\, or smartphone. https://meet.goto.com/cgimaryland/sabbath_service_new You can also dial in using your phone. United States: +1 (872) 240-3412 Access Code: 300-519-741 Get the app now and be ready when the meeting starts: https://meet.goto.com/install  \n\n\n\n \n\n\n\n\n810 S. Frederick Ave\, 2nd Floor: Aspen RoomGaithersburg\, Maryland 20877United States+ Google Map
URL:https://cgimaryland.org/event/weekly-sabbath-service-08-09-25/
END:VEVENT
BEGIN:VEVENT
DTSTART;TZID=UTC:20250802T134500
DTEND;TZID=UTC:20250802T160000
DTSTAMP:20260423T194044
CREATED:20250718T032513Z
LAST-MODIFIED:20250801T232423Z
UID:2661-1754142300-1754150400@cgimaryland.org
SUMMARY:Weekly Sabbath Service
DESCRIPTION:Speaker: Deacon Tom Bettinger \n\n\n\nTopic: Covetousness \n\n\n\n\n\nYou can join the meeting from your computer\, tablet\, or smartphone. https://meet.goto.com/cgimaryland/sabbath_service_new You can also dial in using your phone. United States: +1 (872) 240-3412 Access Code: 300-519-741 Get the app now and be ready when the meeting starts: https://meet.goto.com/install  \n\n\n\n \n\n\n\n\n810 S. Frederick Ave\, 2nd Floor: Aspen RoomGaithersburg\, Maryland 20877United States+ Google Map
URL:https://cgimaryland.org/event/weekly-sabbath-service-08-02-25/
END:VEVENT
BEGIN:VEVENT
DTSTART;TZID=UTC:20250726T134500
DTEND;TZID=UTC:20250726T160000
DTSTAMP:20260423T194044
CREATED:20250615T005803Z
LAST-MODIFIED:20250726T002930Z
UID:2608-1753537500-1753545600@cgimaryland.org
SUMMARY:Weekly Sabbath Service
DESCRIPTION:Speaker: Elder Michael Reis \n\n\n\nTopic: Righteous Courage  \n\n\n\n\n\nYou can join the meeting from your computer\, tablet\, or smartphone. https://meet.goto.com/cgimaryland/sabbath_service_new You can also dial in using your phone. United States: +1 (872) 240-3412 Access Code: 300-519-741 Get the app now and be ready when the meeting starts: https://meet.goto.com/install  \n\n\n\n \n\n\n\n\nToday’s Location \n\n\n\n4040 Blackburn Lane; Burtonsville\, MD 20866
URL:https://cgimaryland.org/event/weekly-sabbath-service-07-26-25/
END:VEVENT
BEGIN:VEVENT
DTSTART;TZID=UTC:20250719T134500
DTEND;TZID=UTC:20250719T160000
DTSTAMP:20260423T194044
CREATED:20250718T032033Z
LAST-MODIFIED:20250719T171420Z
UID:2656-1752932700-1752940800@cgimaryland.org
SUMMARY:Online Bible Study
DESCRIPTION:Video Speaker: Pastor George Ramocan (CGI UK) \n\n\n\nTopic: Does God’s Grace Nullify Jehovah’s Law? \n\n\n\n\n\nYou can join the meeting from your computer\, tablet\, or smartphone. https://meet.goto.com/cgimaryland/sabbath_service_new You can also dial in using your phone. United States: +1 (872) 240-3412 Access Code: 300-519-741 Get the app now and be ready when the meeting starts: https://meet.goto.com/install 
URL:https://cgimaryland.org/event/online-bible-study-07-19-25/
END:VEVENT
BEGIN:VEVENT
DTSTART;TZID=UTC:20250712T134500
DTEND;TZID=UTC:20250712T160000
DTSTAMP:20260423T194044
CREATED:20250615T005755Z
LAST-MODIFIED:20250712T165143Z
UID:2607-1752327900-1752336000@cgimaryland.org
SUMMARY:Weekly Sabbath Service
DESCRIPTION:Speaker: Elder Michael Reis \n\n\n\nTopic: What Matters Most to God \n\n\n\n\n\nYou can join the meeting from your computer\, tablet\, or smartphone. https://meet.goto.com/cgimaryland/sabbath_service_new You can also dial in using your phone. United States: +1 (872) 240-3412 Access Code: 300-519-741 Get the app now and be ready when the meeting starts: https://meet.goto.com/install  \n\n\n\n \n\n\n\n\n810 S. Frederick Ave\, 2nd Floor: Aspen RoomGaithersburg\, Maryland 20877United States+ Google Map
URL:https://cgimaryland.org/event/weekly-sabbath-service-07-12-25/
END:VEVENT
BEGIN:VEVENT
DTSTART;TZID=UTC:20250705T134500
DTEND;TZID=UTC:20250705T160000
DTSTAMP:20260423T194044
CREATED:20250315T184220Z
LAST-MODIFIED:20250705T154549Z
UID:2546-1751723100-1751731200@cgimaryland.org
SUMMARY:Weekly Sabbath Service
DESCRIPTION:Speaker: Deacon Tom Bettinger \n\n\n\nTopic: Blessings \n\n\n\n\n\nYou can join the meeting from your computer\, tablet\, or smartphone. https://meet.goto.com/cgimaryland/sabbath_service_new You can also dial in using your phone. United States: +1 (872) 240-3412 Access Code: 300-519-741 Get the app now and be ready when the meeting starts: https://meet.goto.com/install  \n\n\n\n \n\n\n\n\n810 S. Frederick Ave\, 2nd Floor: Aspen RoomGaithersburg\, Maryland 20877United States+ Google Map
URL:https://cgimaryland.org/event/weekly-sabbath-service-07-05-25/
END:VEVENT
BEGIN:VEVENT
DTSTART;TZID=UTC:20250628T134500
DTEND;TZID=UTC:20250628T160000
DTSTAMP:20260423T194044
CREATED:20250315T184225Z
LAST-MODIFIED:20250627T231721Z
UID:2547-1751118300-1751126400@cgimaryland.org
SUMMARY:Online Bible Study
DESCRIPTION:Speaker: Steve Isom \n\n\n\nTopic: Who Were the Sons of God? \n\n\n\n\n\nYou can join the meeting from your computer\, tablet\, or smartphone. https://meet.goto.com/cgimaryland/sabbath_service_new You can also dial in using your phone. United States: +1 (872) 240-3412 Access Code: 300-519-741 Get the app now and be ready when the meeting starts: https://meet.goto.com/install 
URL:https://cgimaryland.org/event/online-bible-study-06-28-25/
END:VEVENT
BEGIN:VEVENT
DTSTART;TZID=UTC:20250621T134500
DTEND;TZID=UTC:20250621T160000
DTSTAMP:20260423T194044
CREATED:20250315T184217Z
LAST-MODIFIED:20250315T184521Z
UID:2545-1750513500-1750521600@cgimaryland.org
SUMMARY:Weekly Sabbath Service
DESCRIPTION:Speaker: TBD \n\n\n\nTopic: TBD \n\n\n\n\n\nYou can join the meeting from your computer\, tablet\, or smartphone. https://meet.goto.com/cgimaryland/sabbath_service_new You can also dial in using your phone. United States: +1 (872) 240-3412 Access Code: 300-519-741 Get the app now and be ready when the meeting starts: https://meet.goto.com/install  \n\n\n\n \n\n\n\n\n810 S. Frederick Ave\, 2nd Floor: Aspen RoomGaithersburg\, Maryland 20877United States+ Google Map
URL:https://cgimaryland.org/event/weekly-sabbath-service-06-21-25/
END:VEVENT
BEGIN:VEVENT
DTSTART;TZID=UTC:20250614T134500
DTEND;TZID=UTC:20250614T160000
DTSTAMP:20260423T194044
CREATED:20250315T184213Z
LAST-MODIFIED:20250315T184303Z
UID:2544-1749908700-1749916800@cgimaryland.org
SUMMARY:Weekly Sabbath Service
DESCRIPTION:Speaker: TBD \n\n\n\nTopic: TBD \n\n\n\n\n\nYou can join the meeting from your computer\, tablet\, or smartphone. https://meet.goto.com/cgimaryland/sabbath_service_new You can also dial in using your phone. United States: +1 (872) 240-3412 Access Code: 300-519-741 Get the app now and be ready when the meeting starts: https://meet.goto.com/install  \n\n\n\n \n\n\n\n\n810 S. Frederick Ave\, 2nd Floor: Aspen RoomGaithersburg\, Maryland 20877United States+ Google Map
URL:https://cgimaryland.org/event/weekly-sabbath-service-06-14-25/
END:VEVENT
BEGIN:VEVENT
DTSTART;TZID=UTC:20250607T134500
DTEND;TZID=UTC:20250607T160000
DTSTAMP:20260423T194044
CREATED:20250315T184040Z
LAST-MODIFIED:20250315T184147Z
UID:2542-1749303900-1749312000@cgimaryland.org
SUMMARY:Weekly Sabbath Service
DESCRIPTION:Speaker: TBD \n\n\n\nTopic: TBD \n\n\n\n\n\nYou can join the meeting from your computer\, tablet\, or smartphone. https://meet.goto.com/cgimaryland/sabbath_service_new You can also dial in using your phone. United States: +1 (872) 240-3412 Access Code: 300-519-741 Get the app now and be ready when the meeting starts: https://meet.goto.com/install  \n\n\n\n \n\n\n\n\n810 S. Frederick Ave\, 2nd Floor: Aspen RoomGaithersburg\, Maryland 20877United States+ Google Map
URL:https://cgimaryland.org/event/weekly-sabbath-service-06-07-25/
END:VEVENT
BEGIN:VEVENT
DTSTART;TZID=UTC:20250601T140000
DTEND;TZID=UTC:20250601T170000
DTSTAMP:20260423T194044
CREATED:20250315T183845Z
LAST-MODIFIED:20250601T164812Z
UID:2540-1748786400-1748797200@cgimaryland.org
SUMMARY:Feast of Pentecost
DESCRIPTION:Speaker: Elder Michael Reis \n\n\n\nTopic: Pentecost – Satan is Mad \n\n\n\nLiving Word COG Seventh Day\n\n\n\n4040 Blackburn LaneBurtonsville\, Maryland 20866United States \n\n\n\n\n\n\n\nYou can join the meeting from your computer\, tablet\, or smartphone. https://meet.goto.com/cgimaryland/sabbath_service_new You can also dial in using your phone. United States: +1 (872) 240-3412 Access Code: 300-519-741 Get the app now and be ready when the meeting starts: https://meet.goto.com/install 
URL:https://cgimaryland.org/event/feast-of-pentecost-2025/
END:VEVENT
BEGIN:VEVENT
DTSTART;TZID=UTC:20250524T134500
DTEND;TZID=UTC:20250524T160000
DTSTAMP:20260423T194044
CREATED:20250315T183341Z
LAST-MODIFIED:20250315T183513Z
UID:2538-1748094300-1748102400@cgimaryland.org
SUMMARY:Online Bible Study
DESCRIPTION:Speaker: TBD \n\n\n\nTopic: TBD \n\n\n\n\n\nYou can join the meeting from your computer\, tablet\, or smartphone. https://meet.goto.com/cgimaryland/sabbath_service_new You can also dial in using your phone. United States: +1 (872) 240-3412 Access Code: 300-519-741 Get the app now and be ready when the meeting starts: https://meet.goto.com/install 
URL:https://cgimaryland.org/event/online-bible-study-05-24-25/
END:VEVENT
BEGIN:VEVENT
DTSTART;TZID=UTC:20250517T134500
DTEND;TZID=UTC:20250517T160000
DTSTAMP:20260423T194044
CREATED:20250315T182628Z
LAST-MODIFIED:20250315T183259Z
UID:2533-1747489500-1747497600@cgimaryland.org
SUMMARY:Weekly Sabbath Service
DESCRIPTION:Speaker: TBD \n\n\n\nTopic: TBD \n\n\n\n\n\nYou can join the meeting from your computer\, tablet\, or smartphone. https://meet.goto.com/cgimaryland/sabbath_service_new You can also dial in using your phone. United States: +1 (872) 240-3412 Access Code: 300-519-741 Get the app now and be ready when the meeting starts: https://meet.goto.com/install  \n\n\n\n \n\n\n\n\n810 S. Frederick Ave\, 2nd Floor: Aspen RoomGaithersburg\, Maryland 20877United States+ Google Map
URL:https://cgimaryland.org/event/weekly-sabbath-service-05-17-25/
END:VEVENT
BEGIN:VEVENT
DTSTART;TZID=UTC:20250510T134500
DTEND;TZID=UTC:20250510T160000
DTSTAMP:20260423T194044
CREATED:20250315T182622Z
LAST-MODIFIED:20250315T183151Z
UID:2532-1746884700-1746892800@cgimaryland.org
SUMMARY:Weekly Sabbath Service
DESCRIPTION:Speaker: TBD \n\n\n\nTopic: TBD \n\n\n\n\n\nYou can join the meeting from your computer\, tablet\, or smartphone. https://meet.goto.com/cgimaryland/sabbath_service_new You can also dial in using your phone. United States: +1 (872) 240-3412 Access Code: 300-519-741 Get the app now and be ready when the meeting starts: https://meet.goto.com/install  \n\n\n\n \n\n\n\n\n810 S. Frederick Ave\, 2nd Floor: Aspen RoomGaithersburg\, Maryland 20877United States+ Google Map
URL:https://cgimaryland.org/event/weekly-sabbath-service-05-10-25/
END:VEVENT
BEGIN:VEVENT
DTSTART;TZID=UTC:20250503T134500
DTEND;TZID=UTC:20250503T160000
DTSTAMP:20260423T194044
CREATED:20250315T182615Z
LAST-MODIFIED:20250315T182958Z
UID:2531-1746279900-1746288000@cgimaryland.org
SUMMARY:Weekly Sabbath Service
DESCRIPTION:Speaker: TBD \n\n\n\nTopic: TBD \n\n\n\n\n\nYou can join the meeting from your computer\, tablet\, or smartphone. https://meet.goto.com/cgimaryland/sabbath_service_new You can also dial in using your phone. United States: +1 (872) 240-3412 Access Code: 300-519-741 Get the app now and be ready when the meeting starts: https://meet.goto.com/install  \n\n\n\n \n\n\n\n\n810 S. Frederick Ave\, 2nd Floor: Aspen RoomGaithersburg\, Maryland 20877United States+ Google Map
URL:https://cgimaryland.org/event/weekly-sabbath-service-05-03-25/
END:VEVENT
BEGIN:VEVENT
DTSTART;TZID=UTC:20250426T134500
DTEND;TZID=UTC:20250426T160000
DTSTAMP:20260423T194044
CREATED:20250315T180420Z
LAST-MODIFIED:20250315T182723Z
UID:2517-1745675100-1745683200@cgimaryland.org
SUMMARY:Online Bible Study
DESCRIPTION:Speaker: TBD \n\n\n\nTopic: TBD \n\n\n\n\n\nYou can join the meeting from your computer\, tablet\, or smartphone. https://meet.goto.com/cgimaryland/sabbath_service_new You can also dial in using your phone. United States: +1 (872) 240-3412 Access Code: 300-519-741 Get the app now and be ready when the meeting starts: https://meet.goto.com/install 
URL:https://cgimaryland.org/event/online-bible-study-04-26-25/
END:VEVENT
BEGIN:VEVENT
DTSTART;TZID=UTC:20250419T143000
DTEND;TZID=UTC:20250419T170000
DTSTAMP:20260423T194044
CREATED:20250412T184259Z
LAST-MODIFIED:20250501T035311Z
UID:2574-1745073000-1745082000@cgimaryland.org
SUMMARY:Last Day of Unleavened Bread
DESCRIPTION:Speaker: Elder Michael Reis \n\n\n\nTopic: Fermentation   \n\n\n\nFirst Century Church of God & CGI Gaithersburg\n\n\n\nThe Weinberg Y in Waverly\n\n\n\n900 E. 33rd St.  \n\n\n\nBaltimore\, MD 21218 \n\n\n\n\n\n\n\nYou can join the meeting from your computer\, tablet\, or smartphone. https://meet.goto.com/cgimaryland/sabbath_service_new You can also dial in using your phone. United States: +1 (872) 240-3412 Access Code: 300-519-741 Get the app now and be ready when the meeting starts: https://meet.goto.com/install 
URL:https://cgimaryland.org/event/last-day-of-unleavened-bread-2025/
END:VEVENT
BEGIN:VEVENT
DTSTART;TZID=UTC:20250413T144500
DTEND;TZID=UTC:20250413T170000
DTSTAMP:20260423T194044
CREATED:20250315T182059Z
LAST-MODIFIED:20250412T184858Z
UID:2528-1744555500-1744563600@cgimaryland.org
SUMMARY:First Day of Unleavened Bread
DESCRIPTION:Speaker: Elder Mark Rusinko \n\n\n\nTopic: The Feast of ULB   \n\n\n\nFirst Century Church of God & CGI Gaithersburg\n\n\n\nFuture Care – Courtland\n\n\n\n7920 Scotts Level Road\, Main Hall  \n\n\n\nPikesville\, Maryland 21208 \n\n\n\n\n\n\n\nYou can join the meeting from your computer\, tablet\, or smartphone. https://meet.goto.com/cgimaryland/sabbath_service_new You can also dial in using your phone. United States: +1 (872) 240-3412 Access Code: 300-519-741 Get the app now and be ready when the meeting starts: https://meet.goto.com/install 
URL:https://cgimaryland.org/event/first-day-of-unleavened-bread-2025/
END:VEVENT
END:VCALENDAR