BEGIN:VCALENDAR
VERSION:2.0
PRODID:-//Church of God International, Gaithersburg, Maryland - ECPv6.15.20//NONSGML v1.0//EN
CALSCALE:GREGORIAN
METHOD:PUBLISH
X-WR-CALNAME:Church of God International, Gaithersburg, Maryland
X-ORIGINAL-URL:https://cgimaryland.org
X-WR-CALDESC:Events for Church of God International, Gaithersburg, Maryland
REFRESH-INTERVAL;VALUE=DURATION:PT1H
X-Robots-Tag:noindex
X-PUBLISHED-TTL:PT1H
BEGIN:VTIMEZONE
TZID:UTC
BEGIN:STANDARD
TZOFFSETFROM:+0000
TZOFFSETTO:+0000
TZNAME:UTC
DTSTART:20220101T000000
END:STANDARD
END:VTIMEZONE
BEGIN:VEVENT
DTSTART;TZID=UTC:20231021T134500
DTEND;TZID=UTC:20231021T160000
DTSTAMP:20260425T095515
CREATED:20230916T212549Z
LAST-MODIFIED:20230916T212639Z
UID:1598-1697895900-1697904000@cgimaryland.org
SUMMARY:Online Bible Study Service
DESCRIPTION:Speaker: TBD \n\n\n\nTopic: TBD \n\n\n\n\n\nYou can join the meeting from your computer\, tablet\, or smartphone. https://meet.goto.com/cgimaryland/sabbath_service_new You can also dial in using your phone. United States: +1 (872) 240-3412 Access Code: 300-519-741 Get the app now and be ready when the meeting starts: https://meet.goto.com/install 
URL:https://cgimaryland.org/event/online-bible-study-10-21-23/
END:VEVENT
BEGIN:VEVENT
DTSTART;TZID=UTC:20231014T134500
DTEND;TZID=UTC:20231014T160000
DTSTAMP:20260425T095515
CREATED:20230916T212252Z
LAST-MODIFIED:20230916T212422Z
UID:1594-1697291100-1697299200@cgimaryland.org
SUMMARY:Weekly Sabbath Service
DESCRIPTION:Speaker: TBD \n\n\n\nTopic: TBD \n\n\n\nCasey Community Center\n\n\n\n810 S. Frederick Ave\, 2nd Floor: Aspen RoomGaithersburg\, Maryland 20877United States+ Google Map \n\n\n\n\n\nYou can join the meeting from your computer\, tablet\, or smartphone. https://meet.goto.com/cgimaryland/sabbath_service_new You can also dial in using your phone. United States: +1 (872) 240-3412 Access Code: 300-519-741 Get the app now and be ready when the meeting starts: https://meet.goto.com/install 
URL:https://cgimaryland.org/event/weekly-sabbath-service_10-14-23/
END:VEVENT
BEGIN:VEVENT
DTSTART;TZID=UTC:20230929T185500
DTEND;TZID=UTC:20231007T184400
DTSTAMP:20260425T095515
CREATED:20230916T210542Z
LAST-MODIFIED:20230930T151711Z
UID:1589-1696013700-1696704240@cgimaryland.org
SUMMARY:Feast of Tabernacles & Last Great Day - 2023
DESCRIPTION:For CGI Feast Site information\, click here.   \n\n\n\nFor CGI Virtual Feast Site information\, click here.   \n\n\n\n \n\n\n\nFor Feast information for a site near Baltimore\, Maryland\, click here.
URL:https://cgimaryland.org/event/feast-of-tabernacles-and-last-great-day-2023/
END:VEVENT
BEGIN:VEVENT
DTSTART;TZID=UTC:20230925T134500
DTEND;TZID=UTC:20230925T160000
DTSTAMP:20260425T095515
CREATED:20230902T191949Z
LAST-MODIFIED:20230916T212528Z
UID:1551-1695649500-1695657600@cgimaryland.org
SUMMARY:Day of Atonement - 2023
DESCRIPTION:Speaker: TBD \n\n\n\nTopic: Day of Atonement \n\n\n\n\n\n\nCasey Community Center\n\n\n\n810 S. Frederick Ave\, 1st Floor: Gaither RoomGaithersburg\, 20877United States+ Google Map \n\n\n\n\nYou can join the meeting from your computer\, tablet\, or smartphone. https://meet.goto.com/cgimaryland/sabbath_service_new You can also dial in using your phone. United States: +1 (872) 240-3412 Access Code: 300-519-741 Get the app now and be ready when the meeting starts: https://meet.goto.com/install 
URL:https://cgimaryland.org/event/day-of-atonement-2023-sept-25/
END:VEVENT
BEGIN:VEVENT
DTSTART;TZID=UTC:20230923T134500
DTEND;TZID=UTC:20230923T160000
DTSTAMP:20260425T095515
CREATED:20230916T210350Z
LAST-MODIFIED:20230916T210505Z
UID:1586-1695476700-1695484800@cgimaryland.org
SUMMARY:Online Bible Study Service
DESCRIPTION:Speaker: TBD \n\n\n\nTopic: TBD \n\n\n\n\n\nYou can join the meeting from your computer\, tablet\, or smartphone. https://meet.goto.com/cgimaryland/sabbath_service_new You can also dial in using your phone. United States: +1 (872) 240-3412 Access Code: 300-519-741 Get the app now and be ready when the meeting starts: https://meet.goto.com/install 
URL:https://cgimaryland.org/event/online-bible-study-09-23-23/
END:VEVENT
BEGIN:VEVENT
DTSTART;TZID=UTC:20230916T140000
DTEND;TZID=UTC:20230916T163000
DTSTAMP:20260425T095515
CREATED:20230902T190307Z
LAST-MODIFIED:20230913T213136Z
UID:1548-1694872800-1694881800@cgimaryland.org
SUMMARY:Feast of Trumpets - 2023
DESCRIPTION:Speaker: Gary Staszak  \n\n\n\nTopic: Feast of Trumpets \n\n\n\n\nThe Weinberg YMCA \n\n\n\nTeen-Senior Multi-Purpose Room\n\n\n\n \n\n\n\n900 E. 33rd Street Baltimore\,MD 21218United States+ Google Map\n\n\n\n\nThe First Century Church of God is hosting this service\, which will include fellowship with meals until 6pm.
URL:https://cgimaryland.org/event/feast-of-trumpets-2023-sept-16/
END:VEVENT
BEGIN:VEVENT
DTSTART;TZID=UTC:20230909T134500
DTEND;TZID=UTC:20230909T160000
DTSTAMP:20260425T095515
CREATED:20230814T071745Z
LAST-MODIFIED:20230902T192807Z
UID:1535-1694267100-1694275200@cgimaryland.org
SUMMARY:Weekly Sabbath Service
DESCRIPTION:Speaker: Deacon Tom Bettinger \n\n\n\nTopic: TBD \n\n\n\nCasey Community Center\n\n\n\n810 S. Frederick Ave\, 1st Floor: Gaither RoomGaithersburg\, Maryland 20877United States+ Google Map \n\n\n\n\n\nYou can join the meeting from your computer\, tablet\, or smartphone. https://meet.goto.com/cgimaryland/sabbath_service_new You can also dial in using your phone. United States: +1 (872) 240-3412 Access Code: 300-519-741 Get the app now and be ready when the meeting starts: https://meet.goto.com/install 
URL:https://cgimaryland.org/event/weekly-sabbath-service_09-09-23/
END:VEVENT
BEGIN:VEVENT
DTSTART;TZID=UTC:20230902T134500
DTEND;TZID=UTC:20230902T160000
DTSTAMP:20260425T095515
CREATED:20230814T071735Z
LAST-MODIFIED:20230814T071905Z
UID:1534-1693662300-1693670400@cgimaryland.org
SUMMARY:Weekly Sabbath Service
DESCRIPTION:Speaker: TBD \n\n\n\nTopic: TBD \n\n\n\nCasey Community Center\n\n\n\n810 S. Frederick Ave\, 1st Floor: Gaither RoomGaithersburg\, Maryland 20877United States+ Google Map \n\n\n\n\n\nYou can join the meeting from your computer\, tablet\, or smartphone. https://meet.goto.com/cgimaryland/sabbath_service_new You can also dial in using your phone. United States: +1 (872) 240-3412 Access Code: 300-519-741 Get the app now and be ready when the meeting starts: https://meet.goto.com/install 
URL:https://cgimaryland.org/event/weekly-sabbath-service_09-02-23/
END:VEVENT
BEGIN:VEVENT
DTSTART;TZID=UTC:20230826T134500
DTEND;TZID=UTC:20230826T160000
DTSTAMP:20260425T095515
CREATED:20230715T183714Z
LAST-MODIFIED:20230814T071439Z
UID:1490-1693057500-1693065600@cgimaryland.org
SUMMARY:Online Bible Study Service
DESCRIPTION:Speaker: Elder Michael Reis \n\n\n\nTopic: Semi-Annual Church Meeting
URL:https://cgimaryland.org/event/online-bible-study-08-26-23/
END:VEVENT
BEGIN:VEVENT
DTSTART;TZID=UTC:20230819T134500
DTEND;TZID=UTC:20230819T160000
DTSTAMP:20260425T095515
CREATED:20230814T071136Z
LAST-MODIFIED:20230814T071235Z
UID:1530-1692452700-1692460800@cgimaryland.org
SUMMARY:Weekly Sabbath Service
DESCRIPTION:Speaker: Elder Michael Reis \n\n\n\nTopic: TBD \n\n\n\nCasey Community Center\n\n\n\n810 S. Frederick Ave\, 1st Floor: Gaither RoomGaithersburg\, Maryland 20877United States+ Google Map \n\n\n\n\n\nYou can join the meeting from your computer\, tablet\, or smartphone. https://meet.goto.com/cgimaryland/sabbath_service_new You can also dial in using your phone. United States: +1 (872) 240-3412 Access Code: 300-519-741 Get the app now and be ready when the meeting starts: https://meet.goto.com/install 
URL:https://cgimaryland.org/event/weekly-sabbath-service_08-12-23-copy/
END:VEVENT
BEGIN:VEVENT
DTSTART;TZID=UTC:20230812T134500
DTEND;TZID=UTC:20230812T160000
DTSTAMP:20260425T095515
CREATED:20230715T183404Z
LAST-MODIFIED:20230715T183700Z
UID:1485-1691847900-1691856000@cgimaryland.org
SUMMARY:Weekly Sabbath Service
DESCRIPTION:Speaker: TBD \n\n\n\nTopic: TBD \n\n\n\nCasey Community Center\n\n\n\n810 S. Frederick Ave\, 1st Floor: Gaither RoomGaithersburg\, Maryland 20877United States+ Google Map \n\n\n\n\n\nYou can join the meeting from your computer\, tablet\, or smartphone. https://meet.goto.com/cgimaryland/sabbath_service_new You can also dial in using your phone. United States: +1 (872) 240-3412 Access Code: 300-519-741 Get the app now and be ready when the meeting starts: https://meet.goto.com/install 
URL:https://cgimaryland.org/event/weekly-sabbath-service_08-12-23/
END:VEVENT
BEGIN:VEVENT
DTSTART;TZID=UTC:20230805T134500
DTEND;TZID=UTC:20230805T160000
DTSTAMP:20260425T095515
CREATED:20230715T183401Z
LAST-MODIFIED:20230715T183523Z
UID:1484-1691243100-1691251200@cgimaryland.org
SUMMARY:Weekly Sabbath Service
DESCRIPTION:Speaker: TBD \n\n\n\nTopic: TBD \n\n\n\nCasey Community Center\n\n\n\n810 S. Frederick Ave\, 1st Floor: Gaither RoomGaithersburg\, Maryland 20877United States+ Google Map \n\n\n\n\n\nYou can join the meeting from your computer\, tablet\, or smartphone. https://meet.goto.com/cgimaryland/sabbath_service_new You can also dial in using your phone. United States: +1 (872) 240-3412 Access Code: 300-519-741 Get the app now and be ready when the meeting starts: https://meet.goto.com/install 
URL:https://cgimaryland.org/event/weekly-sabbath-service_08-05-23/
END:VEVENT
BEGIN:VEVENT
DTSTART;TZID=UTC:20230722T134500
DTEND;TZID=UTC:20230722T160000
DTSTAMP:20260425T095515
CREATED:20230715T182754Z
LAST-MODIFIED:20230715T183353Z
UID:1475-1690033500-1690041600@cgimaryland.org
SUMMARY:Online Bible Study Service
DESCRIPTION:Speaker: TBD \n\n\n\nTopic: TBD \n\n\n\n\n\nYou can join the meeting from your computer\, tablet\, or smartphone. https://meet.goto.com/cgimaryland/sabbath_service_new You can also dial in using your phone. United States: +1 (872) 240-3412 Access Code: 300-519-741 Get the app now and be ready when the meeting starts: https://meet.goto.com/install 
URL:https://cgimaryland.org/event/online-bible-study-07-22-23/
END:VEVENT
BEGIN:VEVENT
DTSTART;TZID=UTC:20230715T134500
DTEND;TZID=UTC:20230715T160000
DTSTAMP:20260425T095515
CREATED:20230715T183103Z
LAST-MODIFIED:20230715T183222Z
UID:1479-1689428700-1689436800@cgimaryland.org
SUMMARY:Weekly Sabbath Service
DESCRIPTION:Speaker: Deacon Tom Bettinger \n\n\n\nTopic: Are the Called Special \n\n\n\nCasey Community Center\n\n\n\n810 S. Frederick Ave\, 1st Floor: Gaither RoomGaithersburg\, Maryland 20877United States+ Google Map \n\n\n\n\n\nYou can join the meeting from your computer\, tablet\, or smartphone. https://meet.goto.com/cgimaryland/sabbath_service_new You can also dial in using your phone. United States: +1 (872) 240-3412 Access Code: 300-519-741 Get the app now and be ready when the meeting starts: https://meet.goto.com/install 
URL:https://cgimaryland.org/event/weekly-sabbath-service_07-15-23/
END:VEVENT
BEGIN:VEVENT
DTSTART;TZID=UTC:20230708T134500
DTEND;TZID=UTC:20230708T160000
DTSTAMP:20260425T095515
CREATED:20230715T182747Z
LAST-MODIFIED:20230715T185426Z
UID:1474-1688823900-1688832000@cgimaryland.org
SUMMARY:Weekly Sabbath Service
DESCRIPTION:Speaker: Chris Westberg (SDA Guest) \n\n\n\nTopic: What Israel Is Today \n\n\n\nCasey Community Center\n\n\n\n810 S. Frederick Ave\, 1st Floor: Gaither RoomGaithersburg\, Maryland 20877United States+ Google Map \n\n\n\n\n\nYou can join the meeting from your computer\, tablet\, or smartphone. https://meet.goto.com/cgimaryland/sabbath_service_new You can also dial in using your phone. United States: +1 (872) 240-3412 Access Code: 300-519-741 Get the app now and be ready when the meeting starts: https://meet.goto.com/install 
URL:https://cgimaryland.org/event/weekly-sabbath-service_07-08-23/
END:VEVENT
BEGIN:VEVENT
DTSTART;TZID=UTC:20230701T134500
DTEND;TZID=UTC:20230701T160000
DTSTAMP:20260425T095515
CREATED:20230715T182743Z
LAST-MODIFIED:20230715T185540Z
UID:1473-1688219100-1688227200@cgimaryland.org
SUMMARY:Weekly Sabbath Service
DESCRIPTION:Speaker: Timothy Maggenti \n\n\n\nTopic: Getting out of Babylon – Modern Babylon \n\n\n\nCasey Community Center\n\n\n\n810 S. Frederick Ave\, 1st Floor: Gaither RoomGaithersburg\, Maryland 20877United States+ Google Map \n\n\n\n\n\nYou can join the meeting from your computer\, tablet\, or smartphone. https://meet.goto.com/cgimaryland/sabbath_service_new You can also dial in using your phone. United States: +1 (872) 240-3412 Access Code: 300-519-741 Get the app now and be ready when the meeting starts: https://meet.goto.com/install 
URL:https://cgimaryland.org/event/weekly-sabbath-service_06-17-23-copy/
END:VEVENT
BEGIN:VEVENT
DTSTART;TZID=UTC:20230624T134500
DTEND;TZID=UTC:20230624T160000
DTSTAMP:20260425T095515
CREATED:20230527T184525Z
LAST-MODIFIED:20230527T184656Z
UID:1417-1687614300-1687622400@cgimaryland.org
SUMMARY:Online Bible Study Service
DESCRIPTION:Speaker: TBD \n\n\n\nTopic: TBD \n\n\n\n\n\nYou can join the meeting from your computer\, tablet\, or smartphone. https://meet.goto.com/cgimaryland/sabbath_service_new You can also dial in using your phone. United States: +1 (872) 240-3412 Access Code: 300-519-741 Get the app now and be ready when the meeting starts: https://meet.goto.com/install 
URL:https://cgimaryland.org/event/online-bible-study-06-24-23/
END:VEVENT
BEGIN:VEVENT
DTSTART;TZID=UTC:20230617T134500
DTEND;TZID=UTC:20230617T160000
DTSTAMP:20260425T095515
CREATED:20230527T184409Z
LAST-MODIFIED:20230715T190736Z
UID:1415-1687009500-1687017600@cgimaryland.org
SUMMARY:Weekly Sabbath Service
DESCRIPTION:Speaker: Elder Michael Reis \n\n\n\nTopic: End Times Blessings \n\n\n\nCasey Community Center\n\n\n\n810 S. Frederick Ave\, 1st Floor: Gaither RoomGaithersburg\, Maryland 20877United States+ Google Map \n\n\n\n\n\nYou can join the meeting from your computer\, tablet\, or smartphone. https://meet.goto.com/cgimaryland/sabbath_service_new You can also dial in using your phone. United States: +1 (872) 240-3412 Access Code: 300-519-741 Get the app now and be ready when the meeting starts: https://meet.goto.com/install 
URL:https://cgimaryland.org/event/weekly-sabbath-service_06-17-23/
END:VEVENT
BEGIN:VEVENT
DTSTART;TZID=UTC:20230610T134500
DTEND;TZID=UTC:20230610T160000
DTSTAMP:20260425T095515
CREATED:20230527T184306Z
LAST-MODIFIED:20230715T190236Z
UID:1413-1686404700-1686412800@cgimaryland.org
SUMMARY:Weekly Sabbath Service
DESCRIPTION:Speaker: Errol Francis \n\n\n\nTopic: The End Time Group \n\n\n\nCasey Community Center\n\n\n\n810 S. Frederick Ave\, 1st Floor: Gaither RoomGaithersburg\, Maryland 20877United States+ Google Map \n\n\n\n\n\nYou can join the meeting from your computer\, tablet\, or smartphone. https://meet.goto.com/cgimaryland/sabbath_service_new You can also dial in using your phone. United States: +1 (872) 240-3412 Access Code: 300-519-741 Get the app now and be ready when the meeting starts: https://meet.goto.com/install 
URL:https://cgimaryland.org/event/weekly-sabbath-service_06-10-23/
END:VEVENT
BEGIN:VEVENT
DTSTART;TZID=UTC:20230603T134500
DTEND;TZID=UTC:20230603T160000
DTSTAMP:20260425T095515
CREATED:20230527T184126Z
LAST-MODIFIED:20230715T191850Z
UID:1410-1685799900-1685808000@cgimaryland.org
SUMMARY:Weekly Sabbath Service
DESCRIPTION:Speaker: George James \n\n\n\nTopic: End Time Signs \n\n\n\nCasey Community Center\n\n\n\n810 S. Frederick Ave\, 1st Floor: Gaither RoomGaithersburg\, Maryland 20877United States+ Google Map \n\n\n\n\n\nYou can join the meeting from your computer\, tablet\, or smartphone. https://meet.goto.com/cgimaryland/sabbath_service_new You can also dial in using your phone. United States: +1 (872) 240-3412 Access Code: 300-519-741 Get the app now and be ready when the meeting starts: https://meet.goto.com/install 
URL:https://cgimaryland.org/event/weekly-sabbath-service_06-03-23/
END:VEVENT
BEGIN:VEVENT
DTSTART;TZID=UTC:20230528T130000
DTEND;TZID=UTC:20230528T160000
DTSTAMP:20260425T095515
CREATED:20230527T182835Z
LAST-MODIFIED:20230715T191720Z
UID:1407-1685278800-1685289600@cgimaryland.org
SUMMARY:The Feast of Pentecost
DESCRIPTION:Speaker: Deacon Tom Bettinger \n\n\n\nTopic: Why You Are Here \n\n\n\nThe Activity Center at Bohrer Park\n\n\n\n506 S. Frederick Ave – Activity Room A (1st Floor)Gaithersburg\, Maryland 20877United States+ Google Map \n\n\n\n\n\nYou can join the meeting from your computer\, tablet\, or smartphone. https://meet.goto.com/cgimaryland/sabbath_service_new You can also dial in using your phone. United States: +1 (872) 240-3412 Access Code: 300-519-741 Get the app now and be ready when the meeting starts: https://meet.goto.com/install 
URL:https://cgimaryland.org/event/the-feast-of-pentecost_05-28-23/
END:VEVENT
BEGIN:VEVENT
DTSTART;TZID=UTC:20230527T134500
DTEND;TZID=UTC:20230527T160000
DTSTAMP:20260425T095515
CREATED:20230415T180752Z
LAST-MODIFIED:20230715T191555Z
UID:1365-1685195100-1685203200@cgimaryland.org
SUMMARY:Online Bible Study Service
DESCRIPTION:Speaker: Deacon Tom Bettinger \n\n\n\nTopic: The Final Countdown \n\n\n\n\n\nYou can join the meeting from your computer\, tablet\, or smartphone. https://meet.goto.com/cgimaryland/sabbath_service_new You can also dial in using your phone. United States: +1 (872) 240-3412 Access Code: 300-519-741 Get the app now and be ready when the meeting starts: https://meet.goto.com/install 
URL:https://cgimaryland.org/event/online-bible-study-05-27-23/
END:VEVENT
BEGIN:VEVENT
DTSTART;TZID=UTC:20230520T134500
DTEND;TZID=UTC:20230520T160000
DTSTAMP:20260425T095515
CREATED:20230415T180711Z
LAST-MODIFIED:20230715T191501Z
UID:1363-1684590300-1684598400@cgimaryland.org
SUMMARY:Weekly Sabbath Service
DESCRIPTION:Speaker: Elder Michael Reis \n\n\n\nTopic: The Wilderness of the People \n\n\n\nCasey Community Center\n\n\n\n810 S. Frederick Ave\, 2nd Floor: Aspen RoomGaithersburg\, Maryland 20877United States+ Google Map \n\n\n\n\n\nYou can join the meeting from your computer\, tablet\, or smartphone. https://meet.goto.com/cgimaryland/sabbath_service_new You can also dial in using your phone. United States: +1 (872) 240-3412 Access Code: 300-519-741 Get the app now and be ready when the meeting starts: https://meet.goto.com/install 
URL:https://cgimaryland.org/event/weekly-sabbath-service_05-20-23/
END:VEVENT
BEGIN:VEVENT
DTSTART;TZID=UTC:20230513T134500
DTEND;TZID=UTC:20230513T160000
DTSTAMP:20260425T095515
CREATED:20230415T180610Z
LAST-MODIFIED:20230715T191226Z
UID:1361-1683985500-1683993600@cgimaryland.org
SUMMARY:Weekly Sabbath Service
DESCRIPTION:Speaker: Chris Westberg (SDA Guest) \n\n\n\nTopic: Revelation Sums It Up \n\n\n\nCasey Community Center\n\n\n\n810 S. Frederick Ave\, 2nd Floor: Aspen RoomGaithersburg\, Maryland 20877United States+ Google Map \n\n\n\n\n\nYou can join the meeting from your computer\, tablet\, or smartphone. https://meet.goto.com/cgimaryland/sabbath_service_new You can also dial in using your phone. United States: +1 (872) 240-3412 Access Code: 300-519-741 Get the app now and be ready when the meeting starts: https://meet.goto.com/install 
URL:https://cgimaryland.org/event/weekly-sabbath-service_05-13-23/
END:VEVENT
BEGIN:VEVENT
DTSTART;TZID=UTC:20230506T134500
DTEND;TZID=UTC:20230506T160000
DTSTAMP:20260425T095515
CREATED:20230415T180423Z
LAST-MODIFIED:20230715T191306Z
UID:1358-1683380700-1683388800@cgimaryland.org
SUMMARY:Weekly Sabbath Service
DESCRIPTION:Speaker: Elder Mark Rusinko (Guest) \n\n\n\nTopic: The End Time \n\n\n\nCasey Community Center\n\n\n\n810 S. Frederick Ave\, 2nd Floor: Aspen RoomGaithersburg\, Maryland 20877United States+ Google Map \n\n\n\n\n\nYou can join the meeting from your computer\, tablet\, or smartphone. https://meet.goto.com/cgimaryland/sabbath_service_new You can also dial in using your phone. United States: +1 (872) 240-3412 Access Code: 300-519-741 Get the app now and be ready when the meeting starts: https://meet.goto.com/install 
URL:https://cgimaryland.org/event/weekly-sabbath-service_05_06_23/
END:VEVENT
BEGIN:VEVENT
DTSTART;TZID=UTC:20230422T134500
DTEND;TZID=UTC:20230422T160000
DTSTAMP:20260425T095515
CREATED:20230415T180237Z
LAST-MODIFIED:20230415T180359Z
UID:1355-1682171100-1682179200@cgimaryland.org
SUMMARY:Online Bible Study Service
DESCRIPTION:Speaker: TBD \n\n\n\nTopic: TBD \n\n\n\n\n\nYou can join the meeting from your computer\, tablet\, or smartphone. https://meet.goto.com/cgimaryland/sabbath_service_new You can also dial in using your phone. United States: +1 (872) 240-3412 Access Code: 300-519-741 Get the app now and be ready when the meeting starts: https://meet.goto.com/install 
URL:https://cgimaryland.org/event/online-bible-study-04-22-23/
END:VEVENT
BEGIN:VEVENT
DTSTART;TZID=UTC:20230415T134500
DTEND;TZID=UTC:20230415T160000
DTSTAMP:20260425T095515
CREATED:20230415T180006Z
LAST-MODIFIED:20230415T180224Z
UID:1352-1681566300-1681574400@cgimaryland.org
SUMMARY:Weekly Sabbath Service
DESCRIPTION:Speaker: Timothy Maggenti \n\n\n\nTopic: The Last Days Bible Count Down \n\n\n\nCasey Community Center\n\n\n\n810 S. Frederick Ave\, 2nd Floor: Aspen RoomGaithersburg\, Maryland 20877United States+ Google Map \n\n\n\n\n\nYou can join the meeting from your computer\, tablet\, or smartphone. https://meet.goto.com/cgimaryland/sabbath_service_new You can also dial in using your phone. United States: +1 (872) 240-3412 Access Code: 300-519-741 Get the app now and be ready when the meeting starts: https://meet.goto.com/install 
URL:https://cgimaryland.org/event/weekly-sabbath-service_04_08_23-copy/
END:VEVENT
BEGIN:VEVENT
DTSTART;TZID=UTC:20230412T133000
DTEND;TZID=UTC:20230412T160000
DTSTAMP:20260425T095515
CREATED:20230405T074608Z
LAST-MODIFIED:20230405T074935Z
UID:1324-1681306200-1681315200@cgimaryland.org
SUMMARY:Last Day of Unleavened Bread
DESCRIPTION:Speaker: Deacon Tom Bettinger \n\n\n\nTopic: Last Day of Unleavened Bread \n\n\n\nCasey Community Center\n\n\n\n810 S. Frederick Ave – Gaither Room (1st Floor)Gaithersburg\, Maryland 20877United States+ Google Map \n\n\n\n\n\nYou can join the meeting from your computer\, tablet\, or smartphone. https://meet.goto.com/cgimaryland/sabbath_service_new You can also dial in using your phone. United States: +1 (872) 240-3412 Access Code: 300-519-741 Get the app now and be ready when the meeting starts: https://meet.goto.com/install 
URL:https://cgimaryland.org/event/last-day-of-unleavened-bread/
END:VEVENT
BEGIN:VEVENT
DTSTART;TZID=UTC:20230408T134500
DTEND;TZID=UTC:20230408T160000
DTSTAMP:20260425T095515
CREATED:20230405T075147Z
LAST-MODIFIED:20230405T075345Z
UID:1330-1680961500-1680969600@cgimaryland.org
SUMMARY:Weekly Sabbath Service
DESCRIPTION:Speaker: Errol Francis \n\n\n\nTopic: Signs of the End Times \n\n\n\nCasey Community Center\n\n\n\n810 S. Frederick AveGaithersburg\, Maryland 20877United States+ Google Map \n\n\n\n\n\nYou can join the meeting from your computer\, tablet\, or smartphone. https://meet.goto.com/cgimaryland/sabbath_service_new You can also dial in using your phone. United States: +1 (872) 240-3412 Access Code: 300-519-741 Get the app now and be ready when the meeting starts: https://meet.goto.com/install 
URL:https://cgimaryland.org/event/weekly-sabbath-service_04_08_23/
END:VEVENT
BEGIN:VEVENT
DTSTART;TZID=UTC:20230406T133000
DTEND;TZID=UTC:20230406T160000
DTSTAMP:20260425T095515
CREATED:20230405T073742Z
LAST-MODIFIED:20230405T075105Z
UID:1321-1680787800-1680796800@cgimaryland.org
SUMMARY:First Day of Unleavened Bread
DESCRIPTION:Speaker: Elder Michael Reis \n\n\n\nTopic: This Hour for this Cause \n\n\n\nCasey Community Center\n\n\n\n810 S. Frederick Ave – Gaither Room (1st Floor)Gaithersburg\, Maryland 20877United States+ Google Map \n\n\n\n\n\nYou can join the meeting from your computer\, tablet\, or smartphone. https://meet.goto.com/cgimaryland/sabbath_service_new You can also dial in using your phone. United States: +1 (872) 240-3412 Access Code: 300-519-741 Get the app now and be ready when the meeting starts: https://meet.goto.com/install 
URL:https://cgimaryland.org/event/first-day-of-unleavened-bread/
END:VEVENT
END:VCALENDAR