BEGIN:VCALENDAR
VERSION:2.0
PRODID:-//Church of God International, Gaithersburg, Maryland - ECPv6.15.20//NONSGML v1.0//EN
CALSCALE:GREGORIAN
METHOD:PUBLISH
X-ORIGINAL-URL:https://cgimaryland.org
X-WR-CALDESC:Events for Church of God International, Gaithersburg, Maryland
REFRESH-INTERVAL;VALUE=DURATION:PT1H
X-Robots-Tag:noindex
X-PUBLISHED-TTL:PT1H
BEGIN:VTIMEZONE
TZID:America/New_York
BEGIN:DAYLIGHT
TZOFFSETFROM:-0500
TZOFFSETTO:-0400
TZNAME:EDT
DTSTART:20250309T070000
END:DAYLIGHT
BEGIN:STANDARD
TZOFFSETFROM:-0400
TZOFFSETTO:-0500
TZNAME:EST
DTSTART:20251102T060000
END:STANDARD
BEGIN:DAYLIGHT
TZOFFSETFROM:-0500
TZOFFSETTO:-0400
TZNAME:EDT
DTSTART:20260308T070000
END:DAYLIGHT
BEGIN:STANDARD
TZOFFSETFROM:-0400
TZOFFSETTO:-0500
TZNAME:EST
DTSTART:20261101T060000
END:STANDARD
BEGIN:DAYLIGHT
TZOFFSETFROM:-0500
TZOFFSETTO:-0400
TZNAME:EDT
DTSTART:20270314T070000
END:DAYLIGHT
BEGIN:STANDARD
TZOFFSETFROM:-0400
TZOFFSETTO:-0500
TZNAME:EST
DTSTART:20271107T060000
END:STANDARD
END:VTIMEZONE
BEGIN:VTIMEZONE
TZID:UTC
BEGIN:STANDARD
TZOFFSETFROM:+0000
TZOFFSETTO:+0000
TZNAME:UTC
DTSTART:20250101T000000
END:STANDARD
END:VTIMEZONE
BEGIN:VEVENT
DTSTART;TZID=America/New_York:20260403T191500
DTEND;TZID=America/New_York:20260403T201500
DTSTAMP:20260424T070012
CREATED:20260214T230656Z
LAST-MODIFIED:20260214T231108Z
UID:3010-1775243700-1775247300@cgimaryland.org
SUMMARY:Friday Night Prayer Service
DESCRIPTION:You can join the prayer service from your computer\, tablet\, or smartphone. https://meet.goto.com/cgimaryland/sabbath_service_new You can also dial in using your phone. United States: +1 (872) 240-3412 Access Code: 300-519-741 Get the app now and be ready when the meeting starts: https://meet.goto.com/install 
URL:https://cgimaryland.org/event/friday-night-prayer-service-04-03-26/
END:VEVENT
BEGIN:VEVENT
DTSTART;TZID=UTC:20260404T134500
DTEND;TZID=UTC:20260404T160000
DTSTAMP:20260424T070012
CREATED:20260320T233832Z
LAST-MODIFIED:20260404T001327Z
UID:3029-1775310300-1775318400@cgimaryland.org
SUMMARY:Weekly Sabbath Service
DESCRIPTION:Speaker: Elder Michael Reis \n\n\n\nTopic: Yeshua’s Resurrection was not on a Sunday  \n\n\n\n\n\nYou can join the meeting from your computer\, tablet\, or smartphone. https://meet.goto.com/cgimaryland/sabbath_service_new You can also dial in using your phone. United States: +1 (872) 240-3412 Access Code: 300-519-741 Get the app now and be ready when the meeting starts: https://meet.goto.com/install  \n\n\n\n \n\n\n\n\n810 S. Frederick Ave\, 2nd Floor: Aspen RoomGaithersburg\, Maryland 20877United States+ Google Map
URL:https://cgimaryland.org/event/weekly-sabbath-service-04-04-26/
END:VEVENT
BEGIN:VEVENT
DTSTART;TZID=UTC:20260408T134500
DTEND;TZID=UTC:20260408T160000
DTSTAMP:20260424T070012
CREATED:20260321T040213Z
LAST-MODIFIED:20260321T040819Z
UID:3051-1775655900-1775664000@cgimaryland.org
SUMMARY:Last Day of Unleavened Bread - 2026
DESCRIPTION:Speaker: Elder Michael Reis \n\n\n\nTopic: Sin   \n\n\n\nYou can join the meeting from your computer\, tablet\, or smartphone. https://meet.goto.com/cgimaryland/sabbath_service_new You can also dial in using your phone. United States: +1 (872) 240-3412 Access Code: 300-519-741 Get the app now and be ready when the meeting starts: https://meet.goto.com/install  \n\n\n\n \n\n\n\n810 S. Frederick Ave\, 2nd Floor: Aspen RoomGaithersburg\, Maryland 20877United States+ Google Map
URL:https://cgimaryland.org/event/last-day-of-unleavened-bread-2026/
END:VEVENT
BEGIN:VEVENT
DTSTART;TZID=America/New_York:20260410T191500
DTEND;TZID=America/New_York:20260410T201500
DTSTAMP:20260424T070012
CREATED:20260321T033828Z
LAST-MODIFIED:20260321T033914Z
UID:3038-1775848500-1775852100@cgimaryland.org
SUMMARY:Friday Night Prayer Service
DESCRIPTION:You can join the prayer service from your computer\, tablet\, or smartphone. https://meet.goto.com/cgimaryland/sabbath_service_new You can also dial in using your phone. United States: +1 (872) 240-3412 Access Code: 300-519-741 Get the app now and be ready when the meeting starts: https://meet.goto.com/install 
URL:https://cgimaryland.org/event/friday-night-prayer-service-04-10-26/
END:VEVENT
BEGIN:VEVENT
DTSTART;TZID=UTC:20260411T134500
DTEND;TZID=UTC:20260411T160000
DTSTAMP:20260424T070012
CREATED:20260320T233336Z
LAST-MODIFIED:20260320T233621Z
UID:3025-1775915100-1775923200@cgimaryland.org
SUMMARY:Weekly Sabbath Service
DESCRIPTION:Speaker: TBD \n\n\n\nTopic: TBD \n\n\n\n\n\nYou can join the meeting from your computer\, tablet\, or smartphone. https://meet.goto.com/cgimaryland/sabbath_service_new You can also dial in using your phone. United States: +1 (872) 240-3412 Access Code: 300-519-741 Get the app now and be ready when the meeting starts: https://meet.goto.com/install  \n\n\n\n \n\n\n\n\n810 S. Frederick Ave\, 2nd Floor: Aspen RoomGaithersburg\, Maryland 20877United States+ Google Map
URL:https://cgimaryland.org/event/weekly-sabbath-service-04-11-26/
END:VEVENT
BEGIN:VEVENT
DTSTART;TZID=America/New_York:20260417T191500
DTEND;TZID=America/New_York:20260417T201500
DTSTAMP:20260424T070012
CREATED:20260321T033951Z
LAST-MODIFIED:20260321T034405Z
UID:3040-1776453300-1776456900@cgimaryland.org
SUMMARY:Friday Night Prayer Service
DESCRIPTION:You can join the prayer service from your computer\, tablet\, or smartphone. https://meet.goto.com/cgimaryland/sabbath_service_new You can also dial in using your phone. United States: +1 (872) 240-3412 Access Code: 300-519-741 Get the app now and be ready when the meeting starts: https://meet.goto.com/install 
URL:https://cgimaryland.org/event/friday-night-prayer-service-04-17-26/
END:VEVENT
BEGIN:VEVENT
DTSTART;TZID=UTC:20260418T134500
DTEND;TZID=UTC:20260418T160000
DTSTAMP:20260424T070012
CREATED:20260321T034314Z
LAST-MODIFIED:20260321T034338Z
UID:3044-1776519900-1776528000@cgimaryland.org
SUMMARY:Weekly Sabbath Service
DESCRIPTION:Speaker: TBD \n\n\n\nTopic: TBD \n\n\n\n\n\nYou can join the meeting from your computer\, tablet\, or smartphone. https://meet.goto.com/cgimaryland/sabbath_service_new You can also dial in using your phone. United States: +1 (872) 240-3412 Access Code: 300-519-741 Get the app now and be ready when the meeting starts: https://meet.goto.com/install  \n\n\n\n \n\n\n\n\n810 S. Frederick Ave\, 2nd Floor: Aspen RoomGaithersburg\, Maryland 20877United States+ Google Map
URL:https://cgimaryland.org/event/weekly-sabbath-service-04-18-26/
END:VEVENT
BEGIN:VEVENT
DTSTART;TZID=America/New_York:20260424T191500
DTEND;TZID=America/New_York:20260424T201500
DTSTAMP:20260424T070012
CREATED:20260321T034128Z
LAST-MODIFIED:20260321T034150Z
UID:3042-1777058100-1777061700@cgimaryland.org
SUMMARY:Friday Night Prayer Service
DESCRIPTION:You can join the prayer service from your computer\, tablet\, or smartphone. https://meet.goto.com/cgimaryland/sabbath_service_new You can also dial in using your phone. United States: +1 (872) 240-3412 Access Code: 300-519-741 Get the app now and be ready when the meeting starts: https://meet.goto.com/install 
URL:https://cgimaryland.org/event/friday-night-prayer-service-04-24-26/
END:VEVENT
BEGIN:VEVENT
DTSTART;TZID=UTC:20260425T134500
DTEND;TZID=UTC:20260425T160000
DTSTAMP:20260424T070012
CREATED:20260321T034448Z
LAST-MODIFIED:20260402T183229Z
UID:3046-1777124700-1777132800@cgimaryland.org
SUMMARY:Online Bible Study
DESCRIPTION:Speaker: TBD \n\n\n\nTopic: TBD \n\n\n\n\n\nYou can join the meeting from your computer\, tablet\, or smartphone. https://meet.goto.com/cgimaryland/sabbath_service_new You can also dial in using your phone. United States: +1 (872) 240-3412 Access Code: 300-519-741 Get the app now and be ready when the meeting starts: https://meet.goto.com/install 
URL:https://cgimaryland.org/event/online-bible-study-04-25-26/
END:VEVENT
BEGIN:VEVENT
DTSTART;TZID=America/New_York:20260501T191500
DTEND;TZID=America/New_York:20260501T201500
DTSTAMP:20260424T070012
CREATED:20260424T012735Z
LAST-MODIFIED:20260424T014701Z
UID:3142-1777662900-1777666500@cgimaryland.org
SUMMARY:Friday Night Prayer Service
DESCRIPTION:You can join the prayer service from your computer\, tablet\, or smartphone. https://meet.goto.com/cgimaryland/sabbath_service_new You can also dial in using your phone. United States: +1 (872) 240-3412 Access Code: 300-519-741 Get the app now and be ready when the meeting starts: https://meet.goto.com/install 
URL:https://cgimaryland.org/event/friday-night-prayer-service-05-01-26/
END:VEVENT
BEGIN:VEVENT
DTSTART;TZID=UTC:20260502T134500
DTEND;TZID=UTC:20260502T160000
DTSTAMP:20260424T070012
CREATED:20260424T013139Z
LAST-MODIFIED:20260424T013939Z
UID:3147-1777729500-1777737600@cgimaryland.org
SUMMARY:Weekly Sabbath Service
DESCRIPTION:Speaker: TBD \n\n\n\nTopic: TBD \n\n\n\n\n\nYou can join the meeting from your computer\, tablet\, or smartphone. https://meet.goto.com/cgimaryland/sabbath_service_new You can also dial in using your phone. United States: +1 (872) 240-3412 Access Code: 300-519-741 Get the app now and be ready when the meeting starts: https://meet.goto.com/install  \n\n\n\n \n\n\n\n\n810 S. Frederick Ave\, 2nd Floor: Aspen RoomGaithersburg\, Maryland 20877United States+ Google Map
URL:https://cgimaryland.org/event/weekly-sabbath-service-05-02-26/
END:VEVENT
BEGIN:VEVENT
DTSTART;TZID=America/New_York:20260508T191500
DTEND;TZID=America/New_York:20260508T201500
DTSTAMP:20260424T070012
CREATED:20260424T012744Z
LAST-MODIFIED:20260424T014756Z
UID:3143-1778267700-1778271300@cgimaryland.org
SUMMARY:Friday Night Prayer Service
DESCRIPTION:You can join the prayer service from your computer\, tablet\, or smartphone. https://meet.goto.com/cgimaryland/sabbath_service_new You can also dial in using your phone. United States: +1 (872) 240-3412 Access Code: 300-519-741 Get the app now and be ready when the meeting starts: https://meet.goto.com/install 
URL:https://cgimaryland.org/event/friday-night-prayer-service-05-08-26/
END:VEVENT
BEGIN:VEVENT
DTSTART;TZID=UTC:20260509T134500
DTEND;TZID=UTC:20260509T160000
DTSTAMP:20260424T070012
CREATED:20260424T013148Z
LAST-MODIFIED:20260424T014039Z
UID:3148-1778334300-1778342400@cgimaryland.org
SUMMARY:Weekly Sabbath Service
DESCRIPTION:Speaker: TBD \n\n\n\nTopic: TBD \n\n\n\n\n\nYou can join the meeting from your computer\, tablet\, or smartphone. https://meet.goto.com/cgimaryland/sabbath_service_new You can also dial in using your phone. United States: +1 (872) 240-3412 Access Code: 300-519-741 Get the app now and be ready when the meeting starts: https://meet.goto.com/install  \n\n\n\n \n\n\n\n\n810 S. Frederick Ave\, 2nd Floor: Aspen RoomGaithersburg\, Maryland 20877United States+ Google Map
URL:https://cgimaryland.org/event/weekly-sabbath-service-05-09-26/
END:VEVENT
BEGIN:VEVENT
DTSTART;TZID=America/New_York:20260515T191500
DTEND;TZID=America/New_York:20260515T201500
DTSTAMP:20260424T070012
CREATED:20260424T012753Z
LAST-MODIFIED:20260424T014845Z
UID:3144-1778872500-1778876100@cgimaryland.org
SUMMARY:Friday Night Prayer Service
DESCRIPTION:You can join the prayer service from your computer\, tablet\, or smartphone. https://meet.goto.com/cgimaryland/sabbath_service_new You can also dial in using your phone. United States: +1 (872) 240-3412 Access Code: 300-519-741 Get the app now and be ready when the meeting starts: https://meet.goto.com/install 
URL:https://cgimaryland.org/event/friday-night-prayer-service-05-15-26/
END:VEVENT
BEGIN:VEVENT
DTSTART;TZID=UTC:20260516T134500
DTEND;TZID=UTC:20260516T160000
DTSTAMP:20260424T070012
CREATED:20260424T013547Z
LAST-MODIFIED:20260424T014152Z
UID:3149-1778939100-1778947200@cgimaryland.org
SUMMARY:Weekly Sabbath Service
DESCRIPTION:Speaker: TBD \n\n\n\nTopic: TBD \n\n\n\n\n\nYou can join the meeting from your computer\, tablet\, or smartphone. https://meet.goto.com/cgimaryland/sabbath_service_new You can also dial in using your phone. United States: +1 (872) 240-3412 Access Code: 300-519-741 Get the app now and be ready when the meeting starts: https://meet.goto.com/install  \n\n\n\n \n\n\n\n\n810 S. Frederick Ave\, 2nd Floor: Aspen RoomGaithersburg\, Maryland 20877United States+ Google Map
URL:https://cgimaryland.org/event/weekly-sabbath-service-05-16-26/
END:VEVENT
BEGIN:VEVENT
DTSTART;TZID=America/New_York:20260522T191500
DTEND;TZID=America/New_York:20260522T201500
DTSTAMP:20260424T070012
CREATED:20260424T013111Z
LAST-MODIFIED:20260424T015002Z
UID:3145-1779477300-1779480900@cgimaryland.org
SUMMARY:Friday Night Prayer Service
DESCRIPTION:You can join the prayer service from your computer\, tablet\, or smartphone. https://meet.goto.com/cgimaryland/sabbath_service_new You can also dial in using your phone. United States: +1 (872) 240-3412 Access Code: 300-519-741 Get the app now and be ready when the meeting starts: https://meet.goto.com/install 
URL:https://cgimaryland.org/event/friday-night-prayer-service-05-22-26/
END:VEVENT
BEGIN:VEVENT
DTSTART;TZID=UTC:20260523T134500
DTEND;TZID=UTC:20260523T160000
DTSTAMP:20260424T070012
CREATED:20260424T012638Z
LAST-MODIFIED:20260424T015907Z
UID:3137-1779543900-1779552000@cgimaryland.org
SUMMARY:Online Bible Study
DESCRIPTION:Speaker: TBD \n\n\n\nTopic: TBD \n\n\n\n\n\nYou can join the meeting from your computer\, tablet\, or smartphone. https://meet.goto.com/cgimaryland/sabbath_service_new You can also dial in using your phone. United States: +1 (872) 240-3412 Access Code: 300-519-741 Get the app now and be ready when the meeting starts: https://meet.goto.com/install 
URL:https://cgimaryland.org/event/online-bible-study-05-23-26/
END:VEVENT
BEGIN:VEVENT
DTSTART;TZID=America/New_York:20260529T191500
DTEND;TZID=America/New_York:20260529T201500
DTSTAMP:20260424T070012
CREATED:20260424T013122Z
LAST-MODIFIED:20260424T015246Z
UID:3146-1780082100-1780085700@cgimaryland.org
SUMMARY:Friday Night Prayer Service
DESCRIPTION:You can join the prayer service from your computer\, tablet\, or smartphone. https://meet.goto.com/cgimaryland/sabbath_service_new You can also dial in using your phone. United States: +1 (872) 240-3412 Access Code: 300-519-741 Get the app now and be ready when the meeting starts: https://meet.goto.com/install 
URL:https://cgimaryland.org/event/friday-night-prayer-service-05-29-26/
END:VEVENT
BEGIN:VEVENT
DTSTART;TZID=America/New_York:20260605T191500
DTEND;TZID=America/New_York:20260605T201500
DTSTAMP:20260424T070012
CREATED:20260424T015502Z
LAST-MODIFIED:20260424T015544Z
UID:3162-1780686900-1780690500@cgimaryland.org
SUMMARY:Friday Night Prayer Service
DESCRIPTION:You can join the prayer service from your computer\, tablet\, or smartphone. https://meet.goto.com/cgimaryland/sabbath_service_new You can also dial in using your phone. United States: +1 (872) 240-3412 Access Code: 300-519-741 Get the app now and be ready when the meeting starts: https://meet.goto.com/install 
URL:https://cgimaryland.org/event/friday-night-prayer-service-06-05-26/
END:VEVENT
BEGIN:VEVENT
DTSTART;TZID=UTC:20260606T134500
DTEND;TZID=UTC:20260606T160000
DTSTAMP:20260424T070012
CREATED:20260424T013556Z
LAST-MODIFIED:20260424T014311Z
UID:3150-1780753500-1780761600@cgimaryland.org
SUMMARY:Weekly Sabbath Service
DESCRIPTION:Speaker: TBD \n\n\n\nTopic: TBD \n\n\n\n\n\nYou can join the meeting from your computer\, tablet\, or smartphone. https://meet.goto.com/cgimaryland/sabbath_service_new You can also dial in using your phone. United States: +1 (872) 240-3412 Access Code: 300-519-741 Get the app now and be ready when the meeting starts: https://meet.goto.com/install  \n\n\n\n \n\n\n\n\n810 S. Frederick Ave\, 2nd Floor: Aspen RoomGaithersburg\, Maryland 20877United States+ Google Map
URL:https://cgimaryland.org/event/weekly-sabbath-service-06-06-26/
END:VEVENT
BEGIN:VEVENT
DTSTART;TZID=America/New_York:20260612T191500
DTEND;TZID=America/New_York:20260612T201500
DTSTAMP:20260424T070012
CREATED:20260424T020152Z
LAST-MODIFIED:20260424T020221Z
UID:3166-1781291700-1781295300@cgimaryland.org
SUMMARY:Friday Night Prayer Service
DESCRIPTION:You can join the prayer service from your computer\, tablet\, or smartphone. https://meet.goto.com/cgimaryland/sabbath_service_new You can also dial in using your phone. United States: +1 (872) 240-3412 Access Code: 300-519-741 Get the app now and be ready when the meeting starts: https://meet.goto.com/install 
URL:https://cgimaryland.org/event/friday-night-prayer-service-05-29-26-copy/
END:VEVENT
BEGIN:VEVENT
DTSTART;TZID=UTC:20260613T134500
DTEND;TZID=UTC:20260613T160000
DTSTAMP:20260424T070012
CREATED:20260424T013719Z
LAST-MODIFIED:20260424T014415Z
UID:3151-1781358300-1781366400@cgimaryland.org
SUMMARY:Weekly Sabbath Service
DESCRIPTION:Speaker: TBD \n\n\n\nTopic: TBD \n\n\n\n\n\nYou can join the meeting from your computer\, tablet\, or smartphone. https://meet.goto.com/cgimaryland/sabbath_service_new You can also dial in using your phone. United States: +1 (872) 240-3412 Access Code: 300-519-741 Get the app now and be ready when the meeting starts: https://meet.goto.com/install  \n\n\n\n \n\n\n\n\n810 S. Frederick Ave\, 2nd Floor: Aspen RoomGaithersburg\, Maryland 20877United States+ Google Map
URL:https://cgimaryland.org/event/weekly-sabbath-service-06-13-26/
END:VEVENT
BEGIN:VEVENT
DTSTART;TZID=America/New_York:20260619T191500
DTEND;TZID=America/New_York:20260619T201500
DTSTAMP:20260424T070012
CREATED:20260424T020318Z
LAST-MODIFIED:20260424T020343Z
UID:3168-1781896500-1781900100@cgimaryland.org
SUMMARY:Friday Night Prayer Service
DESCRIPTION:You can join the prayer service from your computer\, tablet\, or smartphone. https://meet.goto.com/cgimaryland/sabbath_service_new You can also dial in using your phone. United States: +1 (872) 240-3412 Access Code: 300-519-741 Get the app now and be ready when the meeting starts: https://meet.goto.com/install 
URL:https://cgimaryland.org/event/friday-night-prayer-service-06-17-26/
END:VEVENT
BEGIN:VEVENT
DTSTART;TZID=UTC:20260620T134500
DTEND;TZID=UTC:20260620T160000
DTSTAMP:20260424T070012
CREATED:20260424T020428Z
LAST-MODIFIED:20260424T020459Z
UID:3170-1781963100-1781971200@cgimaryland.org
SUMMARY:Weekly Sabbath Service
DESCRIPTION:Speaker: TBD \n\n\n\nTopic: TBD \n\n\n\n\n\nYou can join the meeting from your computer\, tablet\, or smartphone. https://meet.goto.com/cgimaryland/sabbath_service_new You can also dial in using your phone. United States: +1 (872) 240-3412 Access Code: 300-519-741 Get the app now and be ready when the meeting starts: https://meet.goto.com/install  \n\n\n\n \n\n\n\n\n810 S. Frederick Ave\, 2nd Floor: Aspen RoomGaithersburg\, Maryland 20877United States+ Google Map
URL:https://cgimaryland.org/event/weekly-sabbath-service-06-20-26/
END:VEVENT
BEGIN:VEVENT
DTSTART;TZID=America/New_York:20260626T191500
DTEND;TZID=America/New_York:20260626T201500
DTSTAMP:20260424T070012
CREATED:20260424T020544Z
LAST-MODIFIED:20260424T020626Z
UID:3172-1782501300-1782504900@cgimaryland.org
SUMMARY:Friday Night Prayer Service
DESCRIPTION:You can join the prayer service from your computer\, tablet\, or smartphone. https://meet.goto.com/cgimaryland/sabbath_service_new You can also dial in using your phone. United States: +1 (872) 240-3412 Access Code: 300-519-741 Get the app now and be ready when the meeting starts: https://meet.goto.com/install 
URL:https://cgimaryland.org/event/friday-night-prayer-service-06-26-26/
END:VEVENT
BEGIN:VEVENT
DTSTART;TZID=UTC:20260627T134500
DTEND;TZID=UTC:20260627T160000
DTSTAMP:20260424T070012
CREATED:20260424T012648Z
LAST-MODIFIED:20260424T020127Z
UID:3138-1782567900-1782576000@cgimaryland.org
SUMMARY:Online Bible Study
DESCRIPTION:Speaker: TBD \n\n\n\nTopic: TBD \n\n\n\n\n\nYou can join the meeting from your computer\, tablet\, or smartphone. https://meet.goto.com/cgimaryland/sabbath_service_new You can also dial in using your phone. United States: +1 (872) 240-3412 Access Code: 300-519-741 Get the app now and be ready when the meeting starts: https://meet.goto.com/install 
URL:https://cgimaryland.org/event/online-bible-study-06-27-26/
END:VEVENT
END:VCALENDAR