BEGIN:VCALENDAR
VERSION:2.0
PRODID:-//Church of God International, Gaithersburg, Maryland - ECPv6.15.20//NONSGML v1.0//EN
CALSCALE:GREGORIAN
METHOD:PUBLISH
X-WR-CALNAME:Church of God International, Gaithersburg, Maryland
X-ORIGINAL-URL:https://cgimaryland.org
X-WR-CALDESC:Events for Church of God International, Gaithersburg, Maryland
REFRESH-INTERVAL;VALUE=DURATION:PT1H
X-Robots-Tag:noindex
X-PUBLISHED-TTL:PT1H
BEGIN:VTIMEZONE
TZID:UTC
BEGIN:STANDARD
TZOFFSETFROM:+0000
TZOFFSETTO:+0000
TZNAME:UTC
DTSTART:20210101T000000
END:STANDARD
END:VTIMEZONE
BEGIN:VEVENT
DTSTART;TZID=UTC:20230304T134500
DTEND;TZID=UTC:20230304T160000
DTSTAMP:20260425T102330
CREATED:20230107T061229Z
LAST-MODIFIED:20230307T045118Z
UID:1241-1677937500-1677945600@cgimaryland.org
SUMMARY:Weekly Sabbath Service
DESCRIPTION:Speaker: Elder Mark Rusinko (Philadelphia Guest) \n\n\n\nTopic: Statement of Beliefs #27 – Man’s Relationship with Man \n\n\n\nCasey Community Center\n\n\n\n810 S. Frederick AveGaithersburg\, Maryland 20877United States+ Google Map \n\n\n\n\n\nYou can join the meeting from your computer\, tablet\, or smartphone. https://meet.goto.com/cgimaryland/sabbath_service_new You can also dial in using your phone. United States: +1 (872) 240-3412 Access Code: 300-519-741 Get the app now and be ready when the meeting starts: https://meet.goto.com/install 
URL:https://cgimaryland.org/event/weekly-sabbath-service_03_04_23/
END:VEVENT
BEGIN:VEVENT
DTSTART;TZID=UTC:20230225T134500
DTEND;TZID=UTC:20230225T160000
DTSTAMP:20260425T102330
CREATED:20230107T061059Z
LAST-MODIFIED:20230107T061215Z
UID:1238-1677332700-1677340800@cgimaryland.org
SUMMARY:Online Bible Study Service
DESCRIPTION:Speaker: TBD \n\n\n\nTopic: TBD \n\n\n\n\n\nYou can join the meeting from your computer\, tablet\, or smartphone. https://meet.goto.com/cgimaryland/sabbath_service_new You can also dial in using your phone. United States: +1 (872) 240-3412 Access Code: 300-519-741 Get the app now and be ready when the meeting starts: https://meet.goto.com/install 
URL:https://cgimaryland.org/event/online-bible-study-02-25-23/
END:VEVENT
BEGIN:VEVENT
DTSTART;TZID=UTC:20230218T134500
DTEND;TZID=UTC:20230218T160000
DTSTAMP:20260425T102330
CREATED:20230107T060456Z
LAST-MODIFIED:20230107T060810Z
UID:1235-1676727900-1676736000@cgimaryland.org
SUMMARY:Weekly Sabbath Service
DESCRIPTION:Speaker: Timothy Maggenti \n\n\n\nTopic: Statement of Beliefs #31 – Fellowship \n\n\n\nCasey Community Center\n\n\n\n810 S. Frederick AveGaithersburg\, Maryland 20877United States+ Google Map \n\n\n\n\n\nYou can join the meeting from your computer\, tablet\, or smartphone. https://meet.goto.com/cgimaryland/sabbath_service_new You can also dial in using your phone. United States: +1 (872) 240-3412 Access Code: 300-519-741 Get the app now and be ready when the meeting starts: https://meet.goto.com/install 
URL:https://cgimaryland.org/event/weekly-sabbath-service_feb_18_23/
END:VEVENT
BEGIN:VEVENT
DTSTART;TZID=UTC:20230211T134500
DTEND;TZID=UTC:20230211T160000
DTSTAMP:20260425T102330
CREATED:20230107T060013Z
LAST-MODIFIED:20230215T170719Z
UID:1232-1676123100-1676131200@cgimaryland.org
SUMMARY:Weekly Sabbath Service
DESCRIPTION:Guest Speaker: Tom Bettinger \n\n\n\nTopic: What Does Yehovah Look Like? \n\n\n\nCasey Community Center\n\n\n\n810 S. Frederick AveGaithersburg\, Maryland 20877United States+ Google Map \n\n\n\n\n\nYou can join the meeting from your computer\, tablet\, or smartphone. https://meet.goto.com/cgimaryland/sabbath_service_new You can also dial in using your phone. United States: +1 (872) 240-3412 Access Code: 300-519-741 Get the app now and be ready when the meeting starts: https://meet.goto.com/install 
URL:https://cgimaryland.org/event/weekly-sabbath-service_feb_11_23/
END:VEVENT
BEGIN:VEVENT
DTSTART;TZID=UTC:20230204T134500
DTEND;TZID=UTC:20230204T160000
DTSTAMP:20260425T102330
CREATED:20230107T055351Z
LAST-MODIFIED:20230204T192305Z
UID:1227-1675518300-1675526400@cgimaryland.org
SUMMARY:Weekly Sabbath Service
DESCRIPTION:Speaker: Elder Michael Reis \n\n\n\nTopic: Statement of Beliefs #27 – Man’s Spiritual Relationship with God \n\n\n\nCasey Community Center\n\n\n\n810 S. Frederick AveGaithersburg\, Maryland 20877United States+ Google Map \n\n\n\n\n\nYou can join the meeting from your computer\, tablet\, or smartphone. https://meet.goto.com/cgimaryland/sabbath_service_new You can also dial in using your phone. United States: +1 (872) 240-3412 Access Code: 300-519-741 Get the app now and be ready when the meeting starts: https://meet.goto.com/install 
URL:https://cgimaryland.org/event/weekly-sabbath-service_feb_04_23/
END:VEVENT
BEGIN:VEVENT
DTSTART;TZID=UTC:20230128T134500
DTEND;TZID=UTC:20230128T160000
DTSTAMP:20260425T102330
CREATED:20230107T055218Z
LAST-MODIFIED:20230107T055412Z
UID:1224-1674913500-1674921600@cgimaryland.org
SUMMARY:Online Bible Study Service
DESCRIPTION:Speaker: TBD \n\n\n\nTopic: TBD \n\n\n\n\n\nYou can join the meeting from your computer\, tablet\, or smartphone. https://meet.goto.com/cgimaryland/sabbath_service_new You can also dial in using your phone. United States: +1 (872) 240-3412 Access Code: 300-519-741 Get the app now and be ready when the meeting starts: https://meet.goto.com/install 
URL:https://cgimaryland.org/event/online-bible-study-01-28-23/
END:VEVENT
BEGIN:VEVENT
DTSTART;TZID=UTC:20230121T134500
DTEND;TZID=UTC:20230121T160000
DTSTAMP:20260425T102330
CREATED:20221224T184349Z
LAST-MODIFIED:20230107T055941Z
UID:1206-1674308700-1674316800@cgimaryland.org
SUMMARY:Weekly Sabbath Service
DESCRIPTION:Guest Speaker: Elder Mike James (California) \n\n\n\nTopic: The Throne of David \n\n\n\nCasey Community Center\n\n\n\n810 S. Frederick AveGaithersburg\, Maryland 20877United States+ Google Map \n\n\n\n\n\nYou can join the meeting from your computer\, tablet\, or smartphone. https://meet.goto.com/cgimaryland/sabbath_service_new You can also dial in using your phone. United States: +1 (872) 240-3412 Access Code: 300-519-741 Get the app now and be ready when the meeting starts: https://meet.goto.com/install 
URL:https://cgimaryland.org/event/weekly-sabbath-service_jan_21_23/
END:VEVENT
BEGIN:VEVENT
DTSTART;TZID=UTC:20230114T134500
DTEND;TZID=UTC:20230114T160000
DTSTAMP:20260425T102330
CREATED:20221224T184210Z
LAST-MODIFIED:20221224T184338Z
UID:1203-1673703900-1673712000@cgimaryland.org
SUMMARY:Weekly Sabbath Service
DESCRIPTION:Speaker: George James \n\n\n\nTopic: Statement of Beliefs #20 – Tithing \n\n\n\nCasey Community Center\n\n\n\n810 S. Frederick AveGaithersburg\, Maryland 20877United States+ Google Map \n\n\n\n\n\nYou can join the meeting from your computer\, tablet\, or smartphone. https://meet.goto.com/cgimaryland/sabbath_service_new You can also dial in using your phone. United States: +1 (872) 240-3412 Access Code: 300-519-741 Get the app now and be ready when the meeting starts: https://meet.goto.com/install 
URL:https://cgimaryland.org/event/weekly-sabbath-service_jan_14_23/
END:VEVENT
BEGIN:VEVENT
DTSTART;TZID=UTC:20230107T134500
DTEND;TZID=UTC:20230107T160000
DTSTAMP:20260425T102330
CREATED:20221224T183753Z
LAST-MODIFIED:20221224T184156Z
UID:1200-1673099100-1673107200@cgimaryland.org
SUMMARY:Weekly Sabbath Service
DESCRIPTION:Speaker: Deacon Tom Bettinger \n\n\n\nTopic: Statement of Beliefs #19 – Annual Holy Days \n\n\n\nCasey Community Center\n\n\n\n810 S. Frederick AveGaithersburg\, Maryland 20877United States+ Google Map \n\n\n\n\n\nYou can join the meeting from your computer\, tablet\, or smartphone. https://meet.goto.com/cgimaryland/sabbath_service_new You can also dial in using your phone. United States: +1 (872) 240-3412 Access Code: 300-519-741 Get the app now and be ready when the meeting starts: https://meet.goto.com/install 
URL:https://cgimaryland.org/event/weekly-sabbath-service_jan_7_23/
END:VEVENT
BEGIN:VEVENT
DTSTART;TZID=UTC:20221224T134500
DTEND;TZID=UTC:20221224T160000
DTSTAMP:20260425T102330
CREATED:20221021T200247Z
LAST-MODIFIED:20221021T200400Z
UID:1152-1671889500-1671897600@cgimaryland.org
SUMMARY:Online Bible Study Service
DESCRIPTION:Speaker: TBD \n\n\n\nTopic: TBD \n\n\n\n\n\nYou can join the meeting from your computer\, tablet\, or smartphone. https://meet.goto.com/cgimaryland/sabbath_service_new You can also dial in using your phone. United States: +1 (872) 240-3412 Access Code: 300-519-741 Get the app now and be ready when the meeting starts: https://meet.goto.com/install 
URL:https://cgimaryland.org/event/online-bible-study-12-24-22/
END:VEVENT
BEGIN:VEVENT
DTSTART;TZID=UTC:20221217T134500
DTEND;TZID=UTC:20221217T160000
DTSTAMP:20260425T102330
CREATED:20221021T200044Z
LAST-MODIFIED:20221021T200230Z
UID:1149-1671284700-1671292800@cgimaryland.org
SUMMARY:Weekly Sabbath Service
DESCRIPTION:Speaker: Errol Francis  \n\n\n\nTopic: Statement of Beliefs #17 – Biblical Covenants \n\n\n\nCasey Community Center\n\n\n\n810 S. Frederick AveGaithersburg\, Maryland 20877United States+ Google Map \n\n\n\n\n\nYou can join the meeting from your computer\, tablet\, or smartphone. https://meet.goto.com/cgimaryland/sabbath_service_new You can also dial in using your phone. United States: +1 (872) 240-3412 Access Code: 300-519-741 Get the app now and be ready when the meeting starts: https://meet.goto.com/install 
URL:https://cgimaryland.org/event/weekly-sabbath-service_dec_17_22/
END:VEVENT
BEGIN:VEVENT
DTSTART;TZID=UTC:20221210T134500
DTEND;TZID=UTC:20221210T160000
DTSTAMP:20260425T102330
CREATED:20221021T195850Z
LAST-MODIFIED:20221021T200033Z
UID:1146-1670679900-1670688000@cgimaryland.org
SUMMARY:Weekly Sabbath Service
DESCRIPTION:Speaker: Tim Maggenti  \n\n\n\nTopic: Statement of Beliefs #22 – Sin \n\n\n\nCasey Community Center\n\n\n\n810 S. Frederick AveGaithersburg\, Maryland 20877United States+ Google Map \n\n\n\n\n\nYou can join the meeting from your computer\, tablet\, or smartphone. https://meet.goto.com/cgimaryland/sabbath_service_new You can also dial in using your phone. United States: +1 (872) 240-3412 Access Code: 300-519-741 Get the app now and be ready when the meeting starts: https://meet.goto.com/install 
URL:https://cgimaryland.org/event/weekly-sabbath-service_dec_10_22/
END:VEVENT
BEGIN:VEVENT
DTSTART;TZID=UTC:20221203T134500
DTEND;TZID=UTC:20221203T160000
DTSTAMP:20260425T102330
CREATED:20221021T195718Z
LAST-MODIFIED:20221203T070935Z
UID:1144-1670075100-1670083200@cgimaryland.org
SUMMARY:Weekly Sabbath Service
DESCRIPTION:Speaker: Guest Speaker – Chris Westberg  \n\n\n\nTopic: The Temple Furniture \n\n\n\nCasey Community Center\n\n\n\n810 S. Frederick AveGaithersburg\, Maryland 20877United States+ Google Map \n\n\n\n\n\nYou can join the meeting from your computer\, tablet\, or smartphone. https://meet.goto.com/cgimaryland/sabbath_service_new You can also dial in using your phone. United States: +1 (872) 240-3412 Access Code: 300-519-741 Get the app now and be ready when the meeting starts: https://meet.goto.com/install 
URL:https://cgimaryland.org/event/weekly-sabbath-service_dec_3_22/
END:VEVENT
BEGIN:VEVENT
DTSTART;TZID=UTC:20221126T134500
DTEND;TZID=UTC:20221126T160000
DTSTAMP:20260425T102330
CREATED:20221021T195513Z
LAST-MODIFIED:20221021T195636Z
UID:1142-1669470300-1669478400@cgimaryland.org
SUMMARY:Online Bible Study Service
DESCRIPTION:Speaker: TBD \n\n\n\nTopic: TBD \n\n\n\n\n\nYou can join the meeting from your computer\, tablet\, or smartphone. https://meet.goto.com/cgimaryland/sabbath_service_new You can also dial in using your phone. United States: +1 (872) 240-3412 Access Code: 300-519-741 Get the app now and be ready when the meeting starts: https://meet.goto.com/install 
URL:https://cgimaryland.org/event/online-bible-study-11-26-22/
END:VEVENT
BEGIN:VEVENT
DTSTART;TZID=UTC:20221119T134500
DTEND;TZID=UTC:20221119T160000
DTSTAMP:20260425T102330
CREATED:20221021T195308Z
LAST-MODIFIED:20221021T195432Z
UID:1139-1668865500-1668873600@cgimaryland.org
SUMMARY:Weekly Sabbath Service
DESCRIPTION:Speaker: Michael Reis  \n\n\n\nTopic: Statement of Beliefs #23 – The Christian \n\n\n\nCasey Community Center\n\n\n\n810 S. Frederick AveGaithersburg\, Maryland 20877United States+ Google Map \n\n\n\n\n\nYou can join the meeting from your computer\, tablet\, or smartphone. https://meet.goto.com/cgimaryland/sabbath_service_new You can also dial in using your phone. United States: +1 (872) 240-3412 Access Code: 300-519-741 Get the app now and be ready when the meeting starts: https://meet.goto.com/install 
URL:https://cgimaryland.org/event/weekly-sabbath-service_nov-19/
END:VEVENT
BEGIN:VEVENT
DTSTART;TZID=UTC:20221112T134500
DTEND;TZID=UTC:20221112T160000
DTSTAMP:20260425T102330
CREATED:20221021T195129Z
LAST-MODIFIED:20221021T195259Z
UID:1136-1668260700-1668268800@cgimaryland.org
SUMMARY:Weekly Sabbath Service
DESCRIPTION:Speaker: Mark Rusinko (Philadelphia)  \n\n\n\nTopic: Statement of Beliefs #19 – The Sabbath \n\n\n\nCasey Community Center\n\n\n\n810 S. Frederick AveGaithersburg\, Maryland 20877United States+ Google Map \n\n\n\n\n\nYou can join the meeting from your computer\, tablet\, or smartphone. https://meet.goto.com/cgimaryland/sabbath_service_new You can also dial in using your phone. United States: +1 (872) 240-3412 Access Code: 300-519-741 Get the app now and be ready when the meeting starts: https://meet.goto.com/install 
URL:https://cgimaryland.org/event/weekly-sabbath-service_nov-12/
END:VEVENT
BEGIN:VEVENT
DTSTART;TZID=UTC:20221105T134500
DTEND;TZID=UTC:20221105T160000
DTSTAMP:20260425T102330
CREATED:20221007T025801Z
LAST-MODIFIED:20221105T180450Z
UID:1119-1667655900-1667664000@cgimaryland.org
SUMMARY:Weekly Sabbath Service
DESCRIPTION:Speaker: Tom Bettinger  \n\n\n\nTopic: The Two Root Causes \n\n\n\nCasey Community Center\n\n\n\n810 S. Frederick AveGaithersburg\, Maryland 20877United States+ Google Map \n\n\n\n\n\nYou can join the meeting from your computer\, tablet\, or smartphone. https://meet.goto.com/cgimaryland/sabbath_service_new You can also dial in using your phone. United States: +1 (872) 240-3412 Access Code: 300-519-741 Get the app now and be ready when the meeting starts: https://meet.goto.com/install 
URL:https://cgimaryland.org/event/weekly-sabbath-service_nov-5/
END:VEVENT
BEGIN:VEVENT
DTSTART;TZID=UTC:20221022T134500
DTEND;TZID=UTC:20221022T160000
DTSTAMP:20260425T102330
CREATED:20221007T025607Z
LAST-MODIFIED:20221021T194839Z
UID:1117-1666446300-1666454400@cgimaryland.org
SUMMARY:Online Bible Study Service
DESCRIPTION:Speaker: Michael Reis \n\n\n\nTopic: Why Will Animal Sacrifices Be Reinstated in the Millennium \n\n\n\n\n\nYou can join the meeting from your computer\, tablet\, or smartphone. https://meet.goto.com/cgimaryland/sabbath_service_new You can also dial in using your phone. United States: +1 (872) 240-3412 Access Code: 300-519-741 Get the app now and be ready when the meeting starts: https://meet.goto.com/install 
URL:https://cgimaryland.org/event/online-bible-study-10-22-22/
END:VEVENT
BEGIN:VEVENT
DTSTART;TZID=UTC:20221009T183000
DTEND;TZID=UTC:20221017T183000
DTSTAMP:20260425T102330
CREATED:20220925T230658Z
LAST-MODIFIED:20221010T151529Z
UID:1081-1665340200-1666031400@cgimaryland.org
SUMMARY:Feast of Tabernacles & Last Great Day
DESCRIPTION:For Feast information\, click here.
URL:https://cgimaryland.org/event/feast-of-tabernacles-and-last-great-day/
END:VEVENT
BEGIN:VEVENT
DTSTART;TZID=UTC:20221005T134500
DTEND;TZID=UTC:20221005T160000
DTSTAMP:20260425T102330
CREATED:20220925T230020Z
LAST-MODIFIED:20220926T180733Z
UID:1078-1664977500-1664985600@cgimaryland.org
SUMMARY:Day of Atonement
DESCRIPTION:Speaker: Tom Bettinger  \n\n\n\nTopic: Day of Atonement \n\n\n\n\n\n\nCasey Community Center\n\n\n\n810 S. Frederick AveGaithersburg\, 20877United States+ Google Map \n\n\n\n\nYou can join the meeting from your computer\, tablet\, or smartphone. https://meet.goto.com/cgimaryland/sabbath_service_new You can also dial in using your phone. United States: +1 (872) 240-3412 Access Code: 300-519-741 Get the app now and be ready when the meeting starts: https://meet.goto.com/install 
URL:https://cgimaryland.org/event/day-of-atonement/
END:VEVENT
BEGIN:VEVENT
DTSTART;TZID=UTC:20221001T134500
DTEND;TZID=UTC:20221001T160000
DTSTAMP:20260425T102330
CREATED:20220925T212246Z
LAST-MODIFIED:20220930T025716Z
UID:1062-1664631900-1664640000@cgimaryland.org
SUMMARY:Weekly Sabbath Service
DESCRIPTION:Speaker: George James \n\n\n\nTopic: Kingdom of God\, Part II \n\n\n\nCasey Community Center\n\n\n\n810 S. Frederick AveGaithersburg\, Maryland 20877United States+ Google Map \n\n\n\n\n\nYou can join the meeting from your computer\, tablet\, or smartphone. https://meet.goto.com/cgimaryland/sabbath_service_new You can also dial in using your phone. United States: +1 (872) 240-3412 Access Code: 300-519-741 Get the app now and be ready when the meeting starts: https://meet.goto.com/install 
URL:https://cgimaryland.org/event/weekly-sabbath-service_oct-1/
END:VEVENT
BEGIN:VEVENT
DTSTART;TZID=UTC:20220926T134500
DTEND;TZID=UTC:20220926T160000
DTSTAMP:20260425T102330
CREATED:20220917T204708Z
LAST-MODIFIED:20220926T190140Z
UID:1050-1664199900-1664208000@cgimaryland.org
SUMMARY:Feast of Trumpets
DESCRIPTION:Speaker: Elder Michael Reis – A Heart of Repentance  \n\n\n\nTopic: Feast of Trumpets \n\n\n\n\n\n\nCasey Community Center\n\n\n\n810 S. Frederick AveGaithersburg\, 20877United States+ Google Map \n\n\n\n\nYou can join the meeting from your computer\, tablet\, or smartphone. https://meet.goto.com/cgimaryland/sabbath_service_new You can also dial in using your phone. United States: +1 (872) 240-3412 Access Code: 300-519-741 Get the app now and be ready when the meeting starts: https://meet.goto.com/install 
URL:https://cgimaryland.org/event/feast-of-trumpets-sept-26/
END:VEVENT
BEGIN:VEVENT
DTSTART;TZID=UTC:20220924T134500
DTEND;TZID=UTC:20220924T160000
DTSTAMP:20260425T102330
CREATED:20220917T204513Z
LAST-MODIFIED:20220917T205019Z
UID:1047-1664027100-1664035200@cgimaryland.org
SUMMARY:Online Bible Study Service
DESCRIPTION:Speaker: TBD \n\n\n\nTopic: TBD \n\n\n\n\n\nYou can join the meeting from your computer\, tablet\, or smartphone. https://meet.goto.com/cgimaryland/sabbath_service_new You can also dial in using your phone. United States: +1 (872) 240-3412 Access Code: 300-519-741 Get the app now and be ready when the meeting starts: https://meet.goto.com/install 
URL:https://cgimaryland.org/event/online-bible-study-9-24-22/
END:VEVENT
BEGIN:VEVENT
DTSTART;TZID=UTC:20220917T160000
DTEND;TZID=UTC:20220917T183000
DTSTAMP:20260425T102330
CREATED:20220917T203354Z
LAST-MODIFIED:20220917T205749Z
UID:1044-1663430400-1663439400@cgimaryland.org
SUMMARY:Weekly Sabbath Service
DESCRIPTION:Speaker: Elder Mike James – California \n\n\n\nTopic: TBD \n\n\n\n\n\nYou can join the meeting from your computer\, tablet\, or smartphone. https://meet.goto.com/cgimaryland/sabbath_service_new You can also dial in using your phone. United States: +1 (872) 240-3412 Access Code: 300-519-741 Get the app now and be ready when the meeting starts: https://meet.goto.com/install 
URL:https://cgimaryland.org/event/weekly-sabbath-service_sept-17/
END:VEVENT
BEGIN:VEVENT
DTSTART;TZID=UTC:20220910T134500
DTEND;TZID=UTC:20220910T160000
DTSTAMP:20260425T102330
CREATED:20220713T021539Z
LAST-MODIFIED:20220806T180406Z
UID:1001-1662817500-1662825600@cgimaryland.org
SUMMARY:Weekly Sabbath Service
DESCRIPTION:Speaker: George James \n\n\n\nTopic: Statement of Beliefs #12– Kingdom of God \n\n\n\n\n\nYou can join the meeting from your computer\, tablet\, or smartphone. https://meet.goto.com/cgimaryland/sabbath_service_new You can also dial in using your phone. United States: +1 (872) 240-3412 Access Code: 300-519-741 Get the app now and be ready when the meeting starts: https://meet.goto.com/install 
URL:https://cgimaryland.org/event/weekly-sabbath-service_sept-10/
LOCATION:Casey Community Center\, 810 S. Frederick Ave\, Gaithersburg\, MD\, 20877\, United States
END:VEVENT
BEGIN:VEVENT
DTSTART;TZID=UTC:20220903T134500
DTEND;TZID=UTC:20220903T160000
DTSTAMP:20260425T102330
CREATED:20220713T021304Z
LAST-MODIFIED:20220806T180719Z
UID:998-1662212700-1662220800@cgimaryland.org
SUMMARY:Weekly Sabbath Service
DESCRIPTION:Speaker: Elder Michael Reis \n\n\n\nTopic: Law of God and The Ten Commandments \n\n\n\n\n\nYou can join the meeting from your computer\, tablet\, or smartphone. https://meet.goto.com/cgimaryland/sabbath_service_new You can also dial in using your phone. United States: +1 (872) 240-3412 Access Code: 300-519-741 Get the app now and be ready when the meeting starts: https://meet.goto.com/install 
URL:https://cgimaryland.org/event/weekly-sabbath-service_sept-3/
LOCATION:Casey Community Center\, 810 S. Frederick Ave\, Gaithersburg\, MD\, 20877\, United States
END:VEVENT
BEGIN:VEVENT
DTSTART;TZID=UTC:20220827T134500
DTEND;TZID=UTC:20220827T160000
DTSTAMP:20260425T102330
CREATED:20220713T021102Z
LAST-MODIFIED:20220813T145017Z
UID:995-1661607900-1661616000@cgimaryland.org
SUMMARY:Online Bible Study Service
DESCRIPTION:Video Presentation/Lesson \n\n\n\nTopic: The Two Witnesses \n\n\n\nYou can join the meeting from your computer\, tablet\, or smartphone. https://meet.goto.com/cgimaryland/sabbath_service_new You can also dial in using your phone. United States: +1 (872) 240-3412 Access Code: 300-519-741 Get the app now and be ready when the meeting starts: https://meet.goto.com/install 
URL:https://cgimaryland.org/event/online-bible-study_aug-27/
LOCATION:Casey Community Center\, 810 S. Frederick Ave\, Gaithersburg\, MD\, 20877\, United States
CATEGORIES:bible study
END:VEVENT
BEGIN:VEVENT
DTSTART;TZID=UTC:20220820T134500
DTEND;TZID=UTC:20220820T160000
DTSTAMP:20260425T102330
CREATED:20220713T020851Z
LAST-MODIFIED:20220806T180216Z
UID:992-1661003100-1661011200@cgimaryland.org
SUMMARY:Weekly Sabbath Service
DESCRIPTION:Speaker: Tom Bettinger \n\n\n\nTopic: Statement of Beliefs #14 – Resurrection \n\n\n\n\n\nYou can join the meeting from your computer\, tablet\, or smartphone. https://meet.goto.com/cgimaryland/sabbath_service_new You can also dial in using your phone. United States: +1 (872) 240-3412 Access Code: 300-519-741 Get the app now and be ready when the meeting starts: https://meet.goto.com/install 
URL:https://cgimaryland.org/event/weekly-sabbath-service_aug-20/
LOCATION:Casey Community Center\, 810 S. Frederick Ave\, Gaithersburg\, MD\, 20877\, United States
END:VEVENT
BEGIN:VEVENT
DTSTART;TZID=UTC:20220813T134500
DTEND;TZID=UTC:20220813T160000
DTSTAMP:20260425T102330
CREATED:20220713T020642Z
LAST-MODIFIED:20220806T175858Z
UID:989-1660398300-1660406400@cgimaryland.org
SUMMARY:Weekly Sabbath Service
DESCRIPTION:Guest Speaker: Elder Mark Rusinko\, Pennsylvania \n\n\n\nTopic: Statement of Beliefs #13 – The Gospel \n\n\n\n\n\nYou can join the meeting from your computer\, tablet\, or smartphone. https://meet.goto.com/cgimaryland/sabbath_service_new You can also dial in using your phone. United States: +1 (872) 240-3412 Access Code: 300-519-741 Get the app now and be ready when the meeting starts: https://meet.goto.com/install 
URL:https://cgimaryland.org/event/weekly-sabbath-service_aug-13/
LOCATION:Casey Community Center\, 810 S. Frederick Ave\, Gaithersburg\, MD\, 20877\, United States
END:VEVENT
BEGIN:VEVENT
DTSTART;TZID=UTC:20220806T134500
DTEND;TZID=UTC:20220806T160000
DTSTAMP:20260425T102330
CREATED:20220713T020456Z
LAST-MODIFIED:20220806T175831Z
UID:986-1659793500-1659801600@cgimaryland.org
SUMMARY:Weekly Sabbath Service
DESCRIPTION:Speaker: Errol Francis \n\n\n\nTopic: Statement of Beliefs #7 – Salvation \n\n\n\n\n\nYou can join the meeting from your computer\, tablet\, or smartphone. https://meet.goto.com/cgimaryland/sabbath_service_new You can also dial in using your phone. United States: +1 (872) 240-3412 Access Code: 300-519-741 Get the app now and be ready when the meeting starts: https://meet.goto.com/install 
URL:https://cgimaryland.org/event/weekly-sabbath-service_aug-6/
LOCATION:Casey Community Center\, 810 S. Frederick Ave\, Gaithersburg\, MD\, 20877\, United States
END:VEVENT
END:VCALENDAR