BEGIN:VCALENDAR
VERSION:2.0
PRODID:-//Church of God International, Gaithersburg, Maryland - ECPv6.15.20//NONSGML v1.0//EN
CALSCALE:GREGORIAN
METHOD:PUBLISH
X-ORIGINAL-URL:https://cgimaryland.org
X-WR-CALDESC:Events for Church of God International, Gaithersburg, Maryland
REFRESH-INTERVAL;VALUE=DURATION:PT1H
X-Robots-Tag:noindex
X-PUBLISHED-TTL:PT1H
BEGIN:VTIMEZONE
TZID:UTC
BEGIN:STANDARD
TZOFFSETFROM:+0000
TZOFFSETTO:+0000
TZNAME:UTC
DTSTART:20220101T000000
END:STANDARD
END:VTIMEZONE
BEGIN:VEVENT
DTSTART;TZID=UTC:20231202T134500
DTEND;TZID=UTC:20231202T160000
DTSTAMP:20260425T064828
CREATED:20230916T214956Z
LAST-MODIFIED:20231104T180014Z
UID:1612-1701524700-1701532800@cgimaryland.org
SUMMARY:Weekly Sabbath Service
DESCRIPTION:Speaker: Elder Mark Rusinko (Philadelphia) \n\n\n\nTopic: TBD \n\n\n\nCasey Community Center\n\n\n\n810 S. Frederick Ave\, 2nd Floor: Aspen RoomGaithersburg\, Maryland 20877United States+ Google Map \n\n\n\n\n\nYou can join the meeting from your computer\, tablet\, or smartphone. https://meet.goto.com/cgimaryland/sabbath_service_new You can also dial in using your phone. United States: +1 (872) 240-3412 Access Code: 300-519-741 Get the app now and be ready when the meeting starts: https://meet.goto.com/install 
URL:https://cgimaryland.org/event/weekly-sabbath-service_12-2-23/
END:VEVENT
BEGIN:VEVENT
DTSTART;TZID=UTC:20231209T134500
DTEND;TZID=UTC:20231209T160000
DTSTAMP:20260425T064828
CREATED:20230916T215116Z
LAST-MODIFIED:20231104T180224Z
UID:1615-1702129500-1702137600@cgimaryland.org
SUMMARY:Weekly Sabbath Service
DESCRIPTION:Speaker: Erroll Francis  \n\n\n\nTopic: Prophecy & History of Abraham’s Two Sons \n\n\n\nCasey Community Center\n\n\n\n810 S. Frederick Ave\, 2nd Floor: Aspen RoomGaithersburg\, Maryland 20877United States+ Google Map \n\n\n\n\n\nYou can join the meeting from your computer\, tablet\, or smartphone. https://meet.goto.com/cgimaryland/sabbath_service_new You can also dial in using your phone. United States: +1 (872) 240-3412 Access Code: 300-519-741 Get the app now and be ready when the meeting starts: https://meet.goto.com/install 
URL:https://cgimaryland.org/event/weekly-sabbath-service_12-9-23/
END:VEVENT
BEGIN:VEVENT
DTSTART;TZID=UTC:20231216T134500
DTEND;TZID=UTC:20231216T160000
DTSTAMP:20260425T064828
CREATED:20230916T215201Z
LAST-MODIFIED:20231104T180801Z
UID:1617-1702734300-1702742400@cgimaryland.org
SUMMARY:Weekly Sabbath Service
DESCRIPTION:Speaker: George James  \n\n\n\nTopic: TBD \n\n\n\n810 S. Frederick Ave\, 2nd Floor: Aspen RoomGaithersburg\, Maryland 20877United States+ Google Map \n\n\n\nYou can join the meeting from your computer\, tablet\, or smartphone. https://meet.goto.com/cgimaryland/sabbath_service_new You can also dial in using your phone. United States: +1 (872) 240-3412 Access Code: 300-519-741 Get the app now and be ready when the meeting starts: https://meet.goto.com/install 
URL:https://cgimaryland.org/event/online-bible-study-12-16-23/
END:VEVENT
BEGIN:VEVENT
DTSTART;TZID=UTC:20231223T134500
DTEND;TZID=UTC:20231223T160000
DTSTAMP:20260425T064828
CREATED:20230916T215342Z
LAST-MODIFIED:20231220T222632Z
UID:1619-1703339100-1703347200@cgimaryland.org
SUMMARY:Online Bible Study
DESCRIPTION:Speaker: TBD \n\n\n\nTopic: TBD \n\n\n\nCasey Community Center\n\n\n\n\n\nYou can join the meeting from your computer\, tablet\, or smartphone. https://meet.goto.com/cgimaryland/sabbath_service_new You can also dial in using your phone. United States: +1 (872) 240-3412 Access Code: 300-519-741 Get the app now and be ready when the meeting starts: https://meet.goto.com/install 
URL:https://cgimaryland.org/event/online-bible-study_12-23-23/
END:VEVENT
END:VCALENDAR