BEGIN:VCALENDAR
VERSION:2.0
PRODID:-//Church of God International, Gaithersburg, Maryland - ECPv6.15.20//NONSGML v1.0//EN
CALSCALE:GREGORIAN
METHOD:PUBLISH
X-ORIGINAL-URL:https://cgimaryland.org
X-WR-CALDESC:Events for Church of God International, Gaithersburg, Maryland
REFRESH-INTERVAL;VALUE=DURATION:PT1H
X-Robots-Tag:noindex
X-PUBLISHED-TTL:PT1H
BEGIN:VTIMEZONE
TZID:UTC
BEGIN:STANDARD
TZOFFSETFROM:+0000
TZOFFSETTO:+0000
TZNAME:UTC
DTSTART:20230101T000000
END:STANDARD
END:VTIMEZONE
BEGIN:VEVENT
DTSTART;TZID=UTC:20240601T134500
DTEND;TZID=UTC:20240601T160000
DTSTAMP:20260424T211518
CREATED:20240517T233031Z
LAST-MODIFIED:20240517T233156Z
UID:2012-1717249500-1717257600@cgimaryland.org
SUMMARY:Weekly Sabbath Service
DESCRIPTION:Speaker: TBD \n\n\n\nTopic: TBD \n\n\n\n810 S. Frederick Ave\, 2nd Floor: Aspen RoomGaithersburg\, Maryland 20877United States+ Google Map \n\n\n\nYou can join the meeting from your computer\, tablet\, or smartphone. https://meet.goto.com/cgimaryland/sabbath_service_new You can also dial in using your phone. United States: +1 (872) 240-3412 Access Code: 300-519-741 Get the app now and be ready when the meeting starts: https://meet.goto.com/install 
URL:https://cgimaryland.org/event/weekly-sabbath-service-6-1-24/
END:VEVENT
BEGIN:VEVENT
DTSTART;TZID=UTC:20240608T134500
DTEND;TZID=UTC:20240608T160000
DTSTAMP:20260424T211518
CREATED:20240517T233026Z
LAST-MODIFIED:20240603T184432Z
UID:2011-1717854300-1717862400@cgimaryland.org
SUMMARY:Weekly Sabbath Service - Group Project
DESCRIPTION:Speaker: N/A \n\n\n\nTopic: Group Project \n\n\n\n810 S. Frederick Ave\, 2nd Floor: Aspen RoomGaithersburg\, Maryland 20877United States+ Google Map
URL:https://cgimaryland.org/event/weekly-sabbath-service-group-project-6-8-24/
END:VEVENT
BEGIN:VEVENT
DTSTART;TZID=UTC:20240615T134500
DTEND;TZID=UTC:20240615T160000
DTSTAMP:20260424T211518
CREATED:20240603T185027Z
LAST-MODIFIED:20240603T185122Z
UID:2040-1718459100-1718467200@cgimaryland.org
SUMMARY:Weekly Sabbath Service
DESCRIPTION:Speaker: TBD \n\n\n\nTopic: TBD \n\n\n\n810 S. Frederick Ave\, 2nd Floor: Aspen RoomGaithersburg\, Maryland 20877United States+ Google Map \n\n\n\nYou can join the meeting from your computer\, tablet\, or smartphone. https://meet.goto.com/cgimaryland/sabbath_service_new You can also dial in using your phone. United States: +1 (872) 240-3412 Access Code: 300-519-741 Get the app now and be ready when the meeting starts: https://meet.goto.com/install 
URL:https://cgimaryland.org/event/weekly-sabbath-service-6-15-24/
END:VEVENT
BEGIN:VEVENT
DTSTART;TZID=UTC:20240616T140000
DTEND;TZID=UTC:20240616T170000
DTSTAMP:20260424T211518
CREATED:20240616T164349Z
LAST-MODIFIED:20240616T164703Z
UID:2136-1718546400-1718557200@cgimaryland.org
SUMMARY:Feast of Pentecost - 2024
DESCRIPTION:Speaker: Elder Michael Reis \n\n\n\nTopic: The Feast of Pentecost  \n\n\n\n1ST Century Church of God – YMCA\n\n\n\n900 E. 33RD Street\, Teen-Senior Multi-Purpose RoomBaltimore\, Maryland 21218United States+ Google Map \n\n\n\n\n\nYou can join the meeting from your computer\, tablet\, or smartphone. https://meet.goto.com/cgimaryland/sabbath_service_new You can also dial in using your phone. United States: +1 (872) 240-3412 Access Code: 300-519-741 Get the app now and be ready when the meeting starts: https://meet.goto.com/install 
URL:https://cgimaryland.org/event/feast-of-pentecost-2024/
END:VEVENT
BEGIN:VEVENT
DTSTART;TZID=UTC:20240622T134500
DTEND;TZID=UTC:20240622T160000
DTSTAMP:20260424T211518
CREATED:20240603T185141Z
LAST-MODIFIED:20240603T185248Z
UID:2042-1719063900-1719072000@cgimaryland.org
SUMMARY:Online Bible Study
DESCRIPTION:Speaker: TBD \n\n\n\nTopic: TBD \n\n\n\n\n\nYou can join the meeting from your computer\, tablet\, or smartphone. https://meet.goto.com/cgimaryland/sabbath_service_new You can also dial in using your phone. United States: +1 (872) 240-3412 Access Code: 300-519-741 Get the app now and be ready when the meeting starts: https://meet.goto.com/install 
URL:https://cgimaryland.org/event/online-bible-study-6-22-24/
END:VEVENT
END:VCALENDAR