BEGIN:VCALENDAR
VERSION:2.0
PRODID:-//Church of God International, Gaithersburg, Maryland - ECPv6.15.20//NONSGML v1.0//EN
CALSCALE:GREGORIAN
METHOD:PUBLISH
X-ORIGINAL-URL:https://cgimaryland.org
X-WR-CALDESC:Events for Church of God International, Gaithersburg, Maryland
REFRESH-INTERVAL;VALUE=DURATION:PT1H
X-Robots-Tag:noindex
X-PUBLISHED-TTL:PT1H
BEGIN:VTIMEZONE
TZID:UTC
BEGIN:STANDARD
TZOFFSETFROM:+0000
TZOFFSETTO:+0000
TZNAME:UTC
DTSTART:20230101T000000
END:STANDARD
END:VTIMEZONE
BEGIN:VEVENT
DTSTART;TZID=UTC:20240706T134500
DTEND;TZID=UTC:20240706T160000
DTSTAMP:20260424T193607
CREATED:20240603T184450Z
LAST-MODIFIED:20240603T184538Z
UID:2032-1720273500-1720281600@cgimaryland.org
SUMMARY:Weekly Sabbath Service
DESCRIPTION:Speaker: TBD \n\n\n\nTopic: TBD \n\n\n\n810 S. Frederick Ave\, 2nd Floor: Aspen RoomGaithersburg\, Maryland 20877United States+ Google Map \n\n\n\nYou can join the meeting from your computer\, tablet\, or smartphone. https://meet.goto.com/cgimaryland/sabbath_service_new You can also dial in using your phone. United States: +1 (872) 240-3412 Access Code: 300-519-741 Get the app now and be ready when the meeting starts: https://meet.goto.com/install 
URL:https://cgimaryland.org/event/weekly-sabbath-service-6-1-24-copy/
END:VEVENT
BEGIN:VEVENT
DTSTART;TZID=UTC:20240713T134500
DTEND;TZID=UTC:20240713T160000
DTSTAMP:20260424T193607
CREATED:20240517T233340Z
LAST-MODIFIED:20240713T140239Z
UID:2017-1720878300-1720886400@cgimaryland.org
SUMMARY:Online Sabbath Service
DESCRIPTION:Speaker: Elder Chris Westberg (SDA Guest) \n\n\n\nTopic: Evidence/Truth \n\n\n\nYou can join the meeting from your computer\, tablet\, or smartphone. https://meet.goto.com/cgimaryland/sabbath_service_new You can also dial in using your phone. United States: +1 (872) 240-3412 Access Code: 300-519-741 Get the app now and be ready when the meeting starts: https://meet.goto.com/install 
URL:https://cgimaryland.org/event/weekly-sabbath-service-7-13-24/
END:VEVENT
BEGIN:VEVENT
DTSTART;TZID=UTC:20240720T134500
DTEND;TZID=UTC:20240720T160000
DTSTAMP:20260424T193607
CREATED:20240603T184502Z
LAST-MODIFIED:20240720T182033Z
UID:2034-1721483100-1721491200@cgimaryland.org
SUMMARY:Weekly Sabbath Service
DESCRIPTION:Speaker: Deacon Tom Bettinger \n\n\n\nTopic: Can You Trust the Bible? \n\n\n\n810 S. Frederick Ave\, 2nd Floor: Aspen RoomGaithersburg\, Maryland 20877United States+ Google Map \n\n\n\nYou can join the meeting from your computer\, tablet\, or smartphone. https://meet.goto.com/cgimaryland/sabbath_service_new You can also dial in using your phone. United States: +1 (872) 240-3412 Access Code: 300-519-741 Get the app now and be ready when the meeting starts: https://meet.goto.com/install 
URL:https://cgimaryland.org/event/weekly-sabbath-service-7-20-24/
END:VEVENT
BEGIN:VEVENT
DTSTART;TZID=UTC:20240727T134500
DTEND;TZID=UTC:20240727T160000
DTSTAMP:20260424T193607
CREATED:20240603T184457Z
LAST-MODIFIED:20240810T182808Z
UID:2033-1722087900-1722096000@cgimaryland.org
SUMMARY:Online Bible Study
DESCRIPTION:Speaker: Elder Michael Reis \n\n\n\nTopic: God Spectacular in Simplicity and Wisdom \n\n\n\n\n\nYou can join the meeting from your computer\, tablet\, or smartphone. https://meet.goto.com/cgimaryland/sabbath_service_new You can also dial in using your phone. United States: +1 (872) 240-3412 Access Code: 300-519-741 Get the app now and be ready when the meeting starts: https://meet.goto.com/install 
URL:https://cgimaryland.org/event/online-bible-study-7-27-24/
END:VEVENT
END:VCALENDAR