BEGIN:VCALENDAR
VERSION:2.0
PRODID:-//Church of God International, Gaithersburg, Maryland - ECPv6.15.20//NONSGML v1.0//EN
CALSCALE:GREGORIAN
METHOD:PUBLISH
X-WR-CALNAME:Church of God International, Gaithersburg, Maryland
X-ORIGINAL-URL:https://cgimaryland.org
X-WR-CALDESC:Events for Church of God International, Gaithersburg, Maryland
REFRESH-INTERVAL;VALUE=DURATION:PT1H
X-Robots-Tag:noindex
X-PUBLISHED-TTL:PT1H
BEGIN:VTIMEZONE
TZID:UTC
BEGIN:STANDARD
TZOFFSETFROM:+0000
TZOFFSETTO:+0000
TZNAME:UTC
DTSTART:20230101T000000
END:STANDARD
END:VTIMEZONE
BEGIN:VTIMEZONE
TZID:America/New_York
BEGIN:DAYLIGHT
TZOFFSETFROM:-0500
TZOFFSETTO:-0400
TZNAME:EDT
DTSTART:20230312T070000
END:DAYLIGHT
BEGIN:STANDARD
TZOFFSETFROM:-0400
TZOFFSETTO:-0500
TZNAME:EST
DTSTART:20231105T060000
END:STANDARD
BEGIN:DAYLIGHT
TZOFFSETFROM:-0500
TZOFFSETTO:-0400
TZNAME:EDT
DTSTART:20240310T070000
END:DAYLIGHT
BEGIN:STANDARD
TZOFFSETFROM:-0400
TZOFFSETTO:-0500
TZNAME:EST
DTSTART:20241103T060000
END:STANDARD
BEGIN:DAYLIGHT
TZOFFSETFROM:-0500
TZOFFSETTO:-0400
TZNAME:EDT
DTSTART:20250309T070000
END:DAYLIGHT
BEGIN:STANDARD
TZOFFSETFROM:-0400
TZOFFSETTO:-0500
TZNAME:EST
DTSTART:20251102T060000
END:STANDARD
END:VTIMEZONE
BEGIN:VEVENT
DTSTART;TZID=UTC:20240907T134500
DTEND;TZID=UTC:20240907T160000
DTSTAMP:20260424T161733
CREATED:20240810T183004Z
LAST-MODIFIED:20240826T220907Z
UID:2194-1725716700-1725724800@cgimaryland.org
SUMMARY:Weekly Sabbath Service
DESCRIPTION:Speaker: Elder Mike James (California) \n\n\n\nTopic: TBD \n\n\n\n810 S. Frederick Ave\, 2nd Floor: Aspen RoomGaithersburg\, Maryland 20877United States+ Google Map \n\n\n\nYou can join the meeting from your computer\, tablet\, or smartphone. https://meet.goto.com/cgimaryland/sabbath_service_new You can also dial in using your phone. United States: +1 (872) 240-3412 Access Code: 300-519-741 Get the app now and be ready when the meeting starts: https://meet.goto.com/install 
URL:https://cgimaryland.org/event/weekly-sabbath-service-9-7-24/
END:VEVENT
BEGIN:VEVENT
DTSTART;TZID=America/New_York:20240908T081500
DTEND;TZID=America/New_York:20240908T113000
DTSTAMP:20260424T161733
CREATED:20240826T153518Z
LAST-MODIFIED:20240914T183733Z
UID:2231-1725783300-1725795000@cgimaryland.org
SUMMARY:Celebration of Life Service for Brother Errol George Francis\, Sr.
DESCRIPTION:February 7\, 1955 – August 19\, 2024 \n\n\n\nIt is with great sadness that we announce the passing of our dear brother in Christ\, Errol George Francis\, Sr.\, who peacefully entered into eternal rest on Monday\, August 19\, 2024\, at the age of 69. Errol\, born in Jamaica on February 7\, 1955\, was a devoted husband\, father\, and friend\, who lived a life marked by unwavering faith\, boundless love\, and a thirst for knowledge.  \n\n\n\nHe will be deeply missed by his wife of 42 years\, Delores\, his son Errol Jr.\, his daughter Antoinette Goosby\, his granddaughter Deviyani\, and his grand-dog Tristan. His legacy will live on through the countless lives he touched and the inspiration he provided to all who knew him. \n\n\n\n\n\n\n\n\n\n\nFuneral Details (Click Here)\n\n\n\n\n\n\n\n\n\n\n\nService Information: \n\n\n\nDate: Sunday\, September 8\, 2024 \n\n\n\nVisitation: 8:15am – 9:00am \n\n\n\nService: 9:00am -11:30am \n\n\n\n\n\n\n\nClick here to see the video:  https://www.twitch.tv/memorialstreamin \n\n\n\n\n\n\n\n\n\nService Location: \n\n\n\nFrancis J. Collins Funeral Home \n\n\n\n500 University Boulevard West  \n\n\n\nSilver Spring\, MD 20901 \n\n\n\n\n\n\n\n\n\n\n\nFamily Contact Information: \n\n\n\nIf anyone would like to send the family a card or flowers\, please do so be sending them by Saturday\, September 7th\, to: \n\n\n\nFrancis A. Collins Funeral Home \n\n\n\nAttention: Mrs. Delores Francis and Family of Errol Francis\, Sr. \n\n\n\n500 University Boulevard West \n\n\n\nSilver Spring\, MD 20901
URL:https://cgimaryland.org/event/celebration-of-life-service-for-brother-errol-george-francis-s/
END:VEVENT
BEGIN:VEVENT
DTSTART;TZID=UTC:20240914T134500
DTEND;TZID=UTC:20240914T160000
DTSTAMP:20260424T161733
CREATED:20240810T183011Z
LAST-MODIFIED:20240914T180734Z
UID:2195-1726321500-1726329600@cgimaryland.org
SUMMARY:Weekly Sabbath Service
DESCRIPTION:Speaker: Deacon Tom Bettinger \n\n\n\nTopic: Seven(7) Seals of Revelation \n\n\n\n810 S. Frederick Ave\, 2nd Floor: Aspen RoomGaithersburg\, Maryland 20877United States+ Google Map \n\n\n\nYou can join the meeting from your computer\, tablet\, or smartphone. https://meet.goto.com/cgimaryland/sabbath_service_new You can also dial in using your phone. United States: +1 (872) 240-3412 Access Code: 300-519-741 Get the app now and be ready when the meeting starts: https://meet.goto.com/install 
URL:https://cgimaryland.org/event/weekly-sabbath-service-9-14-24/
END:VEVENT
BEGIN:VEVENT
DTSTART;TZID=UTC:20240921T134500
DTEND;TZID=UTC:20240921T160000
DTSTAMP:20260424T161733
CREATED:20240810T183015Z
LAST-MODIFIED:20240810T183412Z
UID:2196-1726926300-1726934400@cgimaryland.org
SUMMARY:Weekly Sabbath Service
DESCRIPTION:Speaker: TBD \n\n\n\nTopic: TBD \n\n\n\n810 S. Frederick Ave\, 2nd Floor: Aspen RoomGaithersburg\, Maryland 20877United States+ Google Map \n\n\n\nYou can join the meeting from your computer\, tablet\, or smartphone. https://meet.goto.com/cgimaryland/sabbath_service_new You can also dial in using your phone. United States: +1 (872) 240-3412 Access Code: 300-519-741 Get the app now and be ready when the meeting starts: https://meet.goto.com/install 
URL:https://cgimaryland.org/event/weekly-sabbath-service-9-21-24/
END:VEVENT
BEGIN:VEVENT
DTSTART;TZID=UTC:20240928T134500
DTEND;TZID=UTC:20240928T160000
DTSTAMP:20260424T161733
CREATED:20240810T183440Z
LAST-MODIFIED:20240810T183523Z
UID:2202-1727531100-1727539200@cgimaryland.org
SUMMARY:Online Bible Study
DESCRIPTION:Speaker: TBD \n\n\n\nTopic: TBD \n\n\n\n\n\nYou can join the meeting from your computer\, tablet\, or smartphone. https://meet.goto.com/cgimaryland/sabbath_service_new You can also dial in using your phone. United States: +1 (872) 240-3412 Access Code: 300-519-741 Get the app now and be ready when the meeting starts: https://meet.goto.com/install 
URL:https://cgimaryland.org/event/online-bible-study-9-28-24/
END:VEVENT
END:VCALENDAR