BEGIN:VCALENDAR
VERSION:2.0
PRODID:-//Church of God International, Gaithersburg, Maryland - ECPv6.15.20//NONSGML v1.0//EN
CALSCALE:GREGORIAN
METHOD:PUBLISH
X-ORIGINAL-URL:https://cgimaryland.org
X-WR-CALDESC:Events for Church of God International, Gaithersburg, Maryland
REFRESH-INTERVAL;VALUE=DURATION:PT1H
X-Robots-Tag:noindex
X-PUBLISHED-TTL:PT1H
BEGIN:VTIMEZONE
TZID:UTC
BEGIN:STANDARD
TZOFFSETFROM:+0000
TZOFFSETTO:+0000
TZNAME:UTC
DTSTART:20230101T000000
END:STANDARD
END:VTIMEZONE
BEGIN:VEVENT
DTSTART;TZID=UTC:20241207T134500
DTEND;TZID=UTC:20241207T160000
DTSTAMP:20260424T112629
CREATED:20241104T080555Z
LAST-MODIFIED:20241225T210652Z
UID:2384-1733579100-1733587200@cgimaryland.org
SUMMARY:Weekly Sabbath Service
DESCRIPTION:Speaker: The Fallacy of Christmas \n\n\n\nTopic: Deacon Tom Bettinger \n\n\n\n810 S. Frederick Ave\, 2nd Floor: Aspen RoomGaithersburg\, Maryland 20877United States+ Google Map \n\n\n\nYou can join the meeting from your computer\, tablet\, or smartphone. https://meet.goto.com/cgimaryland/sabbath_service_new You can also dial in using your phone. United States: +1 (872) 240-3412 Access Code: 300-519-741 Get the app now and be ready when the meeting starts: https://meet.goto.com/install 
URL:https://cgimaryland.org/event/weekly-sabbath-service-12-07-24/
END:VEVENT
BEGIN:VEVENT
DTSTART;TZID=UTC:20241214T134500
DTEND;TZID=UTC:20241214T160000
DTSTAMP:20260424T112629
CREATED:20241104T080847Z
LAST-MODIFIED:20241225T210742Z
UID:2388-1734183900-1734192000@cgimaryland.org
SUMMARY:Weekly Sabbath Service
DESCRIPTION:Speaker: Timothy Maggenti \n\n\n\nTopic: Root and Branch \n\n\n\n810 S. Frederick Ave\, 2nd Floor: Aspen RoomGaithersburg\, Maryland 20877United States+ Google Map \n\n\n\nYou can join the meeting from your computer\, tablet\, or smartphone. https://meet.goto.com/cgimaryland/sabbath_service_new You can also dial in using your phone. United States: +1 (872) 240-3412 Access Code: 300-519-741 Get the app now and be ready when the meeting starts: https://meet.goto.com/install 
URL:https://cgimaryland.org/event/weekly-sabbath-service-12-14-24/
END:VEVENT
BEGIN:VEVENT
DTSTART;TZID=UTC:20241221T134500
DTEND;TZID=UTC:20241221T160000
DTSTAMP:20260424T112629
CREATED:20241104T081124Z
LAST-MODIFIED:20241225T210843Z
UID:2392-1734788700-1734796800@cgimaryland.org
SUMMARY:Weekly Sabbath Service
DESCRIPTION:Speaker: George James \n\n\n\nTopic: Clarifying the Spirit \n\n\n\n810 S. Frederick Ave\, 2nd Floor: Aspen RoomGaithersburg\, Maryland 20877United States+ Google Map \n\n\n\nYou can join the meeting from your computer\, tablet\, or smartphone. https://meet.goto.com/cgimaryland/sabbath_service_new You can also dial in using your phone. United States: +1 (872) 240-3412 Access Code: 300-519-741 Get the app now and be ready when the meeting starts: https://meet.goto.com/install 
URL:https://cgimaryland.org/event/weekly-sabbath-service-12-21-24/
END:VEVENT
BEGIN:VEVENT
DTSTART;TZID=UTC:20241228T134500
DTEND;TZID=UTC:20241228T160000
DTSTAMP:20260424T112629
CREATED:20241104T080550Z
LAST-MODIFIED:20250111T081513Z
UID:2383-1735393500-1735401600@cgimaryland.org
SUMMARY:Online Bible Study
DESCRIPTION:Speaker: Timothy Maggenti \n\n\n\nTopic: Wisdom in Hating Evil \n\n\n\n\n\nYou can join the meeting from your computer\, tablet\, or smartphone. https://meet.goto.com/cgimaryland/sabbath_service_new You can also dial in using your phone. United States: +1 (872) 240-3412 Access Code: 300-519-741 Get the app now and be ready when the meeting starts: https://meet.goto.com/install 
URL:https://cgimaryland.org/event/online-bible-study-12-28-24/
END:VEVENT
END:VCALENDAR