BEGIN:VCALENDAR
VERSION:2.0
PRODID:-//Church of God International, Gaithersburg, Maryland - ECPv6.15.20//NONSGML v1.0//EN
CALSCALE:GREGORIAN
METHOD:PUBLISH
X-ORIGINAL-URL:https://cgimaryland.org
X-WR-CALDESC:Events for Church of God International, Gaithersburg, Maryland
REFRESH-INTERVAL;VALUE=DURATION:PT1H
X-Robots-Tag:noindex
X-PUBLISHED-TTL:PT1H
BEGIN:VTIMEZONE
TZID:UTC
BEGIN:STANDARD
TZOFFSETFROM:+0000
TZOFFSETTO:+0000
TZNAME:UTC
DTSTART:20240101T000000
END:STANDARD
END:VTIMEZONE
BEGIN:VEVENT
DTSTART;TZID=UTC:20250104T134500
DTEND;TZID=UTC:20250104T160000
DTSTAMP:20260424T094737
CREATED:20241225T210858Z
LAST-MODIFIED:20250104T033644Z
UID:2440-1735998300-1736006400@cgimaryland.org
SUMMARY:Online Sabbath Service
DESCRIPTION:Speaker: Minister Chris Westberg (SBA Guest) \n\n\n\nTopic: Who Is Able To Stand \n\n\n\nYou can join the meeting from your computer\, tablet\, or smartphone. https://meet.goto.com/cgimaryland/sabbath_service_new You can also dial in using your phone. United States: +1 (872) 240-3412 Access Code: 300-519-741 Get the app now and be ready when the meeting starts: https://meet.goto.com/install 
URL:https://cgimaryland.org/event/weekly-sabbath-service-01-04-25/
END:VEVENT
BEGIN:VEVENT
DTSTART;TZID=UTC:20250111T134500
DTEND;TZID=UTC:20250111T160000
DTSTAMP:20260424T094737
CREATED:20241225T210903Z
LAST-MODIFIED:20250111T081744Z
UID:2441-1736603100-1736611200@cgimaryland.org
SUMMARY:Online Sabbath Service
DESCRIPTION:Speaker: Elder Michael Reis \n\n\n\nTopic: The Destiny of Mankind \n\n\n\nYou can join the meeting from your computer\, tablet\, or smartphone. https://meet.goto.com/cgimaryland/sabbath_service_new You can also dial in using your phone. United States: +1 (872) 240-3412 Access Code: 300-519-741 Get the app now and be ready when the meeting starts: https://meet.goto.com/install 
URL:https://cgimaryland.org/event/weekly-sabbath-service-01-11-25/
END:VEVENT
BEGIN:VEVENT
DTSTART;TZID=UTC:20250118T134500
DTEND;TZID=UTC:20250118T160000
DTSTAMP:20260424T094737
CREATED:20241225T210908Z
LAST-MODIFIED:20241225T211613Z
UID:2442-1737207900-1737216000@cgimaryland.org
SUMMARY:Weekly Sabbath Service
DESCRIPTION:Speaker: TBD \n\n\n\nTopic: TBD \n\n\n\n810 S. Frederick Ave\, 2nd Floor: Aspen RoomGaithersburg\, Maryland 20877United States+ Google Map \n\n\n\nYou can join the meeting from your computer\, tablet\, or smartphone. https://meet.goto.com/cgimaryland/sabbath_service_new You can also dial in using your phone. United States: +1 (872) 240-3412 Access Code: 300-519-741 Get the app now and be ready when the meeting starts: https://meet.goto.com/install 
URL:https://cgimaryland.org/event/weekly-sabbath-service-01-18-25/
END:VEVENT
BEGIN:VEVENT
DTSTART;TZID=UTC:20250125T134500
DTEND;TZID=UTC:20250125T160000
DTSTAMP:20260424T094737
CREATED:20241225T210913Z
LAST-MODIFIED:20241225T212434Z
UID:2443-1737812700-1737820800@cgimaryland.org
SUMMARY:Online Bible Study
DESCRIPTION:Speaker: TBD \n\n\n\nTopic: TBD \n\n\n\n\n\nYou can join the meeting from your computer\, tablet\, or smartphone. https://meet.goto.com/cgimaryland/sabbath_service_new You can also dial in using your phone. United States: +1 (872) 240-3412 Access Code: 300-519-741 Get the app now and be ready when the meeting starts: https://meet.goto.com/install 
URL:https://cgimaryland.org/event/online-bible-study-01-25-25/
END:VEVENT
END:VCALENDAR