BEGIN:VCALENDAR
VERSION:2.0
PRODID:-//Church of God International, Gaithersburg, Maryland - ECPv6.15.20//NONSGML v1.0//EN
CALSCALE:GREGORIAN
METHOD:PUBLISH
X-ORIGINAL-URL:https://cgimaryland.org
X-WR-CALDESC:Events for Church of God International, Gaithersburg, Maryland
REFRESH-INTERVAL;VALUE=DURATION:PT1H
X-Robots-Tag:noindex
X-PUBLISHED-TTL:PT1H
BEGIN:VTIMEZONE
TZID:UTC
BEGIN:STANDARD
TZOFFSETFROM:+0000
TZOFFSETTO:+0000
TZNAME:UTC
DTSTART:20240101T000000
END:STANDARD
END:VTIMEZONE
BEGIN:VEVENT
DTSTART;TZID=UTC:20250405T134500
DTEND;TZID=UTC:20250405T160000
DTSTAMP:20260424T052020
CREATED:20241225T212630Z
LAST-MODIFIED:20250315T181225Z
UID:2464-1743860700-1743868800@cgimaryland.org
SUMMARY:Weekly Sabbath Service
DESCRIPTION:Speaker: TBD \n\n\n\nTopic: TBD \n\n\n\n\n\nYou can join the meeting from your computer\, tablet\, or smartphone. https://meet.goto.com/cgimaryland/sabbath_service_new You can also dial in using your phone. United States: +1 (872) 240-3412 Access Code: 300-519-741 Get the app now and be ready when the meeting starts: https://meet.goto.com/install  \n\n\n\n\n810 S. Frederick Ave\, 2nd Floor: Aspen RoomGaithersburg\, Maryland 20877United States+ Google Map
URL:https://cgimaryland.org/event/weekly-sabbath-service-04-05-25/
END:VEVENT
BEGIN:VEVENT
DTSTART;TZID=UTC:20250411T184500
DTEND;TZID=UTC:20250411T220000
DTSTAMP:20260424T052020
CREATED:20250315T181743Z
LAST-MODIFIED:20250410T144644Z
UID:2526-1744397100-1744408800@cgimaryland.org
SUMMARY:New Testament Passover
DESCRIPTION:Speaker: Elder Michael Reis \n\n\n\nTopic: The Passover Service (Including Passover Meal) \n\n\n\nLocation – TBD
URL:https://cgimaryland.org/event/new-testament-passover-2025/
END:VEVENT
BEGIN:VEVENT
DTSTART;TZID=UTC:20250412T134500
DTEND;TZID=UTC:20250412T160000
DTSTAMP:20260424T052020
CREATED:20250315T180409Z
LAST-MODIFIED:20250412T162328Z
UID:2515-1744465500-1744473600@cgimaryland.org
SUMMARY:Weekly Sabbath Service
DESCRIPTION:Speaker: George James \n\n\n\nTopic: TBD \n\n\n\n\n\nYou can join the meeting from your computer\, tablet\, or smartphone. https://meet.goto.com/cgimaryland/sabbath_service_new You can also dial in using your phone. United States: +1 (872) 240-3412 Access Code: 300-519-741 Get the app now and be ready when the meeting starts: https://meet.goto.com/install  \n\n\n\n \n\n\n\n\n810 S. Frederick Ave\, 2nd Floor: Aspen RoomGaithersburg\, Maryland 20877United States+ Google Map
URL:https://cgimaryland.org/event/weekly-sabbath-service-04-12-25/
END:VEVENT
BEGIN:VEVENT
DTSTART;TZID=UTC:20250413T144500
DTEND;TZID=UTC:20250413T170000
DTSTAMP:20260424T052020
CREATED:20250315T182059Z
LAST-MODIFIED:20250412T184858Z
UID:2528-1744555500-1744563600@cgimaryland.org
SUMMARY:First Day of Unleavened Bread
DESCRIPTION:Speaker: Elder Mark Rusinko \n\n\n\nTopic: The Feast of ULB   \n\n\n\nFirst Century Church of God & CGI Gaithersburg\n\n\n\nFuture Care – Courtland\n\n\n\n7920 Scotts Level Road\, Main Hall  \n\n\n\nPikesville\, Maryland 21208 \n\n\n\n\n\n\n\nYou can join the meeting from your computer\, tablet\, or smartphone. https://meet.goto.com/cgimaryland/sabbath_service_new You can also dial in using your phone. United States: +1 (872) 240-3412 Access Code: 300-519-741 Get the app now and be ready when the meeting starts: https://meet.goto.com/install 
URL:https://cgimaryland.org/event/first-day-of-unleavened-bread-2025/
END:VEVENT
BEGIN:VEVENT
DTSTART;TZID=UTC:20250419T143000
DTEND;TZID=UTC:20250419T170000
DTSTAMP:20260424T052020
CREATED:20250412T184259Z
LAST-MODIFIED:20250501T035311Z
UID:2574-1745073000-1745082000@cgimaryland.org
SUMMARY:Last Day of Unleavened Bread
DESCRIPTION:Speaker: Elder Michael Reis \n\n\n\nTopic: Fermentation   \n\n\n\nFirst Century Church of God & CGI Gaithersburg\n\n\n\nThe Weinberg Y in Waverly\n\n\n\n900 E. 33rd St.  \n\n\n\nBaltimore\, MD 21218 \n\n\n\n\n\n\n\nYou can join the meeting from your computer\, tablet\, or smartphone. https://meet.goto.com/cgimaryland/sabbath_service_new You can also dial in using your phone. United States: +1 (872) 240-3412 Access Code: 300-519-741 Get the app now and be ready when the meeting starts: https://meet.goto.com/install 
URL:https://cgimaryland.org/event/last-day-of-unleavened-bread-2025/
END:VEVENT
BEGIN:VEVENT
DTSTART;TZID=UTC:20250426T134500
DTEND;TZID=UTC:20250426T160000
DTSTAMP:20260424T052020
CREATED:20250315T180420Z
LAST-MODIFIED:20250315T182723Z
UID:2517-1745675100-1745683200@cgimaryland.org
SUMMARY:Online Bible Study
DESCRIPTION:Speaker: TBD \n\n\n\nTopic: TBD \n\n\n\n\n\nYou can join the meeting from your computer\, tablet\, or smartphone. https://meet.goto.com/cgimaryland/sabbath_service_new You can also dial in using your phone. United States: +1 (872) 240-3412 Access Code: 300-519-741 Get the app now and be ready when the meeting starts: https://meet.goto.com/install 
URL:https://cgimaryland.org/event/online-bible-study-04-26-25/
END:VEVENT
END:VCALENDAR