BEGIN:VCALENDAR
VERSION:2.0
PRODID:-//Church of God International, Gaithersburg, Maryland - ECPv6.15.20//NONSGML v1.0//EN
CALSCALE:GREGORIAN
METHOD:PUBLISH
X-ORIGINAL-URL:https://cgimaryland.org
X-WR-CALDESC:Events for Church of God International, Gaithersburg, Maryland
REFRESH-INTERVAL;VALUE=DURATION:PT1H
X-Robots-Tag:noindex
X-PUBLISHED-TTL:PT1H
BEGIN:VTIMEZONE
TZID:America/New_York
BEGIN:DAYLIGHT
TZOFFSETFROM:-0500
TZOFFSETTO:-0400
TZNAME:EDT
DTSTART:20240310T070000
END:DAYLIGHT
BEGIN:STANDARD
TZOFFSETFROM:-0400
TZOFFSETTO:-0500
TZNAME:EST
DTSTART:20241103T060000
END:STANDARD
BEGIN:DAYLIGHT
TZOFFSETFROM:-0500
TZOFFSETTO:-0400
TZNAME:EDT
DTSTART:20250309T070000
END:DAYLIGHT
BEGIN:STANDARD
TZOFFSETFROM:-0400
TZOFFSETTO:-0500
TZNAME:EST
DTSTART:20251102T060000
END:STANDARD
BEGIN:DAYLIGHT
TZOFFSETFROM:-0500
TZOFFSETTO:-0400
TZNAME:EDT
DTSTART:20260308T070000
END:DAYLIGHT
BEGIN:STANDARD
TZOFFSETFROM:-0400
TZOFFSETTO:-0500
TZNAME:EST
DTSTART:20261101T060000
END:STANDARD
END:VTIMEZONE
BEGIN:VTIMEZONE
TZID:UTC
BEGIN:STANDARD
TZOFFSETFROM:+0000
TZOFFSETTO:+0000
TZNAME:UTC
DTSTART:20240101T000000
END:STANDARD
END:VTIMEZONE
BEGIN:VEVENT
DTSTART;TZID=America/New_York:20250905T191500
DTEND;TZID=America/New_York:20250905T201500
DTSTAMP:20260423T203458
CREATED:20250830T042419Z
LAST-MODIFIED:20250830T044450Z
UID:2789-1757099700-1757103300@cgimaryland.org
SUMMARY:Friday Night Prayer Service
DESCRIPTION:You can join the prayer service from your computer\, tablet\, or smartphone. https://meet.goto.com/cgimaryland/sabbath_service_new You can also dial in using your phone. United States: +1 (872) 240-3412 Access Code: 300-519-741 Get the app now and be ready when the meeting starts: https://meet.goto.com/install 
URL:https://cgimaryland.org/event/friday-night-prayer-service-09-05-25/
END:VEVENT
BEGIN:VEVENT
DTSTART;TZID=UTC:20250906T134500
DTEND;TZID=UTC:20250906T160000
DTSTAMP:20260423T203458
CREATED:20250809T150521Z
LAST-MODIFIED:20250906T185245Z
UID:2758-1757166300-1757174400@cgimaryland.org
SUMMARY:Online Weekly Sabbath Service
DESCRIPTION:Speaker: Deacon Tom Bettinger \n\n\n\nTopic: The Proof is Right There! \n\n\n\n\n\nYou can join the meeting from your computer\, tablet\, or smartphone. https://meet.goto.com/cgimaryland/sabbath_service_new You can also dial in using your phone. United States: +1 (872) 240-3412 Access Code: 300-519-741 Get the app now and be ready when the meeting starts: https://meet.goto.com/install 
URL:https://cgimaryland.org/event/weekly-sabbath-service-09-06-25/
END:VEVENT
BEGIN:VEVENT
DTSTART;TZID=America/New_York:20250912T191500
DTEND;TZID=America/New_York:20250912T201500
DTSTAMP:20260423T203458
CREATED:20250830T045628Z
LAST-MODIFIED:20250830T045737Z
UID:2798-1757704500-1757708100@cgimaryland.org
SUMMARY:Friday Night Prayer Service
DESCRIPTION:You can join the prayer service from your computer\, tablet\, or smartphone. https://meet.goto.com/cgimaryland/sabbath_service_new You can also dial in using your phone. United States: +1 (872) 240-3412 Access Code: 300-519-741 Get the app now and be ready when the meeting starts: https://meet.goto.com/install 
URL:https://cgimaryland.org/event/friday-night-prayer-service-09-12-25-copy/
END:VEVENT
BEGIN:VEVENT
DTSTART;TZID=UTC:20250913T134500
DTEND;TZID=UTC:20250913T160000
DTSTAMP:20260423T203458
CREATED:20250809T150529Z
LAST-MODIFIED:20250809T150848Z
UID:2759-1757771100-1757779200@cgimaryland.org
SUMMARY:Weekly Sabbath Service
DESCRIPTION:Speaker: TBD \n\n\n\nTopic: TBD \n\n\n\n\n\nYou can join the meeting from your computer\, tablet\, or smartphone. https://meet.goto.com/cgimaryland/sabbath_service_new You can also dial in using your phone. United States: +1 (872) 240-3412 Access Code: 300-519-741 Get the app now and be ready when the meeting starts: https://meet.goto.com/install  \n\n\n\n \n\n\n\n\n810 S. Frederick Ave\, 2nd Floor: Aspen RoomGaithersburg\, Maryland 20877United States+ Google Map
URL:https://cgimaryland.org/event/weekly-sabbath-service-09-13-25/
END:VEVENT
BEGIN:VEVENT
DTSTART;TZID=America/New_York:20250919T191500
DTEND;TZID=America/New_York:20250919T201500
DTSTAMP:20260423T203458
CREATED:20250830T045646Z
LAST-MODIFIED:20250830T045836Z
UID:2800-1758309300-1758312900@cgimaryland.org
SUMMARY:Friday Night Prayer Service
DESCRIPTION:You can join the prayer service from your computer\, tablet\, or smartphone. https://meet.goto.com/cgimaryland/sabbath_service_new You can also dial in using your phone. United States: +1 (872) 240-3412 Access Code: 300-519-741 Get the app now and be ready when the meeting starts: https://meet.goto.com/install 
URL:https://cgimaryland.org/event/friday-night-prayer-service-09-19-25/
END:VEVENT
BEGIN:VEVENT
DTSTART;TZID=UTC:20250920T134500
DTEND;TZID=UTC:20250920T160000
DTSTAMP:20260423T203458
CREATED:20250809T151022Z
LAST-MODIFIED:20250920T151813Z
UID:2764-1758375900-1758384000@cgimaryland.org
SUMMARY:Weekly Sabbath Service
DESCRIPTION:Speaker: Deacon Tom Bettinger \n\n\n\nTopic: The Real Mary \n\n\n\n\n\nYou can join the meeting from your computer\, tablet\, or smartphone. https://meet.goto.com/cgimaryland/sabbath_service_new You can also dial in using your phone. United States: +1 (872) 240-3412 Access Code: 300-519-741 Get the app now and be ready when the meeting starts: https://meet.goto.com/install  \n\n\n\n \n\n\n\n\n810 S. Frederick Ave\, 2nd Floor: Aspen RoomGaithersburg\, Maryland 20877United States+ Google Map
URL:https://cgimaryland.org/event/weekly-sabbath-service-09-20-25/
END:VEVENT
BEGIN:VEVENT
DTSTART;TZID=UTC:20250923T140000
DTEND;TZID=UTC:20250923T163000
DTSTAMP:20260423T203458
CREATED:20250830T051448Z
LAST-MODIFIED:20250920T152657Z
UID:2809-1758636000-1758645000@cgimaryland.org
SUMMARY:Feast of Trumpets - 2025
DESCRIPTION:Speaker: Elder Michael Reis \n\n\n\nTopic: The Time of Jacob’s Trouble \n\n\n\nYou can join the meeting from your computer\, tablet\, or smartphone. https://meet.goto.com/cgimaryland/sabbath_service_new You can also dial in using your phone. United States: +1 (872) 240-3412 Access Code: 300-519-741 Get the app now and be ready when the meeting starts: https://meet.goto.com/install  \n\n\n\n810 S. Frederick Ave\, 1st Floor – Gaither RoomGaithersburg\, Maryland 20877United States+ Google Map
URL:https://cgimaryland.org/event/feast-of-trumpets-2025/
END:VEVENT
BEGIN:VEVENT
DTSTART;TZID=America/New_York:20250926T191500
DTEND;TZID=America/New_York:20250926T201500
DTSTAMP:20260423T203458
CREATED:20250830T045636Z
LAST-MODIFIED:20250830T045947Z
UID:2799-1758914100-1758917700@cgimaryland.org
SUMMARY:Friday Night Prayer Service
DESCRIPTION:You can join the prayer service from your computer\, tablet\, or smartphone. https://meet.goto.com/cgimaryland/sabbath_service_new You can also dial in using your phone. United States: +1 (872) 240-3412 Access Code: 300-519-741 Get the app now and be ready when the meeting starts: https://meet.goto.com/install 
URL:https://cgimaryland.org/event/friday-night-prayer-service-09-26-25/
END:VEVENT
BEGIN:VEVENT
DTSTART;TZID=UTC:20250927T134500
DTEND;TZID=UTC:20250927T160000
DTSTAMP:20260423T203458
CREATED:20250809T150535Z
LAST-MODIFIED:20250809T151011Z
UID:2760-1758980700-1758988800@cgimaryland.org
SUMMARY:Online Bible Study
DESCRIPTION:Speaker: TBD \n\n\n\nTopic: TBD \n\n\n\n\n\nYou can join the meeting from your computer\, tablet\, or smartphone. https://meet.goto.com/cgimaryland/sabbath_service_new You can also dial in using your phone. United States: +1 (872) 240-3412 Access Code: 300-519-741 Get the app now and be ready when the meeting starts: https://meet.goto.com/install 
URL:https://cgimaryland.org/event/online-bible-study-09-27-25/
END:VEVENT
END:VCALENDAR