BEGIN:VCALENDAR
VERSION:2.0
PRODID:-//Church of God International, Gaithersburg, Maryland - ECPv6.15.20//NONSGML v1.0//EN
CALSCALE:GREGORIAN
METHOD:PUBLISH
X-WR-CALNAME:Church of God International, Gaithersburg, Maryland
X-ORIGINAL-URL:https://cgimaryland.org
X-WR-CALDESC:Events for Church of God International, Gaithersburg, Maryland
REFRESH-INTERVAL;VALUE=DURATION:PT1H
X-Robots-Tag:noindex
X-PUBLISHED-TTL:PT1H
BEGIN:VTIMEZONE
TZID:UTC
BEGIN:STANDARD
TZOFFSETFROM:+0000
TZOFFSETTO:+0000
TZNAME:UTC
DTSTART:20240101T000000
END:STANDARD
END:VTIMEZONE
BEGIN:VTIMEZONE
TZID:America/New_York
BEGIN:DAYLIGHT
TZOFFSETFROM:-0500
TZOFFSETTO:-0400
TZNAME:EDT
DTSTART:20240310T070000
END:DAYLIGHT
BEGIN:STANDARD
TZOFFSETFROM:-0400
TZOFFSETTO:-0500
TZNAME:EST
DTSTART:20241103T060000
END:STANDARD
BEGIN:DAYLIGHT
TZOFFSETFROM:-0500
TZOFFSETTO:-0400
TZNAME:EDT
DTSTART:20250309T070000
END:DAYLIGHT
BEGIN:STANDARD
TZOFFSETFROM:-0400
TZOFFSETTO:-0500
TZNAME:EST
DTSTART:20251102T060000
END:STANDARD
BEGIN:DAYLIGHT
TZOFFSETFROM:-0500
TZOFFSETTO:-0400
TZNAME:EDT
DTSTART:20260308T070000
END:DAYLIGHT
BEGIN:STANDARD
TZOFFSETFROM:-0400
TZOFFSETTO:-0500
TZNAME:EST
DTSTART:20261101T060000
END:STANDARD
END:VTIMEZONE
BEGIN:VEVENT
DTSTART;TZID=UTC:20251002T134500
DTEND;TZID=UTC:20251002T160000
DTSTAMP:20260423T190423
CREATED:20250830T052048Z
LAST-MODIFIED:20251004T055638Z
UID:2811-1759412700-1759420800@cgimaryland.org
SUMMARY:Day of Atonement - 2025
DESCRIPTION:Speaker: Deacon Tom Bettinger \n\n\n\nTopic: At-One-Ment \n\n\n\n810 S. Frederick Ave\, 2nd Floor: Aspen RoomGaithersburg\, Maryland 20877United States+ Google Map \n\n\n\nYou can join the meeting from your computer\, tablet\, or smartphone. https://meet.goto.com/cgimaryland/sabbath_service_new You can also dial in using your phone. United States: +1 (872) 240-3412 Access Code: 300-519-741 Get the app now and be ready when the meeting starts: https://meet.goto.com/install 
URL:https://cgimaryland.org/event/day-of-atonement-2025/
END:VEVENT
BEGIN:VEVENT
DTSTART;TZID=America/New_York:20251003T191500
DTEND;TZID=America/New_York:20251003T201500
DTSTAMP:20260423T190423
CREATED:20250830T061641Z
LAST-MODIFIED:20251004T055114Z
UID:2832-1759518900-1759522500@cgimaryland.org
SUMMARY:Canceled - Friday Night Prayer Service
DESCRIPTION:You can join the prayer service from your computer\, tablet\, or smartphone. https://meet.goto.com/cgimaryland/sabbath_service_new You can also dial in using your phone. United States: +1 (872) 240-3412 Access Code: 300-519-741 Get the app now and be ready when the meeting starts: https://meet.goto.com/install 
URL:https://cgimaryland.org/event/friday-night-prayer-service-10-03-25/
END:VEVENT
BEGIN:VEVENT
DTSTART;TZID=UTC:20251004T134500
DTEND;TZID=UTC:20251004T160000
DTSTAMP:20260423T190423
CREATED:20250830T060644Z
LAST-MODIFIED:20251004T055343Z
UID:2828-1759585500-1759593600@cgimaryland.org
SUMMARY:Online Sabbath Service
DESCRIPTION:Speaker: Video \n\n\n\nTopic: TBD \n\n\n\n\n\nYou can join the meeting from your computer\, tablet\, or smartphone. https://meet.goto.com/cgimaryland/sabbath_service_new You can also dial in using your phone. United States: +1 (872) 240-3412 Access Code: 300-519-741 Get the app now and be ready when the meeting starts: https://meet.goto.com/install 
URL:https://cgimaryland.org/event/online-sabbath-service-10-04-25/
END:VEVENT
BEGIN:VEVENT
DTSTART;TZID=UTC:20251007T110000
DTEND;TZID=UTC:20251014T183000
DTSTAMP:20260423T190423
CREATED:20250830T052416Z
LAST-MODIFIED:20250830T054715Z
UID:2813-1759834800-1760466600@cgimaryland.org
SUMMARY:Feast of Tabernacles & Last Great Day - 2025
DESCRIPTION:The Feast of Tabernacles begins at sunset on October 6th. The first service on the east coast typically begins at 11a on October 7th. \n\n\n\n\n\nFor CGI Feast Site locations\, click here.   \n\n\n\nFor CGI Virtual Feast Site information\, click here.
URL:https://cgimaryland.org/event/feast-of-tabernacles-and-last-great-day-2025/
END:VEVENT
BEGIN:VEVENT
DTSTART;TZID=UTC:20251018T134500
DTEND;TZID=UTC:20251018T160000
DTSTAMP:20260423T190423
CREATED:20250830T060654Z
LAST-MODIFIED:20250830T061223Z
UID:2829-1760795100-1760803200@cgimaryland.org
SUMMARY:Weekly Sabbath Service
DESCRIPTION:Speaker: TBD \n\n\n\nTopic: TBD \n\n\n\n\n\nYou can join the meeting from your computer\, tablet\, or smartphone. https://meet.goto.com/cgimaryland/sabbath_service_new You can also dial in using your phone. United States: +1 (872) 240-3412 Access Code: 300-519-741 Get the app now and be ready when the meeting starts: https://meet.goto.com/install  \n\n\n\n \n\n\n\n\n810 S. Frederick Ave\, 2nd Floor: Aspen RoomGaithersburg\, Maryland 20877United States+ Google Map
URL:https://cgimaryland.org/event/weekly-sabbath-service-10-18-25/
END:VEVENT
BEGIN:VEVENT
DTSTART;TZID=UTC:20251025T134500
DTEND;TZID=UTC:20251025T160000
DTSTAMP:20260423T190423
CREATED:20250830T035747Z
LAST-MODIFIED:20250830T045241Z
UID:2781-1761399900-1761408000@cgimaryland.org
SUMMARY:Online Bible Study
DESCRIPTION:Speaker: TBD \n\n\n\nTopic: TBD \n\n\n\n\n\nYou can join the meeting from your computer\, tablet\, or smartphone. https://meet.goto.com/cgimaryland/sabbath_service_new You can also dial in using your phone. United States: +1 (872) 240-3412 Access Code: 300-519-741 Get the app now and be ready when the meeting starts: https://meet.goto.com/install 
URL:https://cgimaryland.org/event/online-bible-study-10-25-25/
END:VEVENT
END:VCALENDAR