BEGIN:VCALENDAR
VERSION:2.0
PRODID:-//Church of God International, Gaithersburg, Maryland - ECPv6.15.20//NONSGML v1.0//EN
CALSCALE:GREGORIAN
METHOD:PUBLISH
X-WR-CALNAME:Church of God International, Gaithersburg, Maryland
X-ORIGINAL-URL:https://cgimaryland.org
X-WR-CALDESC:Events for Church of God International, Gaithersburg, Maryland
REFRESH-INTERVAL;VALUE=DURATION:PT1H
X-Robots-Tag:noindex
X-PUBLISHED-TTL:PT1H
BEGIN:VTIMEZONE
TZID:UTC
BEGIN:STANDARD
TZOFFSETFROM:+0000
TZOFFSETTO:+0000
TZNAME:UTC
DTSTART:20240101T000000
END:STANDARD
END:VTIMEZONE
BEGIN:VEVENT
DTSTART;TZID=UTC:20251206T134500
DTEND;TZID=UTC:20251206T160000
DTSTAMP:20260423T155644
CREATED:20251108T184356Z
LAST-MODIFIED:20251108T185254Z
UID:2916-1765028700-1765036800@cgimaryland.org
SUMMARY:Weekly Sabbath Service
DESCRIPTION:Speaker: TBD \n\n\n\nTopic: TBD \n\n\n\n\n\nYou can join the meeting from your computer\, tablet\, or smartphone. https://meet.goto.com/cgimaryland/sabbath_service_new You can also dial in using your phone. United States: +1 (872) 240-3412 Access Code: 300-519-741 Get the app now and be ready when the meeting starts: https://meet.goto.com/install  \n\n\n\n \n\n\n\n\n810 S. Frederick Ave\, 2nd Floor: Aspen RoomGaithersburg\, Maryland 20877United States+ Google Map
URL:https://cgimaryland.org/event/weekly-sabbath-service-12-06-25/
END:VEVENT
BEGIN:VEVENT
DTSTART;TZID=UTC:20251213T134500
DTEND;TZID=UTC:20251213T160000
DTSTAMP:20260423T155644
CREATED:20251108T185330Z
LAST-MODIFIED:20251213T191801Z
UID:2922-1765633500-1765641600@cgimaryland.org
SUMMARY:Weekly Sabbath Service
DESCRIPTION:Speaker: Timothy Maggenti \n\n\n\nTopic: Disposition of The Fallen Angels \n\n\n\n\n\nYou can join the meeting from your computer\, tablet\, or smartphone. https://meet.goto.com/cgimaryland/sabbath_service_new You can also dial in using your phone. United States: +1 (872) 240-3412 Access Code: 300-519-741 Get the app now and be ready when the meeting starts: https://meet.goto.com/install  \n\n\n\n \n\n\n\n\n810 S. Frederick Ave\, 2nd Floor: Aspen RoomGaithersburg\, Maryland 20877United States+ Google Map
URL:https://cgimaryland.org/event/weekly-sabbath-service-12-13-25/
END:VEVENT
BEGIN:VEVENT
DTSTART;TZID=UTC:20251220T134500
DTEND;TZID=UTC:20251220T160000
DTSTAMP:20260423T155644
CREATED:20251108T185422Z
LAST-MODIFIED:20251108T185459Z
UID:2924-1766238300-1766246400@cgimaryland.org
SUMMARY:Weekly Sabbath Service
DESCRIPTION:Speaker: TBD \n\n\n\nTopic: TBD \n\n\n\n\n\nYou can join the meeting from your computer\, tablet\, or smartphone. https://meet.goto.com/cgimaryland/sabbath_service_new You can also dial in using your phone. United States: +1 (872) 240-3412 Access Code: 300-519-741 Get the app now and be ready when the meeting starts: https://meet.goto.com/install  \n\n\n\n \n\n\n\n\n810 S. Frederick Ave\, 2nd Floor: Aspen RoomGaithersburg\, Maryland 20877United States+ Google Map
URL:https://cgimaryland.org/event/weekly-sabbath-service-12-20-25/
END:VEVENT
BEGIN:VEVENT
DTSTART;TZID=UTC:20251227T134500
DTEND;TZID=UTC:20251227T160000
DTSTAMP:20260423T155644
CREATED:20250830T035851Z
LAST-MODIFIED:20250830T045558Z
UID:2783-1766843100-1766851200@cgimaryland.org
SUMMARY:Online Bible Study
DESCRIPTION:Speaker: TBD \n\n\n\nTopic: TBD \n\n\n\n\n\nYou can join the meeting from your computer\, tablet\, or smartphone. https://meet.goto.com/cgimaryland/sabbath_service_new You can also dial in using your phone. United States: +1 (872) 240-3412 Access Code: 300-519-741 Get the app now and be ready when the meeting starts: https://meet.goto.com/install 
URL:https://cgimaryland.org/event/online-bible-study-12-27-25/
END:VEVENT
END:VCALENDAR